BEGIN:VCALENDAR
VERSION:2.0
PRODID:-//Sabre//Sabre VObject 4.5.8//EN
CALSCALE:GREGORIAN
NAME:Bistum Augsburg
X-WR-CALNAME:Bistum Augsburg
BEGIN:VEVENT
UID:sabre-vobject-1a48b61c-a6e8-4a96-bed0-da1bd76b12c3
DTSTAMP:20260421T233405Z
SUMMARY:Rosenkranzgebet
DESCRIPTION:https://pfarreien-bistum-augsburg.df-preview.de/rosenkranzgebet
 _id1743413
DTSTART;TZID=Europe/Berlin:20260422T183000
DURATION:PT30M
LOCATION:St. Ulrich und Katharina
END:VEVENT
BEGIN:VEVENT
UID:sabre-vobject-fbbb72b1-57fd-46a3-8a45-1543a6dd74a0
DTSTAMP:20260421T233405Z
SUMMARY:Hl. Messe
DESCRIPTION:https://pfarreien-bistum-augsburg.df-preview.de/hl-messe_id1743
 414
DTSTART;TZID=Europe/Berlin:20260422T190000
DURATION:PT30M
LOCATION:St. Ulrich und Katharina
END:VEVENT
BEGIN:VEVENT
UID:sabre-vobject-670067cd-5312-43ec-b49d-66a453f707d9
DTSTAMP:20260421T233405Z
SUMMARY:Hl. Messe
DESCRIPTION:https://pfarreien-bistum-augsburg.df-preview.de/hl-messe_id1743
 287
DTSTART;TZID=Europe/Berlin:20260425T173000
DURATION:PT30M
LOCATION:St. Ulrich und Katharina
END:VEVENT
BEGIN:VEVENT
UID:sabre-vobject-d1dadc41-d150-4a78-93ea-c570a8f64c64
DTSTAMP:20260421T233405Z
SUMMARY:ALTE PFARRKIRCHE - Rosenkranzgebet
DESCRIPTION:https://pfarreien-bistum-augsburg.df-preview.de/alte-pfarrkirch
 e-rosenkranzgebet_id1743288
DTSTART;TZID=Europe/Berlin:20260429T183000
DURATION:PT30M
LOCATION:St. Ulrich und Katharina
END:VEVENT
BEGIN:VEVENT
UID:sabre-vobject-9a57421f-1f66-4a22-b6b0-9db1ec98fb9a
DTSTAMP:20260421T233406Z
SUMMARY:ALTE PFARRKIRCHE - Hl. Messe
DESCRIPTION:https://pfarreien-bistum-augsburg.df-preview.de/alte-pfarrkirch
 e-hl-messe_id1743291
DTSTART;TZID=Europe/Berlin:20260429T190000
DURATION:PT30M
LOCATION:St. Ulrich und Katharina
END:VEVENT
BEGIN:VEVENT
UID:sabre-vobject-549a1aa6-4820-46a6-88c1-f1b190a18383
DTSTAMP:20260421T233406Z
SUMMARY:Hl. Messe
DESCRIPTION:https://pfarreien-bistum-augsburg.df-preview.de/hl-messe_id1743
 292
DTSTART;TZID=Europe/Berlin:20260503T090000
DURATION:PT30M
LOCATION:St. Ulrich und Katharina
END:VEVENT
BEGIN:VEVENT
UID:sabre-vobject-1ab6312b-3c58-440f-a2d7-c908a4d3f849
DTSTAMP:20260421T233406Z
SUMMARY:Rosenkranzgebet
DESCRIPTION:https://pfarreien-bistum-augsburg.df-preview.de/rosenkranzgebet
 _id1743293
DTSTART;TZID=Europe/Berlin:20260506T183000
DURATION:PT30M
LOCATION:St. Ulrich und Katharina
END:VEVENT
BEGIN:VEVENT
UID:sabre-vobject-36ffda75-9091-4518-8744-9fe239d4f79e
DTSTAMP:20260421T233406Z
SUMMARY:Hl. Messe
DESCRIPTION:https://pfarreien-bistum-augsburg.df-preview.de/hl-messe_id1743
 294
DTSTART;TZID=Europe/Berlin:20260506T190000
DURATION:PT30M
LOCATION:St. Ulrich und Katharina
END:VEVENT
BEGIN:VEVENT
UID:sabre-vobject-ebb577df-d48c-40a0-955a-9288163c44b8
DTSTAMP:20260421T233406Z
SUMMARY:Maiandacht der Senioren mit dem "Kleinen Chor"
DESCRIPTION:https://pfarreien-bistum-augsburg.df-preview.de/maiandacht-der-
 senioren-mit-dem-kleinen-chor_id1743295
DTSTART;TZID=Europe/Berlin:20260508T140000
DURATION:PT30M
LOCATION:St. Ulrich und Katharina
END:VEVENT
END:VCALENDAR
