BEGIN:VCALENDAR
VERSION:2.0
PRODID:-//Sabre//Sabre VObject 4.5.8//EN
CALSCALE:GREGORIAN
NAME:Bistum Augsburg
X-WR-CALNAME:Bistum Augsburg
BEGIN:VEVENT
UID:sabre-vobject-ac45b904-82f9-42e6-b075-d48df48382fe
DTSTAMP:20260423T133952Z
SUMMARY:Heilige Messe
DESCRIPTION:https://pfarreien-bistum-augsburg.df-preview.de/heilige-messe_i
 d1753782
DTSTART;TZID=Europe/Berlin:20260424T191500
DURATION:PT30M
LOCATION:St. Michael\, An d. Halde 21\, 87679 Westendorf
END:VEVENT
BEGIN:VEVENT
UID:sabre-vobject-b391c155-aef3-4c06-a8ab-6a113bf58a36
DTSTAMP:20260423T133952Z
SUMMARY:Heilige Messe
DESCRIPTION:https://pfarreien-bistum-augsburg.df-preview.de/heilige-messe_i
 d1753783
DTSTART;TZID=Europe/Berlin:20260425T191500
DURATION:PT30M
LOCATION:St. Michael\, An d. Halde 21\, 87679 Westendorf
END:VEVENT
BEGIN:VEVENT
UID:sabre-vobject-6e999eb8-127b-43f1-bf86-43c742c2bd3a
DTSTAMP:20260423T133952Z
SUMMARY:Rosenkranz
DESCRIPTION:https://pfarreien-bistum-augsburg.df-preview.de/rosenkranz_id17
 53784
DTSTART;TZID=Europe/Berlin:20260426T090000
DURATION:PT30M
LOCATION:St. Michael\, An d. Halde 21\, 87679 Westendorf
END:VEVENT
BEGIN:VEVENT
UID:sabre-vobject-1ba0ca5d-b497-484f-9ef1-c8d54950a328
DTSTAMP:20260423T133952Z
SUMMARY:Rosenkranz
DESCRIPTION:https://pfarreien-bistum-augsburg.df-preview.de/rosenkranz_id17
 53785
DTSTART;TZID=Europe/Berlin:20260501T090000
DURATION:PT30M
LOCATION:St. Michael\, An d. Halde 21\, 87679 Westendorf
END:VEVENT
BEGIN:VEVENT
UID:sabre-vobject-99e717ee-1094-4aff-8da9-6f82667546e5
DTSTAMP:20260423T133952Z
SUMMARY:Treffen der Erstkommunionkinder am Gemeindeamt\; Kirchzug
DESCRIPTION:https://pfarreien-bistum-augsburg.df-preview.de/treffen-der-ers
 tkommunionkinder-am-gemeindeamt-kirchzug_id1753786
DTSTART;TZID=Europe/Berlin:20260502T094000
DURATION:PT30M
LOCATION:St. Michael\, An d. Halde 21\, 87679 Westendorf
END:VEVENT
BEGIN:VEVENT
UID:sabre-vobject-19912788-e0b4-400b-9ef5-e4e48e9399e5
DTSTAMP:20260423T133952Z
SUMMARY:Feier der Heiligen Erstkommunion
DESCRIPTION:https://pfarreien-bistum-augsburg.df-preview.de/feier-der-heili
 gen-erstkommunion_id1753787
DTSTART;TZID=Europe/Berlin:20260502T100000
DURATION:PT30M
LOCATION:St. Michael\, An d. Halde 21\, 87679 Westendorf
END:VEVENT
BEGIN:VEVENT
UID:sabre-vobject-7303c1c9-b54a-4207-8f9f-0caed41211b3
DTSTAMP:20260423T133952Z
SUMMARY:Rosenkranz
DESCRIPTION:https://pfarreien-bistum-augsburg.df-preview.de/rosenkranz_id17
 53788
DTSTART;TZID=Europe/Berlin:20260503T074500
DURATION:PT30M
LOCATION:St. Michael\, An d. Halde 21\, 87679 Westendorf
END:VEVENT
BEGIN:VEVENT
UID:sabre-vobject-3fdfd1ff-ff16-4a11-9651-17b3e8d3c408
DTSTAMP:20260423T133952Z
SUMMARY:Heilige Messe
DESCRIPTION:https://pfarreien-bistum-augsburg.df-preview.de/heilige-messe_i
 d1753789
DTSTART;TZID=Europe/Berlin:20260503T081500
DURATION:PT30M
LOCATION:St. Michael\, An d. Halde 21\, 87679 Westendorf
END:VEVENT
BEGIN:VEVENT
UID:sabre-vobject-f9c1c40d-616e-4bd1-acea-4197d972eb57
DTSTAMP:20260423T133952Z
SUMMARY:k e i n e  Messe
DESCRIPTION:https://pfarreien-bistum-augsburg.df-preview.de/k-e-i-n-e-messe
 _id1755572
DTSTART;TZID=Europe/Berlin:20260508T191500
DURATION:PT30M
LOCATION:St. Michael\, An d. Halde 21\, 87679 Westendorf
END:VEVENT
BEGIN:VEVENT
UID:sabre-vobject-3935115a-d600-434b-ab3e-888dc84e3cfc
DTSTAMP:20260423T133952Z
SUMMARY:Rosenkranz
DESCRIPTION:https://pfarreien-bistum-augsburg.df-preview.de/rosenkranz_id17
 55573
DTSTART;TZID=Europe/Berlin:20260510T101500
DURATION:PT30M
LOCATION:St. Michael\, An d. Halde 21\, 87679 Westendorf
END:VEVENT
BEGIN:VEVENT
UID:sabre-vobject-d8bfb4d6-cf26-4e38-91fd-334c422b5100
DTSTAMP:20260423T133952Z
SUMMARY:Heilige Messe mit Miniaufnahme
DESCRIPTION:https://pfarreien-bistum-augsburg.df-preview.de/heilige-messe-m
 it-miniaufnahme_id1755574
DTSTART;TZID=Europe/Berlin:20260510T104500
DURATION:PT30M
LOCATION:St. Michael\, An d. Halde 21\, 87679 Westendorf
END:VEVENT
BEGIN:VEVENT
UID:sabre-vobject-b80ee81e-5f08-4064-b5d4-9cc6f2bd58c3
DTSTAMP:20260423T133952Z
SUMMARY:Maiandacht mit eucharistischem Segen
DESCRIPTION:https://pfarreien-bistum-augsburg.df-preview.de/maiandacht-mit-
 eucharistischem-segen_id1755565
DTSTART;TZID=Europe/Berlin:20260510T191500
DURATION:PT30M
LOCATION:St. Michael\, An d. Halde 21\, 87679 Westendorf
END:VEVENT
BEGIN:VEVENT
UID:sabre-vobject-345c75d2-f62d-464b-bea2-b12447af186c
DTSTAMP:20260423T133952Z
SUMMARY:Bittgang von Westendorf nach Dösingen mit Hl. Messe in St. Peter u
 nd Paul
DESCRIPTION:https://pfarreien-bistum-augsburg.df-preview.de/bittgang-von-we
 stendorf-nach-doesingen-mit-hl-messe-in-st-peter-und-paul_id1755566
DTSTART;TZID=Europe/Berlin:20260511T184500
DURATION:PT30M
LOCATION:St. Michael\, An d. Halde 21\, 87679 Westendorf
END:VEVENT
BEGIN:VEVENT
UID:sabre-vobject-1454adb5-6773-4c67-8801-207b090497cc
DTSTAMP:20260423T133952Z
SUMMARY:Heilige Messe\, anschl. Flurumgang
DESCRIPTION:https://pfarreien-bistum-augsburg.df-preview.de/heilige-messe-a
 nschl-flurumgang_id1755567
DTSTART;TZID=Europe/Berlin:20260513T191500
DURATION:PT30M
LOCATION:St. Michael\, An d. Halde 21\, 87679 Westendorf
END:VEVENT
BEGIN:VEVENT
UID:sabre-vobject-53e248a0-937b-4236-a79d-b50327007e46
DTSTAMP:20260423T133952Z
SUMMARY:Fatima-Rosenkranz
DESCRIPTION:https://pfarreien-bistum-augsburg.df-preview.de/fatima-rosenkra
 nz_id1755568
DTSTART;TZID=Europe/Berlin:20260514T090000
DURATION:PT30M
LOCATION:St. Michael\, An d. Halde 21\, 87679 Westendorf
END:VEVENT
BEGIN:VEVENT
UID:sabre-vobject-535d139c-28d9-4286-8320-a0cf8e01f4b5
DTSTAMP:20260423T133952Z
SUMMARY:k e i n e  Messe
DESCRIPTION:https://pfarreien-bistum-augsburg.df-preview.de/k-e-i-n-e-messe
 _id1755569
DTSTART;TZID=Europe/Berlin:20260515T191500
DURATION:PT30M
LOCATION:St. Michael\, An d. Halde 21\, 87679 Westendorf
END:VEVENT
BEGIN:VEVENT
UID:sabre-vobject-2ecf2cbd-bad2-403e-8bb0-be2e1966b551
DTSTAMP:20260423T133952Z
SUMMARY:Rosenkranz
DESCRIPTION:https://pfarreien-bistum-augsburg.df-preview.de/rosenkranz_id17
 55570
DTSTART;TZID=Europe/Berlin:20260517T074500
DURATION:PT30M
LOCATION:St. Michael\, An d. Halde 21\, 87679 Westendorf
END:VEVENT
BEGIN:VEVENT
UID:sabre-vobject-dda0155f-3f42-4096-a14d-e24dec40e00f
DTSTAMP:20260423T133952Z
SUMMARY:Heilige Messe
DESCRIPTION:https://pfarreien-bistum-augsburg.df-preview.de/heilige-messe_i
 d1755571
DTSTART;TZID=Europe/Berlin:20260517T081500
DURATION:PT30M
LOCATION:St. Michael\, An d. Halde 21\, 87679 Westendorf
END:VEVENT
END:VCALENDAR
