BEGIN:VCALENDAR
VERSION:2.0
PRODID:-//Sabre//Sabre VObject 4.5.8//EN
CALSCALE:GREGORIAN
NAME:Bistum Augsburg
X-WR-CALNAME:Bistum Augsburg
BEGIN:VEVENT
UID:sabre-vobject-3519bf27-7f44-416a-af94-cf86404cf88f
DTSTAMP:20260420T103933Z
SUMMARY:Heilige Messe
DESCRIPTION:https://pfarreien-bistum-augsburg.df-preview.de/heilige-messe_i
 d1719467
DTSTART;TZID=Europe/Berlin:20260420T183000
DURATION:PT30M
LOCATION:St. Martin\, Herzog-Georg-Straße 48\, 89415 Lauingen
END:VEVENT
BEGIN:VEVENT
UID:sabre-vobject-1b906b0f-1df8-4706-ab09-c09d3248cb78
DTSTAMP:20260420T103933Z
SUMMARY:Rosenkranz
DESCRIPTION:https://pfarreien-bistum-augsburg.df-preview.de/rosenkranz_id17
 19468
DTSTART;TZID=Europe/Berlin:20260421T091500
DURATION:PT30M
LOCATION:St. Martin\, Herzog-Georg-Straße 48\, 89415 Lauingen
END:VEVENT
BEGIN:VEVENT
UID:sabre-vobject-79d85d13-22d6-4c15-9a51-b5a6d36130d3
DTSTAMP:20260420T103933Z
SUMMARY:Heilige Messe
DESCRIPTION:https://pfarreien-bistum-augsburg.df-preview.de/heilige-messe_i
 d1719469
DTSTART;TZID=Europe/Berlin:20260422T100000
DURATION:PT30M
LOCATION:St. Martin\, Herzog-Georg-Straße 48\, 89415 Lauingen
END:VEVENT
BEGIN:VEVENT
UID:sabre-vobject-eda687a9-0019-4d88-8b24-be0205c67001
DTSTAMP:20260420T103933Z
SUMMARY:Rosenkranz
DESCRIPTION:https://pfarreien-bistum-augsburg.df-preview.de/rosenkranz_id17
 19470
DTSTART;TZID=Europe/Berlin:20260423T091500
DURATION:PT30M
LOCATION:St. Martin\, Herzog-Georg-Straße 48\, 89415 Lauingen
END:VEVENT
BEGIN:VEVENT
UID:sabre-vobject-7d84d1ca-961c-4880-9a97-7016b03a4d03
DTSTAMP:20260420T103933Z
SUMMARY:Rosenkranz
DESCRIPTION:https://pfarreien-bistum-augsburg.df-preview.de/rosenkranz_id17
 19472
DTSTART;TZID=Europe/Berlin:20260424T173000
DURATION:PT30M
LOCATION:St. Martin\, Herzog-Georg-Straße 48\, 89415 Lauingen
END:VEVENT
BEGIN:VEVENT
UID:sabre-vobject-1a9596a6-4a12-4646-be43-5184ef961b3a
DTSTAMP:20260420T103933Z
SUMMARY:Beichtgelegenheit
DESCRIPTION:https://pfarreien-bistum-augsburg.df-preview.de/beichtgelegenhe
 it_id1719473
DTSTART;TZID=Europe/Berlin:20260425T183000
DURATION:PT30M
LOCATION:St. Martin\, Herzog-Georg-Straße 48\, 89415 Lauingen
END:VEVENT
BEGIN:VEVENT
UID:sabre-vobject-949a4f1c-e130-4ae7-9371-dc660096be41
DTSTAMP:20260420T103933Z
SUMMARY:Vorabendmesse
DESCRIPTION:https://pfarreien-bistum-augsburg.df-preview.de/vorabendmesse_i
 d1719471
DTSTART;TZID=Europe/Berlin:20260425T190000
DURATION:PT30M
LOCATION:St. Martin\, Herzog-Georg-Straße 48\, 89415 Lauingen
END:VEVENT
BEGIN:VEVENT
UID:sabre-vobject-4346cb79-f649-40a7-b09b-477b43679f73
DTSTAMP:20260420T103933Z
SUMMARY:Heilige Messe für Gerhard Polzer
DESCRIPTION:https://pfarreien-bistum-augsburg.df-preview.de/heilige-messe-f
 uer-gerhard-polzer_id1719442
DTSTART;TZID=Europe/Berlin:20260426T090000
DURATION:PT30M
LOCATION:St. Martin\, Herzog-Georg-Straße 48\, 89415 Lauingen
END:VEVENT
BEGIN:VEVENT
UID:sabre-vobject-dcf531c1-c373-444a-8680-9a11e6ef867c
DTSTAMP:20260420T103933Z
SUMMARY:Feier der Erstkommunion (Gruppe II). Für die Leb. u. Verst. der Pf
 arrei\, für die verst. Angeh. der Kommunionkinder
DESCRIPTION:https://pfarreien-bistum-augsburg.df-preview.de/feier-der-erstk
 ommunion-gruppe-ii-fuer-die-leb-u-verst-der-pfarrei-fuer-die-verst-angeh-d
 er-kommunionkinder_id1719498
DTSTART;TZID=Europe/Berlin:20260426T100000
DURATION:PT30M
LOCATION:St. Martin\, Herzog-Georg-Straße 48\, 89415 Lauingen
END:VEVENT
BEGIN:VEVENT
UID:sabre-vobject-784d7119-7683-482d-bb15-039be0320cae
DTSTAMP:20260420T103933Z
SUMMARY:Rosenkranz
DESCRIPTION:https://pfarreien-bistum-augsburg.df-preview.de/rosenkranz_id17
 19499
DTSTART;TZID=Europe/Berlin:20260428T091500
DURATION:PT30M
LOCATION:St. Martin\, Herzog-Georg-Straße 48\, 89415 Lauingen
END:VEVENT
BEGIN:VEVENT
UID:sabre-vobject-d0c46087-af24-4ea5-bc5b-cdf597bce1d2
DTSTAMP:20260420T103933Z
SUMMARY:Wort-Gottes-Feier
DESCRIPTION:https://pfarreien-bistum-augsburg.df-preview.de/wort-gottes-fei
 er_id1719500
DTSTART;TZID=Europe/Berlin:20260429T100000
DURATION:PT30M
LOCATION:St. Martin\, Herzog-Georg-Straße 48\, 89415 Lauingen
END:VEVENT
BEGIN:VEVENT
UID:sabre-vobject-b335befa-ef29-4095-a201-47fed39f67c3
DTSTAMP:20260420T103933Z
SUMMARY:Rosenkranz
DESCRIPTION:https://pfarreien-bistum-augsburg.df-preview.de/rosenkranz_id17
 19501
DTSTART;TZID=Europe/Berlin:20260430T091500
DURATION:PT30M
LOCATION:St. Martin\, Herzog-Georg-Straße 48\, 89415 Lauingen
END:VEVENT
BEGIN:VEVENT
UID:sabre-vobject-b7932052-3642-4d53-9d1a-511ad4c0b948
DTSTAMP:20260420T103933Z
SUMMARY:Wortgottesdienst
DESCRIPTION:https://pfarreien-bistum-augsburg.df-preview.de/wortgottesdiens
 t_id1719509
DTSTART;TZID=Europe/Berlin:20260430T143000
DURATION:PT30M
LOCATION:St. Martin\, Herzog-Georg-Straße 48\, 89415 Lauingen
END:VEVENT
BEGIN:VEVENT
UID:sabre-vobject-861e5fa4-76de-437e-ba41-f2c6b51417ea
DTSTAMP:20260420T103933Z
SUMMARY:Rosenkranz
DESCRIPTION:https://pfarreien-bistum-augsburg.df-preview.de/rosenkranz_id17
 19531
DTSTART;TZID=Europe/Berlin:20260501T173000
DURATION:PT30M
LOCATION:St. Martin\, Herzog-Georg-Straße 48\, 89415 Lauingen
END:VEVENT
BEGIN:VEVENT
UID:sabre-vobject-f5420387-9621-4323-943b-c689b4dec6f8
DTSTAMP:20260420T103933Z
SUMMARY:Mai- u. Dankandacht mit den Kommunionkindern
DESCRIPTION:https://pfarreien-bistum-augsburg.df-preview.de/mai-u-dankandac
 ht-mit-den-kommunionkindern_id1719532
DTSTART;TZID=Europe/Berlin:20260501T180000
DURATION:PT30M
LOCATION:St. Martin\, Herzog-Georg-Straße 48\, 89415 Lauingen
END:VEVENT
END:VCALENDAR
