BEGIN:VCALENDAR
VERSION:2.0
PRODID:-//Sabre//Sabre VObject 4.5.8//EN
CALSCALE:GREGORIAN
NAME:Bistum Augsburg
X-WR-CALNAME:Bistum Augsburg
BEGIN:VEVENT
UID:sabre-vobject-40dbd19c-e586-4a40-8182-6b136e4bccf4
DTSTAMP:20260422T163705Z
SUMMARY:Heilige Messe im Seniorenheim St. Vincenz
DESCRIPTION:https://pfarreien-bistum-augsburg.df-preview.de/heilige-messe-i
 m-seniorenheim-st-vincenz_id1690112
DTSTART;TZID=Europe/Berlin:20260424T100000
DURATION:PT30M
LOCATION:St. Wendelin
END:VEVENT
BEGIN:VEVENT
UID:sabre-vobject-c9f594ff-7325-4810-823e-78e7ea23c69b
DTSTAMP:20260422T163705Z
SUMMARY:Heilige Messe
DESCRIPTION:https://pfarreien-bistum-augsburg.df-preview.de/heilige-messe_i
 d1690000
DTSTART;TZID=Europe/Berlin:20260426T083000
DURATION:PT30M
LOCATION:St. Wendelin
END:VEVENT
BEGIN:VEVENT
UID:sabre-vobject-f11f84d2-9fbc-49bb-a91f-502aada41825
DTSTAMP:20260422T163705Z
SUMMARY:Heilige Messe
DESCRIPTION:https://pfarreien-bistum-augsburg.df-preview.de/heilige-messe_i
 d1751345
DTSTART;TZID=Europe/Berlin:20260426T083000
DURATION:PT30M
LOCATION:St. Wendelin
END:VEVENT
BEGIN:VEVENT
UID:sabre-vobject-64eb82d0-0a2b-431a-a5d7-5e3aa14412c1
DTSTAMP:20260422T163705Z
SUMMARY:Taufe von Elina Marlena Mayer
DESCRIPTION:https://pfarreien-bistum-augsburg.df-preview.de/taufe-von-elina
 -marlena-mayer_id1690001
DTSTART;TZID=Europe/Berlin:20260426T113000
DURATION:PT30M
LOCATION:St. Wendelin
END:VEVENT
BEGIN:VEVENT
UID:sabre-vobject-db0efeec-5128-46dd-a57c-a890b12c7d00
DTSTAMP:20260422T163705Z
SUMMARY:Taufe von Elina Marlena Mayer
DESCRIPTION:https://pfarreien-bistum-augsburg.df-preview.de/taufe-von-elina
 -marlena-mayer_id1751346
DTSTART;TZID=Europe/Berlin:20260426T113000
DURATION:PT30M
LOCATION:St. Wendelin
END:VEVENT
BEGIN:VEVENT
UID:sabre-vobject-4feab4d0-878a-4bd9-950e-93f7f49df26a
DTSTAMP:20260422T163705Z
SUMMARY:Eucharistische Anbetung anschl. Heilige Messe
DESCRIPTION:https://pfarreien-bistum-augsburg.df-preview.de/eucharistische-
 anbetung-anschl-heilige-messe_id1751859
DTSTART;TZID=Europe/Berlin:20260507T183000
DURATION:PT30M
LOCATION:St. Wendelin
END:VEVENT
BEGIN:VEVENT
UID:sabre-vobject-e33f275f-721b-435b-8188-803f78f451ef
DTSTAMP:20260422T163705Z
SUMMARY:Vorabendmesse
DESCRIPTION:https://pfarreien-bistum-augsburg.df-preview.de/vorabendmesse_i
 d1751870
DTSTART;TZID=Europe/Berlin:20260509T180000
DURATION:PT30M
LOCATION:St. Wendelin
END:VEVENT
BEGIN:VEVENT
UID:sabre-vobject-e7f4cc45-9304-418c-bb63-75f5c37fef02
DTSTAMP:20260422T163705Z
SUMMARY:Vorabendmesse
DESCRIPTION:https://pfarreien-bistum-augsburg.df-preview.de/vorabendmesse_i
 d1751871
DTSTART;TZID=Europe/Berlin:20260516T180000
DURATION:PT30M
LOCATION:St. Wendelin
END:VEVENT
BEGIN:VEVENT
UID:sabre-vobject-be6aeb71-be08-44bc-821f-731d9b220216
DTSTAMP:20260422T163705Z
SUMMARY:Vorabendmesse
DESCRIPTION:https://pfarreien-bistum-augsburg.df-preview.de/vorabendmesse_i
 d1751872
DTSTART;TZID=Europe/Berlin:20260523T180000
DURATION:PT30M
LOCATION:St. Wendelin
END:VEVENT
BEGIN:VEVENT
UID:sabre-vobject-2848816a-3fe4-447e-bf49-68a4123b3527
DTSTAMP:20260422T163705Z
SUMMARY:Maiandacht mit eucharistischem Segen
DESCRIPTION:https://pfarreien-bistum-augsburg.df-preview.de/maiandacht-mit-
 eucharistischem-segen_id1751873
DTSTART;TZID=Europe/Berlin:20260524T190000
DURATION:PT30M
LOCATION:St. Wendelin
END:VEVENT
BEGIN:VEVENT
UID:sabre-vobject-f3334b1d-3a4a-4254-9577-491fd3eb2747
DTSTAMP:20260422T163705Z
SUMMARY:Heilige Messe im Seniorenheim St. Vincenz
DESCRIPTION:https://pfarreien-bistum-augsburg.df-preview.de/heilige-messe-i
 m-seniorenheim-st-vincenz_id1751874
DTSTART;TZID=Europe/Berlin:20260529T100000
DURATION:PT30M
LOCATION:St. Wendelin
END:VEVENT
END:VCALENDAR
