BEGIN:VCALENDAR
VERSION:2.0
PRODID:-//Sabre//Sabre VObject 4.5.8//EN
CALSCALE:GREGORIAN
NAME:Bistum Augsburg
X-WR-CALNAME:Bistum Augsburg
BEGIN:VEVENT
UID:sabre-vobject-19d48076-86a8-4900-9bba-8eb421961b33
DTSTAMP:20260422T010038Z
SUMMARY:Morgengebet
DESCRIPTION:https://pfarreien-bistum-augsburg.df-preview.de/morgengebet_id1
 749314
DTSTART;TZID=Europe/Berlin:20260422T080000
DURATION:PT30M
LOCATION:St. Stephanus
END:VEVENT
BEGIN:VEVENT
UID:sabre-vobject-6a5f3b5f-4c73-4594-a8f7-6527fa1c7d51
DTSTAMP:20260422T010038Z
SUMMARY:Heilige Messe in Schlipsheim
DESCRIPTION:https://pfarreien-bistum-augsburg.df-preview.de/heilige-messe-i
 n-schlipsheim_id1749316
DTSTART;TZID=Europe/Berlin:20260423T090000
DURATION:PT30M
LOCATION:St. Stephanus
END:VEVENT
BEGIN:VEVENT
UID:sabre-vobject-93fb407c-cd85-4988-802a-124d97499c08
DTSTAMP:20260422T010038Z
SUMMARY:Beichtgelegenheit
DESCRIPTION:https://pfarreien-bistum-augsburg.df-preview.de/beichtgelegenhe
 it_id1748382
DTSTART;TZID=Europe/Berlin:20260425T171500
DURATION:PT30M
LOCATION:St. Stephanus
END:VEVENT
BEGIN:VEVENT
UID:sabre-vobject-5ba77105-9627-4fa7-b331-64bf1e9470df
DTSTAMP:20260422T010038Z
SUMMARY:Vorabendmesse mit dem Männergesangsverein Liederkranz
DESCRIPTION:https://pfarreien-bistum-augsburg.df-preview.de/vorabendmesse-m
 it-dem-maennergesangsverein-liederkranz_id1748365
DTSTART;TZID=Europe/Berlin:20260425T180000
DURATION:PT30M
LOCATION:St. Stephanus
END:VEVENT
BEGIN:VEVENT
UID:sabre-vobject-96c07c41-4f03-4e92-b23f-af4bfa7a2445
DTSTAMP:20260422T010038Z
SUMMARY:Heilige Messe
DESCRIPTION:https://pfarreien-bistum-augsburg.df-preview.de/heilige-messe_i
 d1748366
DTSTART;TZID=Europe/Berlin:20260427T080000
DURATION:PT30M
LOCATION:St. Stephanus
END:VEVENT
BEGIN:VEVENT
UID:sabre-vobject-ec434569-e257-420f-ab89-3b5f376b4941
DTSTAMP:20260422T010038Z
SUMMARY:Morgengebet
DESCRIPTION:https://pfarreien-bistum-augsburg.df-preview.de/morgengebet_id1
 748367
DTSTART;TZID=Europe/Berlin:20260429T080000
DURATION:PT30M
LOCATION:St. Stephanus
END:VEVENT
BEGIN:VEVENT
UID:sabre-vobject-3afff2b1-f46b-4ebf-b612-77d212b5b465
DTSTAMP:20260422T010038Z
SUMMARY:Heilige Messe in Schlipsheim
DESCRIPTION:https://pfarreien-bistum-augsburg.df-preview.de/heilige-messe-i
 n-schlipsheim_id1748383
DTSTART;TZID=Europe/Berlin:20260430T090000
DURATION:PT30M
LOCATION:St. Stephanus
END:VEVENT
BEGIN:VEVENT
UID:sabre-vobject-2304c0b4-cfe0-43e1-af9b-27ec89e19e04
DTSTAMP:20260422T010038Z
SUMMARY:Heilige Messe und Maibaumsegnung in Schlipsheim
DESCRIPTION:https://pfarreien-bistum-augsburg.df-preview.de/heilige-messe-u
 nd-maibaumsegnung-in-schlipsheim_id1748384
DTSTART;TZID=Europe/Berlin:20260501T093000
DURATION:PT30M
LOCATION:St. Stephanus
END:VEVENT
BEGIN:VEVENT
UID:sabre-vobject-547654dd-b31e-4ce3-b7fc-363e29775cb7
DTSTAMP:20260422T010038Z
SUMMARY:Erste feierliche Maiandacht mit dem Kirchenchor
DESCRIPTION:https://pfarreien-bistum-augsburg.df-preview.de/erste-feierlich
 e-maiandacht-mit-dem-kirchenchor_id1748385
DTSTART;TZID=Europe/Berlin:20260501T190000
DURATION:PT30M
LOCATION:St. Stephanus
END:VEVENT
BEGIN:VEVENT
UID:sabre-vobject-34be9c5c-27cd-4a15-8f4d-b38415156121
DTSTAMP:20260422T010038Z
SUMMARY:Beichtgelegenheit
DESCRIPTION:https://pfarreien-bistum-augsburg.df-preview.de/beichtgelegenhe
 it_id1749134
DTSTART;TZID=Europe/Berlin:20260502T171500
DURATION:PT30M
LOCATION:St. Stephanus
END:VEVENT
BEGIN:VEVENT
UID:sabre-vobject-39478575-5392-47bb-83d2-96e08b73254a
DTSTAMP:20260422T010038Z
SUMMARY:Vorabendmesse anschl. Eine-Welt-Verkauf - 17:25 Uhr Rosenkranz für
  den Frieden
DESCRIPTION:https://pfarreien-bistum-augsburg.df-preview.de/vorabendmesse-a
 nschl-eine-welt-verkauf-17-25-uhr-rosenkranz-fuer-den-frieden_id1749233
DTSTART;TZID=Europe/Berlin:20260502T180000
DURATION:PT30M
LOCATION:St. Stephanus
END:VEVENT
BEGIN:VEVENT
UID:sabre-vobject-fd482e1c-89e6-4d92-ac63-aac0fde9c6e6
DTSTAMP:20260422T010038Z
SUMMARY:Offene Kirche mit Maiandacht
DESCRIPTION:https://pfarreien-bistum-augsburg.df-preview.de/offene-kirche-m
 it-maiandacht_id1749234
DTSTART;TZID=Europe/Berlin:20260503T140000
DURATION:PT30M
LOCATION:St. Stephanus
END:VEVENT
BEGIN:VEVENT
UID:sabre-vobject-6256f2d6-be3f-445a-97dd-7ab1b11845c2
DTSTAMP:20260422T010038Z
SUMMARY:Heilige Messe
DESCRIPTION:https://pfarreien-bistum-augsburg.df-preview.de/heilige-messe_i
 d1749335
DTSTART;TZID=Europe/Berlin:20260504T080000
DURATION:PT30M
LOCATION:St. Stephanus
END:VEVENT
BEGIN:VEVENT
UID:sabre-vobject-0f5fada7-4dfb-47dc-87ae-73906a62dbab
DTSTAMP:20260422T010038Z
SUMMARY:Heilige Messe in Schlipsheim
DESCRIPTION:https://pfarreien-bistum-augsburg.df-preview.de/heilige-messe-i
 n-schlipsheim_id1749338
DTSTART;TZID=Europe/Berlin:20260507T090000
DURATION:PT30M
LOCATION:St. Stephanus
END:VEVENT
BEGIN:VEVENT
UID:sabre-vobject-dae08f47-1827-4e1f-b340-3ea0e0911370
DTSTAMP:20260422T010038Z
SUMMARY:Andacht mit stillem Gebet
DESCRIPTION:https://pfarreien-bistum-augsburg.df-preview.de/andacht-mit-sti
 llem-gebet_id1749339
DTSTART;TZID=Europe/Berlin:20260507T180000
DURATION:PT30M
LOCATION:St. Stephanus
END:VEVENT
BEGIN:VEVENT
UID:sabre-vobject-90605a72-1cbd-4e26-afe1-9e4dc80d59c4
DTSTAMP:20260422T010038Z
SUMMARY:Festmesse 120 Jahre KAB Hainhofen mit dem Kirchenchor (Annette Thom
 a\, "Deutsche Bauernmesse") anschl. Stehempfang
DESCRIPTION:https://pfarreien-bistum-augsburg.df-preview.de/festmesse-120-j
 ahre-kab-hainhofen-mit-dem-kirchenchor-annette-thoma-deutsche-bauernmesse-
 anschl-stehempfang_id1748041
DTSTART;TZID=Europe/Berlin:20260510T093000
DURATION:PT30M
LOCATION:St. Stephanus
END:VEVENT
BEGIN:VEVENT
UID:sabre-vobject-f63f6ec4-f112-4cc2-ab65-5057b7afa6c8
DTSTAMP:20260422T010038Z
SUMMARY:Heilige Messe
DESCRIPTION:https://pfarreien-bistum-augsburg.df-preview.de/heilige-messe_i
 d1748042
DTSTART;TZID=Europe/Berlin:20260511T080000
DURATION:PT30M
LOCATION:St. Stephanus
END:VEVENT
BEGIN:VEVENT
UID:sabre-vobject-19cfce8b-9817-4c98-b9b7-510c3221b1cc
DTSTAMP:20260422T010038Z
SUMMARY:Heilige Messe mit den Westheimer Bittgängern\nanschl. Pfarrhausfr
 ühstück
DESCRIPTION:https://pfarreien-bistum-augsburg.df-preview.de/heilige-messe-m
 it-den-westheimer-bittgaengern-anschl-pfarrhausfruehstueck_id1747940
DTSTART;TZID=Europe/Berlin:20260513T090000
DURATION:PT30M
LOCATION:St. Stephanus
END:VEVENT
BEGIN:VEVENT
UID:sabre-vobject-d64cc364-8e27-4039-8492-fa942afa9645
DTSTAMP:20260422T010038Z
SUMMARY:Flurumgang Treffpunkt: Schlipsheimer Kreuz
DESCRIPTION:https://pfarreien-bistum-augsburg.df-preview.de/flurumgang-tref
 fpunkt-schlipsheimer-kreuz_id1747941
DTSTART;TZID=Europe/Berlin:20260514T080000
DURATION:PT30M
LOCATION:St. Stephanus
END:VEVENT
BEGIN:VEVENT
UID:sabre-vobject-cd625df0-1334-44ba-83b6-bd36adacb53c
DTSTAMP:20260422T010038Z
SUMMARY:Heilige Messe in Schlipsheim\n
DESCRIPTION:https://pfarreien-bistum-augsburg.df-preview.de/heilige-messe-i
 n-schlipsheim_id1747939
DTSTART;TZID=Europe/Berlin:20260514T090000
DURATION:PT30M
LOCATION:St. Stephanus
END:VEVENT
END:VCALENDAR
