BEGIN:VCALENDAR
VERSION:2.0
PRODID:-//Sabre//Sabre VObject 4.5.8//EN
CALSCALE:GREGORIAN
NAME:Bistum Augsburg
X-WR-CALNAME:Bistum Augsburg
BEGIN:VEVENT
UID:sabre-vobject-011d0852-d087-4043-a4dd-7a9842e489e7
DTSTAMP:20260422T170924Z
SUMMARY:Aktion Hoffnung:\nIn Asch stellen Sie bitte die gefüllten Kleiders
 äcke bis spätestens 08.00 Uhr an den Straßenrand.\nVergelt`s Gott für 
 Ihre Kleiderspenden!
DESCRIPTION:https://pfarreien-bistum-augsburg.df-preview.de/aktion-hoffnung
 -in-asch-stellen-sie-bitte-die-gefuellten-kleidersaecke-bis-spaetestens-08
 -00-uhr-an-den-strassenrand-vergelt-s-gott-fuer-ihre-kleiderspenden_id1750
 929
DTSTART;TZID=Europe/Berlin:20260425T000000
DURATION:PT30M
LOCATION:St. Johannes Baptist\, Kirchenweg 4\, 86925 Fuchstal
END:VEVENT
BEGIN:VEVENT
UID:sabre-vobject-aa0851a3-6a62-434c-a84d-33039d0c0081
DTSTAMP:20260422T170924Z
SUMMARY:Rosenkranz
DESCRIPTION:https://pfarreien-bistum-augsburg.df-preview.de/rosenkranz_id17
 50677
DTSTART;TZID=Europe/Berlin:20260425T160000
DURATION:PT30M
LOCATION:St. Johannes Baptist\, Kirchenweg 4\, 86925 Fuchstal
END:VEVENT
BEGIN:VEVENT
UID:sabre-vobject-4a557803-eae1-4cc3-b33f-3e3e5f6b74eb
DTSTAMP:20260422T170924Z
SUMMARY:Pfarrgottesdienst
DESCRIPTION:https://pfarreien-bistum-augsburg.df-preview.de/pfarrgottesdien
 st_id1750678
DTSTART;TZID=Europe/Berlin:20260426T084500
DURATION:PT30M
LOCATION:St. Johannes Baptist\, Kirchenweg 4\, 86925 Fuchstal
END:VEVENT
BEGIN:VEVENT
UID:sabre-vobject-45c8b7af-34c6-48f0-90a0-65ca0c25b9bf
DTSTAMP:20260422T170924Z
SUMMARY:Rosenkranz in den Anliegen um Priester- und Ordensberufe
DESCRIPTION:https://pfarreien-bistum-augsburg.df-preview.de/rosenkranz-in-d
 en-anliegen-um-priester-und-ordensberufe_id1752750
DTSTART;TZID=Europe/Berlin:20260430T191500
DURATION:PT30M
LOCATION:St. Johannes Baptist\, Kirchenweg 4\, 86925 Fuchstal
END:VEVENT
BEGIN:VEVENT
UID:sabre-vobject-bfbda773-50c2-4d2c-b5dc-b344c7c71ea8
DTSTAMP:20260422T170924Z
SUMMARY:Gebetswache - stille Anbetung vor dem ausgesetzten Allerheiligsten
DESCRIPTION:https://pfarreien-bistum-augsburg.df-preview.de/gebetswache-sti
 lle-anbetung-vor-dem-ausgesetzten-allerheiligsten_id1752751
DTSTART;TZID=Europe/Berlin:20260430T210000
DURATION:PT30M
LOCATION:St. Johannes Baptist\, Kirchenweg 4\, 86925 Fuchstal
END:VEVENT
BEGIN:VEVENT
UID:sabre-vobject-d0adbac0-8b85-47fa-b2cf-498ddb35d888
DTSTAMP:20260422T170924Z
SUMMARY:Stockkapelle: Feierliche Maiandacht
DESCRIPTION:https://pfarreien-bistum-augsburg.df-preview.de/stockkapelle-fe
 ierliche-maiandacht_id1752753
DTSTART;TZID=Europe/Berlin:20260501T191500
DURATION:PT30M
LOCATION:St. Johannes Baptist\, Kirchenweg 4\, 86925 Fuchstal
END:VEVENT
BEGIN:VEVENT
UID:sabre-vobject-cd4f3cd5-5a86-470e-9a06-002d61d1f714
DTSTAMP:20260422T170924Z
SUMMARY:Beichte und Rosenkranz\, Vorabendmesse mit Gebetsbitte für
DESCRIPTION:https://pfarreien-bistum-augsburg.df-preview.de/beichte-und-ros
 enkranz-vorabendmesse-mit-gebetsbitte-fuer_id1752605
DTSTART;TZID=Europe/Berlin:20260502T184500
DURATION:PT30M
LOCATION:St. Johannes Baptist\, Kirchenweg 4\, 86925 Fuchstal
END:VEVENT
BEGIN:VEVENT
UID:sabre-vobject-81eae3e9-0d1c-4014-9b60-872c89f02315
DTSTAMP:20260422T170924Z
SUMMARY:Stockkapelle: Feldgottesdienst anlässlich der Wallfahrt der Soldat
 en- und Veteranenvereine
DESCRIPTION:https://pfarreien-bistum-augsburg.df-preview.de/stockkapelle-fe
 ldgottesdienst-anlaesslich-der-wallfahrt-der-soldaten-und-veteranenvereine
 _id1752606
DTSTART;TZID=Europe/Berlin:20260503T104500
DURATION:PT30M
LOCATION:St. Johannes Baptist\, Kirchenweg 4\, 86925 Fuchstal
END:VEVENT
BEGIN:VEVENT
UID:sabre-vobject-2ce6a797-717c-4adb-9cad-c7ae0c4b7055
DTSTAMP:20260422T170924Z
SUMMARY:Stockkapelle: Monatlicher Gottesdienst in den Anliegen der Stockkap
 elle / mit Gebetsbitte für die Kranken in unserer Pfarreiengemeinschaft /
DESCRIPTION:https://pfarreien-bistum-augsburg.df-preview.de/stockkapelle-mo
 natlicher-gottesdienst-in-den-anliegen-der-stockkapelle-mit-gebetsbitte-fu
 er-die-kranken-in-unserer-pfarreiengemeinschaft_id1752607
DTSTART;TZID=Europe/Berlin:20260504T191500
DURATION:PT30M
LOCATION:St. Johannes Baptist\, Kirchenweg 4\, 86925 Fuchstal
END:VEVENT
BEGIN:VEVENT
UID:sabre-vobject-95d13d65-427e-4240-bfae-f27a9bd74b7c
DTSTAMP:20260422T170924Z
SUMMARY:Sitzung des gemeinsamen Pfarrgemeinderates im Verwaltungsgebäude i
 n Asch
DESCRIPTION:https://pfarreien-bistum-augsburg.df-preview.de/sitzung-des-gem
 einsamen-pfarrgemeinderates-im-verwaltungsgebaeude-in-asch_id1752608
DTSTART;TZID=Europe/Berlin:20260505T200000
DURATION:PT30M
LOCATION:St. Johannes Baptist\, Kirchenweg 4\, 86925 Fuchstal
END:VEVENT
BEGIN:VEVENT
UID:sabre-vobject-4d6393f0-c6ad-4250-98e2-9e1715d4fa15
DTSTAMP:20260422T170924Z
SUMMARY:Hl. Messe mit Gebetsbitte für
DESCRIPTION:https://pfarreien-bistum-augsburg.df-preview.de/hl-messe-mit-ge
 betsbitte-fuer_id1752609
DTSTART;TZID=Europe/Berlin:20260508T191500
DURATION:PT30M
LOCATION:St. Johannes Baptist\, Kirchenweg 4\, 86925 Fuchstal
END:VEVENT
BEGIN:VEVENT
UID:sabre-vobject-f561ef3d-00fc-4855-a24f-732d9ce0e361
DTSTAMP:20260422T170924Z
SUMMARY:Rosenkranz
DESCRIPTION:https://pfarreien-bistum-augsburg.df-preview.de/rosenkranz_id17
 52610
DTSTART;TZID=Europe/Berlin:20260509T160000
DURATION:PT30M
LOCATION:St. Johannes Baptist\, Kirchenweg 4\, 86925 Fuchstal
END:VEVENT
BEGIN:VEVENT
UID:sabre-vobject-086eba83-a0cd-4784-922b-78c017021e83
DTSTAMP:20260422T170924Z
SUMMARY:Pfarrgottesdienst
DESCRIPTION:https://pfarreien-bistum-augsburg.df-preview.de/pfarrgottesdien
 st_id1752611
DTSTART;TZID=Europe/Berlin:20260510T100000
DURATION:PT30M
LOCATION:St. Johannes Baptist\, Kirchenweg 4\, 86925 Fuchstal
END:VEVENT
BEGIN:VEVENT
UID:sabre-vobject-131efe99-66bc-46bf-b4b7-95c5d66e06fc
DTSTAMP:20260422T170924Z
SUMMARY:Feierliche Maiandacht (Musikkapelle)
DESCRIPTION:https://pfarreien-bistum-augsburg.df-preview.de/feierliche-maia
 ndacht-musikkapelle_id1752612
DTSTART;TZID=Europe/Berlin:20260510T191500
DURATION:PT30M
LOCATION:St. Johannes Baptist\, Kirchenweg 4\, 86925 Fuchstal
END:VEVENT
END:VCALENDAR
