BEGIN:VCALENDAR
VERSION:2.0
PRODID:-//Sabre//Sabre VObject 4.5.8//EN
CALSCALE:GREGORIAN
NAME:Bistum Augsburg
X-WR-CALNAME:Bistum Augsburg
BEGIN:VEVENT
UID:sabre-vobject-eeb45d70-dfc5-4871-8eda-d43b91b3d0a8
DTSTAMP:20260422T024925Z
SUMMARY:Tauffeier Paula Zeidler / Kap. "St. Johannes der Täufer" Hochwies
DESCRIPTION:https://pfarreien-bistum-augsburg.df-preview.de/tauffeier-paula
 -zeidler-kap-st-johannes-der-taeufer-hochwies_id1742097
DTSTART;TZID=Europe/Berlin:20260425T110000
DURATION:PT30M
LOCATION:Verklärung Christi
END:VEVENT
BEGIN:VEVENT
UID:sabre-vobject-5264ddeb-93d6-4658-841c-7a0752e34f45
DTSTAMP:20260422T024925Z
SUMMARY:Georgi-Ritt: Aufstellung zum Umzug an der Kurverwaltung
DESCRIPTION:https://pfarreien-bistum-augsburg.df-preview.de/georgi-ritt-auf
 stellung-zum-umzug-an-der-kurverwaltung_id1740804
DTSTART;TZID=Europe/Berlin:20260426T101500
DURATION:PT30M
LOCATION:Verklärung Christi
END:VEVENT
BEGIN:VEVENT
UID:sabre-vobject-ec9a6e47-90bf-4b99-bbf7-d6c53d553c93
DTSTAMP:20260422T024925Z
SUMMARY:Georgi-Ritt: Feldgottesdienst (Gest. Reitergruppe und Musikkapelle 
 Steibis) (bei schlechtem Wetter in der Festhalle)
DESCRIPTION:https://pfarreien-bistum-augsburg.df-preview.de/georgi-ritt-fel
 dgottesdienst-gest-reitergruppe-und-musikkapelle-steibis-bei-schlechtem-we
 tter-in-der-festhalle_id1740806
DTSTART;TZID=Europe/Berlin:20260426T103000
DURATION:PT30M
LOCATION:Verklärung Christi
END:VEVENT
BEGIN:VEVENT
UID:sabre-vobject-9a65e224-ce81-4896-a91e-dda622afe79d
DTSTAMP:20260422T024925Z
SUMMARY:Rosenkranz
DESCRIPTION:https://pfarreien-bistum-augsburg.df-preview.de/rosenkranz_id17
 42431
DTSTART;TZID=Europe/Berlin:20260502T163000
DURATION:PT30M
LOCATION:Verklärung Christi
END:VEVENT
BEGIN:VEVENT
UID:sabre-vobject-dddf9610-9f49-4c12-bfe5-83d0a5331e45
DTSTAMP:20260422T024925Z
SUMMARY:Vorabendmesse
DESCRIPTION:https://pfarreien-bistum-augsburg.df-preview.de/vorabendmesse_i
 d1742432
DTSTART;TZID=Europe/Berlin:20260502T170000
DURATION:PT30M
LOCATION:Verklärung Christi
END:VEVENT
BEGIN:VEVENT
UID:sabre-vobject-280d1742-ac38-4fc4-85f3-c2b148d3b2e2
DTSTAMP:20260422T024925Z
SUMMARY:Fußwallfahrt nach Weiler (Treffpunkt an der Pfarrkirche in Steibis
 )\; anschl. Hl. Messe in der Sebastianskapelle (ca. 9.15 Uhr)
DESCRIPTION:https://pfarreien-bistum-augsburg.df-preview.de/fusswallfahrt-n
 ach-weiler-treffpunkt-an-der-pfarrkirche-in-steibis-anschl-hl-messe-in-der
 -sebastianskapelle-ca-9-15-uhr_id1742277
DTSTART;TZID=Europe/Berlin:20260509T050000
DURATION:PT30M
LOCATION:Verklärung Christi
END:VEVENT
BEGIN:VEVENT
UID:sabre-vobject-4b41da30-80d4-4cb0-8397-0d2026b797cd
DTSTAMP:20260422T024925Z
SUMMARY:Feier der Ersten Heiligen Kommunion (musikalische Gestaltung: Kirch
 enchor Steibis - Aach)
DESCRIPTION:https://pfarreien-bistum-augsburg.df-preview.de/feier-der-erste
 n-heiligen-kommunion-musikalische-gestaltung-kirchenchor-steibis-aach_id17
 42278
DTSTART;TZID=Europe/Berlin:20260510T100000
DURATION:PT30M
LOCATION:Verklärung Christi
END:VEVENT
BEGIN:VEVENT
UID:sabre-vobject-43d0d2d4-ecfe-4b07-9182-48d1391ccb3d
DTSTAMP:20260422T024925Z
SUMMARY:Dankandacht der Erstkommunionkinder (musikal. Gestaltung: ???? die 
 Notenhüpfer??)
DESCRIPTION:https://pfarreien-bistum-augsburg.df-preview.de/dankandacht-der
 -erstkommunionkinder-musikal-gestaltung-die-notenhuepfer_id1742279
DTSTART;TZID=Europe/Berlin:20260510T173000
DURATION:PT30M
LOCATION:Verklärung Christi
END:VEVENT
BEGIN:VEVENT
UID:sabre-vobject-0e97903a-956a-41ac-b153-65485db10550
DTSTAMP:20260422T024925Z
SUMMARY:Bittgang von Schindelberg nach Hagspiel zur "Bruder-Klaus"-Kapelle 
 Treffpunkt: Großer Parkplatz Schindelberg (bei Regen nur Hl. Messe in der
  "Bruder-Klaus"-Kapelle in Hagspiel)
DESCRIPTION:https://pfarreien-bistum-augsburg.df-preview.de/bittgang-von-sc
 hindelberg-nach-hagspiel-zur-bruder-klaus-kapelle-treffpunkt-grosser-parkp
 latz-schindelberg-bei-regen-nur-hl-messe-in-der-bruder-klaus-kapelle-in-ha
 gspiel_id1742286
DTSTART;TZID=Europe/Berlin:20260512T180000
DURATION:PT30M
LOCATION:Verklärung Christi
END:VEVENT
BEGIN:VEVENT
UID:sabre-vobject-2e577840-f68e-4241-827f-6f6488a1011f
DTSTAMP:20260422T024925Z
SUMMARY:Maiandacht / Kapelle "St. Rochus" Schindelberg
DESCRIPTION:https://pfarreien-bistum-augsburg.df-preview.de/maiandacht-kape
 lle-st-rochus-schindelberg_id1742288
DTSTART;TZID=Europe/Berlin:20260513T190000
DURATION:PT30M
LOCATION:Verklärung Christi
END:VEVENT
BEGIN:VEVENT
UID:sabre-vobject-f174582e-175e-4671-ace3-5d77295d40d7
DTSTAMP:20260422T024925Z
SUMMARY:Festgottesdienst zu Christi Himmelfahrt mit anschl. Flurumgang
DESCRIPTION:https://pfarreien-bistum-augsburg.df-preview.de/festgottesdiens
 t-zu-christi-himmelfahrt-mit-anschl-flurumgang_id1742287
DTSTART;TZID=Europe/Berlin:20260514T103000
DURATION:PT30M
LOCATION:Verklärung Christi
END:VEVENT
BEGIN:VEVENT
UID:sabre-vobject-20b81181-1ffe-45f1-a9a1-dec04fe10bc1
DTSTAMP:20260422T024925Z
SUMMARY:Rosenkranz
DESCRIPTION:https://pfarreien-bistum-augsburg.df-preview.de/rosenkranz_id17
 42273
DTSTART;TZID=Europe/Berlin:20260516T180000
DURATION:PT30M
LOCATION:Verklärung Christi
END:VEVENT
BEGIN:VEVENT
UID:sabre-vobject-5bb537bf-b378-4147-9858-bf72233b1513
DTSTAMP:20260422T024925Z
SUMMARY:Vorabendmesse
DESCRIPTION:https://pfarreien-bistum-augsburg.df-preview.de/vorabendmesse_i
 d1742281
DTSTART;TZID=Europe/Berlin:20260516T183000
DURATION:PT30M
LOCATION:Verklärung Christi
END:VEVENT
BEGIN:VEVENT
UID:sabre-vobject-b0fe0fa1-2463-4fd7-b866-ed52c6b324db
DTSTAMP:20260422T024925Z
SUMMARY:Rosenkranz
DESCRIPTION:https://pfarreien-bistum-augsburg.df-preview.de/rosenkranz_id17
 42282
DTSTART;TZID=Europe/Berlin:20260523T163000
DURATION:PT30M
LOCATION:Verklärung Christi
END:VEVENT
BEGIN:VEVENT
UID:sabre-vobject-d3d05e91-4c61-49d9-968e-1d3c8ad07409
DTSTAMP:20260422T024925Z
SUMMARY:Vorabendmesse zum Pfingstfest
DESCRIPTION:https://pfarreien-bistum-augsburg.df-preview.de/vorabendmesse-z
 um-pfingstfest_id1742283
DTSTART;TZID=Europe/Berlin:20260523T170000
DURATION:PT30M
LOCATION:Verklärung Christi
END:VEVENT
BEGIN:VEVENT
UID:sabre-vobject-bed62656-f490-445c-bef7-0c9ba265ef63
DTSTAMP:20260422T024925Z
SUMMARY:"Pfingstmesse im Freien" vor der Kurverwaltung Steibis \n(musikalis
 che Gestaltung: der Blasmusik Steibis)
DESCRIPTION:https://pfarreien-bistum-augsburg.df-preview.de/pfingstmesse-im
 -freien-vor-der-kurverwaltung-steibis-musikalische-gestaltung-der-blasmusi
 k-steibis_id1742284
DTSTART;TZID=Europe/Berlin:20260525T100000
DURATION:PT30M
LOCATION:Verklärung Christi
END:VEVENT
END:VCALENDAR
