BEGIN:VCALENDAR
VERSION:2.0
PRODID:-//Sabre//Sabre VObject 4.5.8//EN
CALSCALE:GREGORIAN
NAME:Bistum Augsburg
X-WR-CALNAME:Bistum Augsburg
BEGIN:VEVENT
UID:sabre-vobject-d7b41d17-5254-4586-906c-5949e58f94a7
DTSTAMP:20260422T042832Z
SUMMARY:Rosenkranz
DESCRIPTION:https://pfarreien-bistum-augsburg.df-preview.de/rosenkranz_id17
 14835
DTSTART;TZID=Europe/Berlin:20260425T180000
DURATION:PT30M
LOCATION:St. Georg\, Am Herrenberg 2\, 86932 Pürgen
END:VEVENT
BEGIN:VEVENT
UID:sabre-vobject-f92afbc0-09bb-4660-b957-65a85183124a
DTSTAMP:20260422T042832Z
SUMMARY:Hl. Messe
DESCRIPTION:https://pfarreien-bistum-augsburg.df-preview.de/hl-messe_id1714
 842
DTSTART;TZID=Europe/Berlin:20260428T190000
DURATION:PT30M
LOCATION:St. Georg\, Am Herrenberg 2\, 86932 Pürgen
END:VEVENT
BEGIN:VEVENT
UID:sabre-vobject-3c54fa31-84b3-4e94-bc8c-037937b99655
DTSTAMP:20260422T042832Z
SUMMARY:Bibelkreis mit Diakon Florian Kopp im Pfarrhof (KGZ)
DESCRIPTION:https://pfarreien-bistum-augsburg.df-preview.de/bibelkreis-mit-
 diakon-florian-kopp-im-pfarrhof-kgz_id1714888
DTSTART;TZID=Europe/Berlin:20260428T200000
DURATION:PT30M
LOCATION:St. Georg\, Am Herrenberg 2\, 86932 Pürgen
END:VEVENT
BEGIN:VEVENT
UID:sabre-vobject-6de912b8-6005-4e7f-a689-dc43d935548f
DTSTAMP:20260422T042832Z
SUMMARY:Rosenkranz
DESCRIPTION:https://pfarreien-bistum-augsburg.df-preview.de/rosenkranz_id17
 49081
DTSTART;TZID=Europe/Berlin:20260502T180000
DURATION:PT30M
LOCATION:St. Georg\, Am Herrenberg 2\, 86932 Pürgen
END:VEVENT
BEGIN:VEVENT
UID:sabre-vobject-6a1dfe8e-6098-4b1a-a98e-04f74d41fa13
DTSTAMP:20260422T042832Z
SUMMARY:Erstkommunionfeier
DESCRIPTION:https://pfarreien-bistum-augsburg.df-preview.de/erstkommunionfe
 ier_id1749082
DTSTART;TZID=Europe/Berlin:20260503T101500
DURATION:PT30M
LOCATION:St. Georg\, Am Herrenberg 2\, 86932 Pürgen
END:VEVENT
BEGIN:VEVENT
UID:sabre-vobject-c858263e-4c02-4f09-a7f1-4715c5d21107
DTSTAMP:20260422T042832Z
SUMMARY:Dankandacht Kommunionkinder
DESCRIPTION:https://pfarreien-bistum-augsburg.df-preview.de/dankandacht-kom
 munionkinder_id1749083
DTSTART;TZID=Europe/Berlin:20260503T170000
DURATION:PT30M
LOCATION:St. Georg\, Am Herrenberg 2\, 86932 Pürgen
END:VEVENT
BEGIN:VEVENT
UID:sabre-vobject-809cd696-b956-4e78-90d8-111e39e3a4c5
DTSTAMP:20260422T042832Z
SUMMARY:Hl. Messe
DESCRIPTION:https://pfarreien-bistum-augsburg.df-preview.de/hl-messe_id1749
 084
DTSTART;TZID=Europe/Berlin:20260505T190000
DURATION:PT30M
LOCATION:St. Georg\, Am Herrenberg 2\, 86932 Pürgen
END:VEVENT
BEGIN:VEVENT
UID:sabre-vobject-e1b4dd7a-77ce-4f0c-bf3a-b68d3f1df927
DTSTAMP:20260422T042832Z
SUMMARY:Maiandacht an der Grotte (bei schlechtem Wetter in der Kirche)
DESCRIPTION:https://pfarreien-bistum-augsburg.df-preview.de/maiandacht-an-d
 er-grotte-bei-schlechtem-wetter-in-der-kirche_id1749085
DTSTART;TZID=Europe/Berlin:20260506T190000
DURATION:PT30M
LOCATION:St. Georg\, Am Herrenberg 2\, 86932 Pürgen
END:VEVENT
BEGIN:VEVENT
UID:sabre-vobject-18c3e735-7094-4d0c-82e3-7192cec2eb97
DTSTAMP:20260422T042832Z
SUMMARY:Rosenkranz
DESCRIPTION:https://pfarreien-bistum-augsburg.df-preview.de/rosenkranz_id17
 49135
DTSTART;TZID=Europe/Berlin:20260509T180000
DURATION:PT30M
LOCATION:St. Georg\, Am Herrenberg 2\, 86932 Pürgen
END:VEVENT
BEGIN:VEVENT
UID:sabre-vobject-5cf45842-38bd-41c6-83dc-ab8e0ce0c26b
DTSTAMP:20260422T042832Z
SUMMARY:Hl. Messe
DESCRIPTION:https://pfarreien-bistum-augsburg.df-preview.de/hl-messe_id1749
 136
DTSTART;TZID=Europe/Berlin:20260510T084500
DURATION:PT30M
LOCATION:St. Georg\, Am Herrenberg 2\, 86932 Pürgen
END:VEVENT
BEGIN:VEVENT
UID:sabre-vobject-658d4eca-9d26-491d-a5f4-129cba88da7c
DTSTAMP:20260422T042832Z
SUMMARY:Hl. Messe
DESCRIPTION:https://pfarreien-bistum-augsburg.df-preview.de/hl-messe_id1749
 137
DTSTART;TZID=Europe/Berlin:20260512T190000
DURATION:PT30M
LOCATION:St. Georg\, Am Herrenberg 2\, 86932 Pürgen
END:VEVENT
BEGIN:VEVENT
UID:sabre-vobject-f2e71876-7469-42b9-84c8-dabcc93aac0e
DTSTAMP:20260422T042832Z
SUMMARY:Seniorentreffen im Pfarrhof (KGZ)
DESCRIPTION:https://pfarreien-bistum-augsburg.df-preview.de/seniorentreffen
 -im-pfarrhof-kgz_id1749138
DTSTART;TZID=Europe/Berlin:20260513T140000
DURATION:PT30M
LOCATION:St. Georg\, Am Herrenberg 2\, 86932 Pürgen
END:VEVENT
BEGIN:VEVENT
UID:sabre-vobject-774b5635-443c-4b60-b987-4c614c95f71b
DTSTAMP:20260422T042832Z
SUMMARY:Feldgottesdienst der Pfarreien Stoffen und Pürgen \n Pü   09:00 U
 hr			Bittgang - Treffpunkt an der Kirche Ummendorf\, \nBei schlechter Witt
 erung läuten um 8 Uhr  die Glocken und es ist  um 9:30
DESCRIPTION:https://pfarreien-bistum-augsburg.df-preview.de/feldgottesdiens
 t-der-pfarreien-stoffen-und-puergen-pue-09-00-uhr-bittgang-treffpunkt-an-d
 er-kirche-ummendorf-bei-schlechter-witterung-laeuten-um-8-uhr-die-glocken-
 und-es-ist-um-9-30_id1749139
DTSTART;TZID=Europe/Berlin:20260514T093000
DURATION:PT30M
LOCATION:St. Georg\, Am Herrenberg 2\, 86932 Pürgen
END:VEVENT
BEGIN:VEVENT
UID:sabre-vobject-d4a60bb7-fe9e-457d-b618-3f2655cafc01
DTSTAMP:20260422T042832Z
SUMMARY:Rosenkranz
DESCRIPTION:https://pfarreien-bistum-augsburg.df-preview.de/rosenkranz_id17
 49140
DTSTART;TZID=Europe/Berlin:20260516T183000
DURATION:PT30M
LOCATION:St. Georg\, Am Herrenberg 2\, 86932 Pürgen
END:VEVENT
BEGIN:VEVENT
UID:sabre-vobject-993ba7d0-4bdc-450d-a0e1-c4d75dedf313
DTSTAMP:20260422T042832Z
SUMMARY:Vorabendmesse
DESCRIPTION:https://pfarreien-bistum-augsburg.df-preview.de/vorabendmesse_i
 d1749141
DTSTART;TZID=Europe/Berlin:20260516T190000
DURATION:PT30M
LOCATION:St. Georg\, Am Herrenberg 2\, 86932 Pürgen
END:VEVENT
BEGIN:VEVENT
UID:sabre-vobject-63e8d9a9-044e-494e-bea1-bf3f1f3ce247
DTSTAMP:20260422T042832Z
SUMMARY:Taufe
DESCRIPTION:https://pfarreien-bistum-augsburg.df-preview.de/taufe_id1749142
DTSTART;TZID=Europe/Berlin:20260517T113000
DURATION:PT30M
LOCATION:St. Georg\, Am Herrenberg 2\, 86932 Pürgen
END:VEVENT
BEGIN:VEVENT
UID:sabre-vobject-41d68547-81c8-4b10-b8a0-001078747012
DTSTAMP:20260422T042832Z
SUMMARY:Feierliche Maiandacht
DESCRIPTION:https://pfarreien-bistum-augsburg.df-preview.de/feierliche-maia
 ndacht_id1749143
DTSTART;TZID=Europe/Berlin:20260519T190000
DURATION:PT30M
LOCATION:St. Georg\, Am Herrenberg 2\, 86932 Pürgen
END:VEVENT
BEGIN:VEVENT
UID:sabre-vobject-b7ee1e9d-0311-4b33-8ff2-eccc3d5691ce
DTSTAMP:20260422T042832Z
SUMMARY:Taufe Lenz Weh
DESCRIPTION:https://pfarreien-bistum-augsburg.df-preview.de/taufe-lenz-weh_
 id1749144
DTSTART;TZID=Europe/Berlin:20260523T140000
DURATION:PT30M
LOCATION:St. Georg\, Am Herrenberg 2\, 86932 Pürgen
END:VEVENT
BEGIN:VEVENT
UID:sabre-vobject-1f61f528-b1f1-4af4-b668-d64303aea7f7
DTSTAMP:20260422T042832Z
SUMMARY:Rosenkranz
DESCRIPTION:https://pfarreien-bistum-augsburg.df-preview.de/rosenkranz_id17
 49164
DTSTART;TZID=Europe/Berlin:20260523T183000
DURATION:PT30M
LOCATION:St. Georg\, Am Herrenberg 2\, 86932 Pürgen
END:VEVENT
BEGIN:VEVENT
UID:sabre-vobject-d1889297-c888-4ea8-92d9-e7ad3d07931a
DTSTAMP:20260422T042832Z
SUMMARY:Festgottesdienst zu Pfingsten
DESCRIPTION:https://pfarreien-bistum-augsburg.df-preview.de/festgottesdiens
 t-zu-pfingsten_id1749165
DTSTART;TZID=Europe/Berlin:20260523T190000
DURATION:PT30M
LOCATION:St. Georg\, Am Herrenberg 2\, 86932 Pürgen
END:VEVENT
BEGIN:VEVENT
UID:sabre-vobject-f7960d4a-ba0a-4373-82e1-b5e6d5958e7b
DTSTAMP:20260422T042832Z
SUMMARY:Hl. Messe entfällt
DESCRIPTION:https://pfarreien-bistum-augsburg.df-preview.de/hl-messe-entfae
 llt_id1749166
DTSTART;TZID=Europe/Berlin:20260526T190000
DURATION:PT30M
LOCATION:St. Georg\, Am Herrenberg 2\, 86932 Pürgen
END:VEVENT
BEGIN:VEVENT
UID:sabre-vobject-21b4f9a6-413d-4b43-a1b8-14716e59daf8
DTSTAMP:20260422T042832Z
SUMMARY:Bibelkreis mit Diakon Florian Kopp im Pfarrhof (KGZ)
DESCRIPTION:https://pfarreien-bistum-augsburg.df-preview.de/bibelkreis-mit-
 diakon-florian-kopp-im-pfarrhof-kgz_id1749076
DTSTART;TZID=Europe/Berlin:20260526T200000
DURATION:PT30M
LOCATION:St. Georg\, Am Herrenberg 2\, 86932 Pürgen
END:VEVENT
BEGIN:VEVENT
UID:sabre-vobject-4ccbb0d8-52f2-42e0-b126-33846656c979
DTSTAMP:20260422T042832Z
SUMMARY:Maiandacht an der Grotte (bei schlechtem Wetter in der Kirche)
DESCRIPTION:https://pfarreien-bistum-augsburg.df-preview.de/maiandacht-an-d
 er-grotte-bei-schlechtem-wetter-in-der-kirche_id1749167
DTSTART;TZID=Europe/Berlin:20260527T190000
DURATION:PT30M
LOCATION:St. Georg\, Am Herrenberg 2\, 86932 Pürgen
END:VEVENT
BEGIN:VEVENT
UID:sabre-vobject-6872a775-c3dc-47d1-a79a-89afe5bfa06d
DTSTAMP:20260422T042832Z
SUMMARY:Hl. Messe
DESCRIPTION:https://pfarreien-bistum-augsburg.df-preview.de/hl-messe_id1749
 205
DTSTART;TZID=Europe/Berlin:20260531T084500
DURATION:PT30M
LOCATION:St. Georg\, Am Herrenberg 2\, 86932 Pürgen
END:VEVENT
END:VCALENDAR
