BEGIN:VCALENDAR
VERSION:2.0
PRODID:-//Sabre//Sabre VObject 4.5.8//EN
CALSCALE:GREGORIAN
NAME:Bistum Augsburg
X-WR-CALNAME:Bistum Augsburg
BEGIN:VEVENT
UID:sabre-vobject-b9d1156d-1f00-4142-a0d1-82696f51e339
DTSTAMP:20260422T173033Z
SUMMARY:Bibelkreis im Pfarrzentrum in Hollenbach
DESCRIPTION:https://pfarreien-bistum-augsburg.df-preview.de/bibelkreis-im-p
 farrzentrum-in-hollenbach_id1739742
DTSTART;TZID=Europe/Berlin:20260422T200000
DURATION:PT30M
LOCATION:St. Michael\, Augsburger Str.\, 86568 Hollenbach
END:VEVENT
BEGIN:VEVENT
UID:sabre-vobject-c01901a4-1425-4e2c-aa90-cfe02c95ba4b
DTSTAMP:20260422T173033Z
SUMMARY:Beichte der Erstkommunionkinder\, anschl. 1. Probe für die Erstkom
 munionkinder
DESCRIPTION:https://pfarreien-bistum-augsburg.df-preview.de/beichte-der-ers
 tkommunionkinder-anschl-1-probe-fuer-die-erstkommunionkinder_id1739773
DTSTART;TZID=Europe/Berlin:20260424T170000
DURATION:PT30M
LOCATION:St. Michael\, Augsburger Str.\, 86568 Hollenbach
END:VEVENT
BEGIN:VEVENT
UID:sabre-vobject-2e83a3ae-b99a-4552-9705-0d324ce3fa58
DTSTAMP:20260422T173033Z
SUMMARY:Beichtgelegenheit für die Eltern und Angehörigen der Erstkommunio
 nkinder
DESCRIPTION:https://pfarreien-bistum-augsburg.df-preview.de/beichtgelegenhe
 it-fuer-die-eltern-und-angehoerigen-der-erstkommunionkinder_id1739774
DTSTART;TZID=Europe/Berlin:20260424T183000
DURATION:PT30M
LOCATION:St. Michael\, Augsburger Str.\, 86568 Hollenbach
END:VEVENT
BEGIN:VEVENT
UID:sabre-vobject-371a57bc-d95e-42da-b651-2cce12f3ef86
DTSTAMP:20260422T173033Z
SUMMARY:Hl. Messe
DESCRIPTION:https://pfarreien-bistum-augsburg.df-preview.de/hl-messe_id1739
 775
DTSTART;TZID=Europe/Berlin:20260424T190000
DURATION:PT30M
LOCATION:St. Michael\, Augsburger Str.\, 86568 Hollenbach
END:VEVENT
BEGIN:VEVENT
UID:sabre-vobject-7cf902b0-23f6-4a58-9dca-7229efc6ccec
DTSTAMP:20260422T173033Z
SUMMARY:Treffen der Firmlinge und Paten im Pfarrzentrum in Hollenbach
DESCRIPTION:https://pfarreien-bistum-augsburg.df-preview.de/treffen-der-fir
 mlinge-und-paten-im-pfarrzentrum-in-hollenbach_id1739776
DTSTART;TZID=Europe/Berlin:20260424T200000
DURATION:PT30M
LOCATION:St. Michael\, Augsburger Str.\, 86568 Hollenbach
END:VEVENT
BEGIN:VEVENT
UID:sabre-vobject-c6a83077-621c-43b6-8b00-335c75363d39
DTSTAMP:20260422T173033Z
SUMMARY:2. Probe für die Erstkommunionkinder
DESCRIPTION:https://pfarreien-bistum-augsburg.df-preview.de/2-probe-fuer-di
 e-erstkommunionkinder_id1750411
DTSTART;TZID=Europe/Berlin:20260425T090000
DURATION:PT30M
LOCATION:St. Michael\, Augsburger Str.\, 86568 Hollenbach
END:VEVENT
BEGIN:VEVENT
UID:sabre-vobject-463bc401-1dd2-4b9d-b359-1d7dfb3f4cb4
DTSTAMP:20260422T173033Z
SUMMARY:Heiliges Amt mit Feier der Ersten Hl. Kommunion\nfür die Angehöri
 gen der Erstkommunionkinder
DESCRIPTION:https://pfarreien-bistum-augsburg.df-preview.de/heiliges-amt-mi
 t-feier-der-ersten-hl-kommunion-fuer-die-angehoerigen-der-erstkommunionkin
 der_id1753201
DTSTART;TZID=Europe/Berlin:20260426T100000
DURATION:PT30M
LOCATION:St. Michael\, Augsburger Str.\, 86568 Hollenbach
END:VEVENT
BEGIN:VEVENT
UID:sabre-vobject-ba413031-e42d-4c13-a9e8-d00324f044e0
DTSTAMP:20260422T173033Z
SUMMARY:Dankandacht für die Erstkommunionkinder
DESCRIPTION:https://pfarreien-bistum-augsburg.df-preview.de/dankandacht-fue
 r-die-erstkommunionkinder_id1753227
DTSTART;TZID=Europe/Berlin:20260426T170000
DURATION:PT30M
LOCATION:St. Michael\, Augsburger Str.\, 86568 Hollenbach
END:VEVENT
BEGIN:VEVENT
UID:sabre-vobject-8402f5aa-fc12-4709-b800-a09b1aa82de3
DTSTAMP:20260422T173033Z
SUMMARY:Rosenkranz
DESCRIPTION:https://pfarreien-bistum-augsburg.df-preview.de/rosenkranz_id17
 53238
DTSTART;TZID=Europe/Berlin:20260428T183000
DURATION:PT30M
LOCATION:St. Michael\, Augsburger Str.\, 86568 Hollenbach
END:VEVENT
BEGIN:VEVENT
UID:sabre-vobject-ba882cc4-7d6c-4434-a631-0ec3559e2028
DTSTAMP:20260422T173033Z
SUMMARY:Hl. Messe
DESCRIPTION:https://pfarreien-bistum-augsburg.df-preview.de/hl-messe_id1753
 231
DTSTART;TZID=Europe/Berlin:20260428T190000
DURATION:PT30M
LOCATION:St. Michael\, Augsburger Str.\, 86568 Hollenbach
END:VEVENT
BEGIN:VEVENT
UID:sabre-vobject-2075b44b-a2bf-4a32-8274-20fb8da7c328
DTSTAMP:20260422T173033Z
SUMMARY:Hochamt
DESCRIPTION:https://pfarreien-bistum-augsburg.df-preview.de/hochamt_id17532
 32
DTSTART;TZID=Europe/Berlin:20260501T083000
DURATION:PT30M
LOCATION:St. Michael\, Augsburger Str.\, 86568 Hollenbach
END:VEVENT
BEGIN:VEVENT
UID:sabre-vobject-fe70e591-4f1b-461d-87b0-b037396343b2
DTSTAMP:20260422T173033Z
SUMMARY:Erste feierliche Maiandacht mit\nSegnung von Erstkommunionandenken 
 und Andachtsgegenständen
DESCRIPTION:https://pfarreien-bistum-augsburg.df-preview.de/erste-feierlich
 e-maiandacht-mit-segnung-von-erstkommunionandenken-und-andachtsgegenstaend
 en_id1753233
DTSTART;TZID=Europe/Berlin:20260501T183000
DURATION:PT30M
LOCATION:St. Michael\, Augsburger Str.\, 86568 Hollenbach
END:VEVENT
BEGIN:VEVENT
UID:sabre-vobject-ad3027a7-12a8-4e50-89c1-c32ca0c88494
DTSTAMP:20260422T173033Z
SUMMARY:Heiliges Amt
DESCRIPTION:https://pfarreien-bistum-augsburg.df-preview.de/heiliges-amt_id
 1753234
DTSTART;TZID=Europe/Berlin:20260503T083000
DURATION:PT30M
LOCATION:St. Michael\, Augsburger Str.\, 86568 Hollenbach
END:VEVENT
BEGIN:VEVENT
UID:sabre-vobject-039b1c06-da34-4b7f-85db-cf1bf95318a3
DTSTAMP:20260422T173033Z
SUMMARY:Firmcafè im Pfarrzentrum in Hollenbach
DESCRIPTION:https://pfarreien-bistum-augsburg.df-preview.de/firmcafe-im-pfa
 rrzentrum-in-hollenbach_id1753235
DTSTART;TZID=Europe/Berlin:20260503T143000
DURATION:PT30M
LOCATION:St. Michael\, Augsburger Str.\, 86568 Hollenbach
END:VEVENT
BEGIN:VEVENT
UID:sabre-vobject-f0616bc7-1ba5-47e4-abac-32eac415c0d6
DTSTAMP:20260422T173033Z
SUMMARY:Feierliche Maiandacht
DESCRIPTION:https://pfarreien-bistum-augsburg.df-preview.de/feierliche-maia
 ndacht_id1753236
DTSTART;TZID=Europe/Berlin:20260503T183000
DURATION:PT30M
LOCATION:St. Michael\, Augsburger Str.\, 86568 Hollenbach
END:VEVENT
BEGIN:VEVENT
UID:sabre-vobject-a2117387-1a64-4963-bc93-9815c9119105
DTSTAMP:20260422T173033Z
SUMMARY:Rosenkranz
DESCRIPTION:https://pfarreien-bistum-augsburg.df-preview.de/rosenkranz_id17
 53237
DTSTART;TZID=Europe/Berlin:20260505T183000
DURATION:PT30M
LOCATION:St. Michael\, Augsburger Str.\, 86568 Hollenbach
END:VEVENT
BEGIN:VEVENT
UID:sabre-vobject-4ce4df0e-60fe-452e-8a3f-2e4e54bf33dc
DTSTAMP:20260422T173033Z
SUMMARY:Hl. Messe
DESCRIPTION:https://pfarreien-bistum-augsburg.df-preview.de/hl-messe_id1753
 240
DTSTART;TZID=Europe/Berlin:20260505T190000
DURATION:PT30M
LOCATION:St. Michael\, Augsburger Str.\, 86568 Hollenbach
END:VEVENT
BEGIN:VEVENT
UID:sabre-vobject-01d73e19-4376-4f15-ab1e-326f3cf037bb
DTSTAMP:20260422T173033Z
SUMMARY:Kindermaiandacht in Hollenbach
DESCRIPTION:https://pfarreien-bistum-augsburg.df-preview.de/kindermaiandach
 t-in-hollenbach_id1753241
DTSTART;TZID=Europe/Berlin:20260508T180000
DURATION:PT30M
LOCATION:St. Michael\, Augsburger Str.\, 86568 Hollenbach
END:VEVENT
BEGIN:VEVENT
UID:sabre-vobject-6bb33217-e3eb-431d-8327-9704a8c44703
DTSTAMP:20260422T173033Z
SUMMARY:Hl. Messe
DESCRIPTION:https://pfarreien-bistum-augsburg.df-preview.de/hl-messe_id1753
 193
DTSTART;TZID=Europe/Berlin:20260508T190000
DURATION:PT30M
LOCATION:St. Michael\, Augsburger Str.\, 86568 Hollenbach
END:VEVENT
BEGIN:VEVENT
UID:sabre-vobject-8358972c-de78-4657-b469-eef9eecac68b
DTSTAMP:20260422T173033Z
SUMMARY:Diözesanministrantentag in Kaufbeuren
DESCRIPTION:https://pfarreien-bistum-augsburg.df-preview.de/dioezesanminist
 rantentag-in-kaufbeuren_id1749745
DTSTART;TZID=Europe/Berlin:20260509T000000
DURATION:PT30M
LOCATION:St. Michael\, Augsburger Str.\, 86568 Hollenbach
END:VEVENT
BEGIN:VEVENT
UID:sabre-vobject-073eefb8-99f4-4b29-91fa-368180f6d10c
DTSTAMP:20260422T173033Z
SUMMARY:Fusswallfahrt nach Inchenhofen
DESCRIPTION:https://pfarreien-bistum-augsburg.df-preview.de/fusswallfahrt-n
 ach-inchenhofen_id1749746
DTSTART;TZID=Europe/Berlin:20260510T053000
DURATION:PT30M
LOCATION:St. Michael\, Augsburger Str.\, 86568 Hollenbach
END:VEVENT
BEGIN:VEVENT
UID:sabre-vobject-b61acf2b-55a0-4d00-bad7-08f5ca4cb2a4
DTSTAMP:20260422T173033Z
SUMMARY:Hl. Messe in Inchenhofen
DESCRIPTION:https://pfarreien-bistum-augsburg.df-preview.de/hl-messe-in-inc
 henhofen_id1749747
DTSTART;TZID=Europe/Berlin:20260510T073000
DURATION:PT30M
LOCATION:St. Michael\, Augsburger Str.\, 86568 Hollenbach
END:VEVENT
BEGIN:VEVENT
UID:sabre-vobject-fcf434ef-1606-47f0-83c4-c607a5ed708d
DTSTAMP:20260422T173033Z
SUMMARY:Heiliges Amt anschl. feierliche Maiandacht
DESCRIPTION:https://pfarreien-bistum-augsburg.df-preview.de/heiliges-amt-an
 schl-feierliche-maiandacht_id1749748
DTSTART;TZID=Europe/Berlin:20260510T100000
DURATION:PT30M
LOCATION:St. Michael\, Augsburger Str.\, 86568 Hollenbach
END:VEVENT
BEGIN:VEVENT
UID:sabre-vobject-0ac48c5a-c132-4783-9c85-0bc4dd91dcac
DTSTAMP:20260422T173033Z
SUMMARY:Bittgang nach Schönbach\,\ndort Bittmesse
DESCRIPTION:https://pfarreien-bistum-augsburg.df-preview.de/bittgang-nach-s
 choenbach-dort-bittmesse_id1749749
DTSTART;TZID=Europe/Berlin:20260512T183000
DURATION:PT30M
LOCATION:St. Michael\, Augsburger Str.\, 86568 Hollenbach
END:VEVENT
BEGIN:VEVENT
UID:sabre-vobject-f8088dff-3435-4065-8060-409b1ea980d1
DTSTAMP:20260422T173033Z
SUMMARY:Hochamt
DESCRIPTION:https://pfarreien-bistum-augsburg.df-preview.de/hochamt_id17497
 50
DTSTART;TZID=Europe/Berlin:20260514T083000
DURATION:PT30M
LOCATION:St. Michael\, Augsburger Str.\, 86568 Hollenbach
END:VEVENT
BEGIN:VEVENT
UID:sabre-vobject-6ebde829-9733-410a-8f37-ad014eb2d64d
DTSTAMP:20260422T173033Z
SUMMARY:Vorabendmesse \nfür die Lebenden und Verstorbenen der Pfarreiengem
 einschaft
DESCRIPTION:https://pfarreien-bistum-augsburg.df-preview.de/vorabendmesse-f
 uer-die-lebenden-und-verstorbenen-der-pfarreiengemeinschaft_id1752479
DTSTART;TZID=Europe/Berlin:20260516T180000
DURATION:PT30M
LOCATION:St. Michael\, Augsburger Str.\, 86568 Hollenbach
END:VEVENT
BEGIN:VEVENT
UID:sabre-vobject-fd925a3e-855a-476f-b72c-744d424671d5
DTSTAMP:20260422T173033Z
SUMMARY:Konzert mit dem Wittelsbacher Land Chor in Inchenhofen
DESCRIPTION:https://pfarreien-bistum-augsburg.df-preview.de/konzert-mit-dem
 -wittelsbacher-land-chor-in-inchenhofen_id1752524
DTSTART;TZID=Europe/Berlin:20260516T193000
DURATION:PT30M
LOCATION:St. Michael\, Augsburger Str.\, 86568 Hollenbach
END:VEVENT
BEGIN:VEVENT
UID:sabre-vobject-1bb3ab9f-85d7-4864-be17-d58c305bc287
DTSTAMP:20260422T173033Z
SUMMARY:Fusswallfahrt nach Inchenhofen
DESCRIPTION:https://pfarreien-bistum-augsburg.df-preview.de/fusswallfahrt-n
 ach-inchenhofen_id1752525
DTSTART;TZID=Europe/Berlin:20260517T053000
DURATION:PT30M
LOCATION:St. Michael\, Augsburger Str.\, 86568 Hollenbach
END:VEVENT
BEGIN:VEVENT
UID:sabre-vobject-7ba2861f-810c-427d-b27d-76fc7d869294
DTSTAMP:20260422T173033Z
SUMMARY:Hl. Messe in Inchenhofen
DESCRIPTION:https://pfarreien-bistum-augsburg.df-preview.de/hl-messe-in-inc
 henhofen_id1752526
DTSTART;TZID=Europe/Berlin:20260517T073000
DURATION:PT30M
LOCATION:St. Michael\, Augsburger Str.\, 86568 Hollenbach
END:VEVENT
BEGIN:VEVENT
UID:sabre-vobject-1bf7183f-c20d-4c14-a26a-c389871d8400
DTSTAMP:20260422T173033Z
SUMMARY:Feierliche Maiandacht bei der Grotte
DESCRIPTION:https://pfarreien-bistum-augsburg.df-preview.de/feierliche-maia
 ndacht-bei-der-grotte_id1752527
DTSTART;TZID=Europe/Berlin:20260517T183000
DURATION:PT30M
LOCATION:St. Michael\, Augsburger Str.\, 86568 Hollenbach
END:VEVENT
BEGIN:VEVENT
UID:sabre-vobject-4337d48b-455f-44a6-8146-f4aa72b31266
DTSTAMP:20260422T173033Z
SUMMARY:Bittgang nach St. Jodok\, dort Bittmesse\n
DESCRIPTION:https://pfarreien-bistum-augsburg.df-preview.de/bittgang-nach-s
 t-jodok-dort-bittmesse_id1752528
DTSTART;TZID=Europe/Berlin:20260519T183000
DURATION:PT30M
LOCATION:St. Michael\, Augsburger Str.\, 86568 Hollenbach
END:VEVENT
BEGIN:VEVENT
UID:sabre-vobject-7c454c7d-4dd1-4cbc-b9b3-438b0caf7119
DTSTAMP:20260422T173033Z
SUMMARY:Bibelkreis im Pfarrzentrum in Hollenbach
DESCRIPTION:https://pfarreien-bistum-augsburg.df-preview.de/bibelkreis-im-p
 farrzentrum-in-hollenbach_id1752529
DTSTART;TZID=Europe/Berlin:20260519T200000
DURATION:PT30M
LOCATION:St. Michael\, Augsburger Str.\, 86568 Hollenbach
END:VEVENT
BEGIN:VEVENT
UID:sabre-vobject-692e8743-87d5-4949-b29c-2fe9ac7f0996
DTSTAMP:20260422T173033Z
SUMMARY:Hl. Messe in Motzenhofen zum "Maiausflug" der Mitarbeiterinnen und 
 Mitarbeiter der Kirchenstiftungen sowie aller Mitglieder der Pfarrgemeinde
 räte und Kirchenverwaltungen.\nAnschließend Einkeh
DESCRIPTION:https://pfarreien-bistum-augsburg.df-preview.de/hl-messe-in-mot
 zenhofen-zum-maiausflug-der-mitarbeiterinnen-und-mitarbeiter-der-kirchenst
 iftungen-sowie-aller-mitglieder-der-pfarrgemeinderaete-und-kirchenverwaltu
 ngen-anschliessend-einkeh_id1752530
DTSTART;TZID=Europe/Berlin:20260520T190000
DURATION:PT30M
LOCATION:St. Michael\, Augsburger Str.\, 86568 Hollenbach
END:VEVENT
BEGIN:VEVENT
UID:sabre-vobject-7033c0b0-ec2f-40ba-9e44-f4bee5bf30df
DTSTAMP:20260422T173033Z
SUMMARY:Flurumgang
DESCRIPTION:https://pfarreien-bistum-augsburg.df-preview.de/flurumgang_id17
 52531
DTSTART;TZID=Europe/Berlin:20260522T183000
DURATION:PT30M
LOCATION:St. Michael\, Augsburger Str.\, 86568 Hollenbach
END:VEVENT
BEGIN:VEVENT
UID:sabre-vobject-c3264792-7fcc-4d8c-9f7b-963d3529f3a4
DTSTAMP:20260422T173033Z
SUMMARY:Hl. Messe
DESCRIPTION:https://pfarreien-bistum-augsburg.df-preview.de/hl-messe_id1752
 532
DTSTART;TZID=Europe/Berlin:20260522T190000
DURATION:PT30M
LOCATION:St. Michael\, Augsburger Str.\, 86568 Hollenbach
END:VEVENT
END:VCALENDAR
