BEGIN:VCALENDAR
VERSION:2.0
PRODID:-//Sabre//Sabre VObject 4.5.8//EN
CALSCALE:GREGORIAN
NAME:Bistum Augsburg
X-WR-CALNAME:Bistum Augsburg
BEGIN:VEVENT
UID:sabre-vobject-833ae72f-0571-405f-90bc-e4039fb8ec3a
DTSTAMP:20260420T140731Z
SUMMARY:Rosenkranz
DESCRIPTION:https://pfarreien-bistum-augsburg.df-preview.de/rosenkranz_id17
 20669
DTSTART;TZID=Europe/Berlin:20260420T175500
DURATION:PT30M
LOCATION:St. Martin
END:VEVENT
BEGIN:VEVENT
UID:sabre-vobject-a18eefb9-16f3-4597-9a45-5cd91e8db5cf
DTSTAMP:20260420T140731Z
SUMMARY:Heilige Messe
DESCRIPTION:https://pfarreien-bistum-augsburg.df-preview.de/heilige-messe_i
 d1720670
DTSTART;TZID=Europe/Berlin:20260420T183000
DURATION:PT30M
LOCATION:St. Martin
END:VEVENT
BEGIN:VEVENT
UID:sabre-vobject-562529d7-8d92-421a-9c58-739d404d93a0
DTSTAMP:20260420T140731Z
SUMMARY:Heilige Messe im Oratorium
DESCRIPTION:https://pfarreien-bistum-augsburg.df-preview.de/heilige-messe-i
 m-oratorium_id1720671
DTSTART;TZID=Europe/Berlin:20260420T190000
DURATION:PT30M
LOCATION:St. Martin
END:VEVENT
BEGIN:VEVENT
UID:sabre-vobject-0960ff95-87dd-40c5-907c-1490c2dc40a2
DTSTAMP:20260420T140731Z
SUMMARY:Gottesdienst anlässlich der Diamantenen Hochzeit von Margot und Ad
 am Krebs - Veröffentlichung noch ??
DESCRIPTION:https://pfarreien-bistum-augsburg.df-preview.de/gottesdienst-an
 laesslich-der-diamantenen-hochzeit-von-margot-und-adam-krebs-veroeffentlic
 hung-noch_id1720672
DTSTART;TZID=Europe/Berlin:20260421T110000
DURATION:PT30M
LOCATION:Kongregationskirchenstiftung St. Cosmas und Damian\, Oberbeurer We
 g 1\, 87600 Kaufbeuren
END:VEVENT
BEGIN:VEVENT
UID:sabre-vobject-950811fd-6bd4-42c0-9412-0f57c0b0c804
DTSTAMP:20260420T140731Z
SUMMARY:Seniorengottesdienst
DESCRIPTION:https://pfarreien-bistum-augsburg.df-preview.de/seniorengottesd
 ienst_id1720675
DTSTART;TZID=Europe/Berlin:20260421T143000
DURATION:PT30M
LOCATION:St. Martin
END:VEVENT
BEGIN:VEVENT
UID:sabre-vobject-f14f8ba7-c2de-4b97-b1e0-ae7dcc42d1da
DTSTAMP:20260420T140731Z
SUMMARY:Atem holen am Abend - besinnliche Abendandacht
DESCRIPTION:https://pfarreien-bistum-augsburg.df-preview.de/atem-holen-am-a
 bend-besinnliche-abendandacht_id1720676
DTSTART;TZID=Europe/Berlin:20260421T170000
DURATION:PT30M
LOCATION:St. Thomas\, Thomasplatz 2\, 87600 Kaufbeuren
END:VEVENT
BEGIN:VEVENT
UID:sabre-vobject-3d9c562c-d7e6-4499-8a49-0149d859a2cb
DTSTAMP:20260420T140731Z
SUMMARY:Heilige Messe
DESCRIPTION:https://pfarreien-bistum-augsburg.df-preview.de/heilige-messe_i
 d1720622
DTSTART;TZID=Europe/Berlin:20260421T180000
DURATION:PT30M
LOCATION:St. Dionysius
END:VEVENT
BEGIN:VEVENT
UID:sabre-vobject-34ee9b21-6fb9-430b-bb11-3b4b26f43506
DTSTAMP:20260420T140731Z
SUMMARY:Beichtgelegenheit
DESCRIPTION:https://pfarreien-bistum-augsburg.df-preview.de/beichtgelegenhe
 it_id1720765
DTSTART;TZID=Europe/Berlin:20260421T183000
DURATION:PT30M
LOCATION:St. Ulrich\, Gartenweg 30\, 87600 Kaufbeuren
END:VEVENT
BEGIN:VEVENT
UID:sabre-vobject-1dbc5b1a-f3e2-467c-bde0-8d0dfb8f618c
DTSTAMP:20260420T140731Z
SUMMARY:Heilige Messe
DESCRIPTION:https://pfarreien-bistum-augsburg.df-preview.de/heilige-messe_i
 d1720766
DTSTART;TZID=Europe/Berlin:20260421T190000
DURATION:PT30M
LOCATION:St. Ulrich\, Gartenweg 30\, 87600 Kaufbeuren
END:VEVENT
BEGIN:VEVENT
UID:sabre-vobject-fe9a30cd-5766-43a1-828f-bcf9a3d25f8d
DTSTAMP:20260420T140731Z
SUMMARY:Heilige Messe
DESCRIPTION:https://pfarreien-bistum-augsburg.df-preview.de/heilige-messe_i
 d1720677
DTSTART;TZID=Europe/Berlin:20260422T091500
DURATION:PT30M
LOCATION:Gottesackerkirchenstiftung Heilig Kreuz\, Ganghoferstr. 30\, 87600
  Kaufbeuren
END:VEVENT
BEGIN:VEVENT
UID:sabre-vobject-94a6da40-cdf1-4de3-b738-ab2025de6eab
DTSTAMP:20260420T140731Z
SUMMARY:Wort-Gottes-Feier
DESCRIPTION:https://pfarreien-bistum-augsburg.df-preview.de/wort-gottes-fei
 er_id1720678
DTSTART;TZID=Europe/Berlin:20260422T180000
DURATION:PT30M
LOCATION:St. Martin
END:VEVENT
BEGIN:VEVENT
UID:sabre-vobject-5913fa27-34b7-4514-89ae-dcfad3bf20a5
DTSTAMP:20260420T140731Z
SUMMARY:Rosenkranz
DESCRIPTION:https://pfarreien-bistum-augsburg.df-preview.de/rosenkranz_id17
 20738
DTSTART;TZID=Europe/Berlin:20260422T182500
DURATION:PT30M
LOCATION:St. Peter und Paul
END:VEVENT
BEGIN:VEVENT
UID:sabre-vobject-d5c520f2-801e-4cf8-9759-4210402bb815
DTSTAMP:20260420T140731Z
SUMMARY:Beichtgelegenheit
DESCRIPTION:https://pfarreien-bistum-augsburg.df-preview.de/beichtgelegenhe
 it_id1720739
DTSTART;TZID=Europe/Berlin:20260422T183000
DURATION:PT30M
LOCATION:St. Peter und Paul
END:VEVENT
BEGIN:VEVENT
UID:sabre-vobject-279cc38f-953e-413a-9002-128b037a6122
DTSTAMP:20260420T140731Z
SUMMARY:Heilige Messe
DESCRIPTION:https://pfarreien-bistum-augsburg.df-preview.de/heilige-messe_i
 d1720679
DTSTART;TZID=Europe/Berlin:20260422T190000
DURATION:PT30M
LOCATION:St. Martin
END:VEVENT
BEGIN:VEVENT
UID:sabre-vobject-fbeaab39-59d0-4929-8055-71a91ae2d041
DTSTAMP:20260420T140731Z
SUMMARY:Heilige Messe
DESCRIPTION:https://pfarreien-bistum-augsburg.df-preview.de/heilige-messe_i
 d1720740
DTSTART;TZID=Europe/Berlin:20260422T190000
DURATION:PT30M
LOCATION:St. Peter und Paul
END:VEVENT
BEGIN:VEVENT
UID:sabre-vobject-082d74aa-1975-4212-b66f-1a65ff75da64
DTSTAMP:20260420T140731Z
SUMMARY:Heilige Messe\, anschl. Aussetzung des Allerheiligsten\; \nStille A
 nbetung bis 11:45 Uhr
DESCRIPTION:https://pfarreien-bistum-augsburg.df-preview.de/heilige-messe-a
 nschl-aussetzung-des-allerheiligsten-stille-anbetung-bis-11-45-uhr_id17206
 80
DTSTART;TZID=Europe/Berlin:20260423T081500
DURATION:PT30M
LOCATION:St. Martin
END:VEVENT
BEGIN:VEVENT
UID:sabre-vobject-96df434b-f0b2-46f9-9e69-8a0b4ccaa7c0
DTSTAMP:20260420T140731Z
SUMMARY:Beichtgelegenheit
DESCRIPTION:https://pfarreien-bistum-augsburg.df-preview.de/beichtgelegenhe
 it_id1720682
DTSTART;TZID=Europe/Berlin:20260423T100000
DURATION:PT30M
LOCATION:St. Martin
END:VEVENT
BEGIN:VEVENT
UID:sabre-vobject-ce0776f5-b049-42ad-be7a-7f1d6ca1e76c
DTSTAMP:20260420T140731Z
SUMMARY:Vesper
DESCRIPTION:https://pfarreien-bistum-augsburg.df-preview.de/vesper_id172068
 3
DTSTART;TZID=Europe/Berlin:20260423T170000
DURATION:PT30M
LOCATION:St. Martin
END:VEVENT
BEGIN:VEVENT
UID:sabre-vobject-998ac68e-6460-4ec7-8184-a744cc817483
DTSTAMP:20260420T140731Z
SUMMARY:Rosenkranz
DESCRIPTION:https://pfarreien-bistum-augsburg.df-preview.de/rosenkranz_id17
 20623
DTSTART;TZID=Europe/Berlin:20260423T180000
DURATION:PT30M
LOCATION:St. Dionysius
END:VEVENT
BEGIN:VEVENT
UID:sabre-vobject-fc932898-1f6d-4016-9fd4-99766f0a3e2b
DTSTAMP:20260420T140731Z
SUMMARY:Beichtgelegenheit
DESCRIPTION:https://pfarreien-bistum-augsburg.df-preview.de/beichtgelegenhe
 it_id1719590
DTSTART;TZID=Europe/Berlin:20260423T183000
DURATION:PT30M
LOCATION:Heilige Familie\, Am Sonneneck 45\, 87600 Kaufbeuren
END:VEVENT
BEGIN:VEVENT
UID:sabre-vobject-d35246d1-9806-4796-8bce-109f68539341
DTSTAMP:20260420T140731Z
SUMMARY:Rosenkranz für geistliche Berufungen
DESCRIPTION:https://pfarreien-bistum-augsburg.df-preview.de/rosenkranz-fuer
 -geistliche-berufungen_id1719592
DTSTART;TZID=Europe/Berlin:20260423T183000
DURATION:PT30M
LOCATION:Heilige Familie\, Am Sonneneck 45\, 87600 Kaufbeuren
END:VEVENT
BEGIN:VEVENT
UID:sabre-vobject-1a6d4b63-0fb0-40b1-8ae8-e19349f70cdd
DTSTAMP:20260420T140731Z
SUMMARY:Heilige Messe
DESCRIPTION:https://pfarreien-bistum-augsburg.df-preview.de/heilige-messe_i
 d1719593
DTSTART;TZID=Europe/Berlin:20260423T190000
DURATION:PT30M
LOCATION:Heilige Familie\, Am Sonneneck 45\, 87600 Kaufbeuren
END:VEVENT
BEGIN:VEVENT
UID:sabre-vobject-71f8de65-d136-4522-b68e-3b40bc70283c
DTSTAMP:20260420T140731Z
SUMMARY:Taizegebet
DESCRIPTION:https://pfarreien-bistum-augsburg.df-preview.de/taizegebet_id17
 20741
DTSTART;TZID=Europe/Berlin:20260423T190000
DURATION:PT30M
LOCATION:St. Peter und Paul
END:VEVENT
BEGIN:VEVENT
UID:sabre-vobject-81a04a15-911e-4ee8-b9c4-35bfc15dff54
DTSTAMP:20260420T140731Z
SUMMARY:Heilige Messe
DESCRIPTION:https://pfarreien-bistum-augsburg.df-preview.de/heilige-messe_i
 d1719704
DTSTART;TZID=Europe/Berlin:20260423T191500
DURATION:PT30M
LOCATION:St. Thomas\, Thomasplatz 2\, 87600 Kaufbeuren
END:VEVENT
BEGIN:VEVENT
UID:sabre-vobject-59dc5bab-a81f-499d-b49e-627cdebe539c
DTSTAMP:20260420T140731Z
SUMMARY:Heilige Messe
DESCRIPTION:https://pfarreien-bistum-augsburg.df-preview.de/heilige-messe_i
 d1720767
DTSTART;TZID=Europe/Berlin:20260424T090000
DURATION:PT30M
LOCATION:St. Ulrich\, Gartenweg 30\, 87600 Kaufbeuren
END:VEVENT
BEGIN:VEVENT
UID:sabre-vobject-cb0abb01-e32a-4fb1-805a-0ea686057a9d
DTSTAMP:20260420T140731Z
SUMMARY:Rosenkranz\, anschl. Charismatischer Gottesdienst mit Beichtgelegen
 heit
DESCRIPTION:https://pfarreien-bistum-augsburg.df-preview.de/rosenkranz-ansc
 hl-charismatischer-gottesdienst-mit-beichtgelegenheit_id1719597
DTSTART;TZID=Europe/Berlin:20260424T183000
DURATION:PT30M
LOCATION:Heilige Familie\, Am Sonneneck 45\, 87600 Kaufbeuren
END:VEVENT
BEGIN:VEVENT
UID:sabre-vobject-55da1fa2-e65e-4177-87b3-1d20edb1b1f3
DTSTAMP:20260420T140731Z
SUMMARY:Heilige Messe in den Anliegen aller\, die mit dem Crescentiakloster
  verbunden sind
DESCRIPTION:https://pfarreien-bistum-augsburg.df-preview.de/heilige-messe-i
 n-den-anliegen-aller-die-mit-dem-crescentiakloster-verbunden-sind_id172068
 4
DTSTART;TZID=Europe/Berlin:20260424T190000
DURATION:PT30M
LOCATION:St. Martin
END:VEVENT
BEGIN:VEVENT
UID:sabre-vobject-16840901-215f-43fb-b5da-a3a55d00716a
DTSTAMP:20260420T140731Z
SUMMARY:Kinderbibelnacht Abschluss in der Kirche
DESCRIPTION:https://pfarreien-bistum-augsburg.df-preview.de/kinderbibelnach
 t-abschluss-in-der-kirche_id1720755
DTSTART;TZID=Europe/Berlin:20260424T200000
DURATION:PT30M
LOCATION:St. Ulrich\, Gartenweg 30\, 87600 Kaufbeuren
END:VEVENT
BEGIN:VEVENT
UID:sabre-vobject-3a190dd0-b527-4da2-9be4-a2a123ee4621
DTSTAMP:20260420T140731Z
SUMMARY:Beichtgelegenheit
DESCRIPTION:https://pfarreien-bistum-augsburg.df-preview.de/beichtgelegenhe
 it_id1720685
DTSTART;TZID=Europe/Berlin:20260425T100000
DURATION:PT30M
LOCATION:St. Martin
END:VEVENT
BEGIN:VEVENT
UID:sabre-vobject-22dabff3-940b-44d4-9e59-01da6ea9e603
DTSTAMP:20260420T140731Z
SUMMARY:Rosenkranz
DESCRIPTION:https://pfarreien-bistum-augsburg.df-preview.de/rosenkranz_id17
 20686
DTSTART;TZID=Europe/Berlin:20260425T103000
DURATION:PT30M
LOCATION:St. Martin
END:VEVENT
BEGIN:VEVENT
UID:sabre-vobject-58c2bac0-8842-4223-baae-dbe08a91d619
DTSTAMP:20260420T140731Z
SUMMARY:Heilige Messe
DESCRIPTION:https://pfarreien-bistum-augsburg.df-preview.de/heilige-messe_i
 d1720687
DTSTART;TZID=Europe/Berlin:20260425T110000
DURATION:PT30M
LOCATION:St. Martin
END:VEVENT
BEGIN:VEVENT
UID:sabre-vobject-ca9c5527-1e1f-4bda-8d2e-52cb93a7623b
DTSTAMP:20260420T140731Z
SUMMARY:Vorabendmesse
DESCRIPTION:https://pfarreien-bistum-augsburg.df-preview.de/vorabendmesse_i
 d1720688
DTSTART;TZID=Europe/Berlin:20260425T170000
DURATION:PT30M
LOCATION:St. Martin
END:VEVENT
BEGIN:VEVENT
UID:sabre-vobject-d7412c55-1179-4ced-8c62-78db32995f3b
DTSTAMP:20260420T140731Z
SUMMARY:Schöpfungsgottesdienst (Pfarrgottesdienst für die Lebenden und Ve
 rstorbenen der Pfarreiengemeinschaft)\, anschl. Fahrradsegnung
DESCRIPTION:https://pfarreien-bistum-augsburg.df-preview.de/schoepfungsgott
 esdienst-pfarrgottesdienst-fuer-die-lebenden-und-verstorbenen-der-pfarreie
 ngemeinschaft-anschl-fahrradsegnung_id1720742
DTSTART;TZID=Europe/Berlin:20260425T170000
DURATION:PT30M
LOCATION:St. Peter und Paul
END:VEVENT
BEGIN:VEVENT
UID:sabre-vobject-72d7f818-d5e7-40b4-b89a-971ab6461460
DTSTAMP:20260420T140731Z
SUMMARY:Vorabendmesse
DESCRIPTION:https://pfarreien-bistum-augsburg.df-preview.de/vorabendmesse_i
 d1720624
DTSTART;TZID=Europe/Berlin:20260425T183000
DURATION:PT30M
LOCATION:St. Dionysius
END:VEVENT
BEGIN:VEVENT
UID:sabre-vobject-8085ae4f-06ec-49db-b24f-c59d5bec8599
DTSTAMP:20260420T140731Z
SUMMARY:Wort-Gottes-Feier
DESCRIPTION:https://pfarreien-bistum-augsburg.df-preview.de/wort-gottes-fei
 er_id1720689
DTSTART;TZID=Europe/Berlin:20260426T090000
DURATION:PT30M
LOCATION:St. Thomas\, Thomasplatz 2\, 87600 Kaufbeuren
END:VEVENT
BEGIN:VEVENT
UID:sabre-vobject-ef3049b1-f95b-42e4-b4f7-875c97059d79
DTSTAMP:20260420T140731Z
SUMMARY:Heilige Messe mit Feier der Goldenen Hochzeit von Theresia u. Manfr
 ed Klamt
DESCRIPTION:https://pfarreien-bistum-augsburg.df-preview.de/heilige-messe-m
 it-feier-der-goldenen-hochzeit-von-theresia-u-manfred-klamt_id1720577
DTSTART;TZID=Europe/Berlin:20260426T100000
DURATION:PT30M
LOCATION:St. Ulrich\, Gartenweg 30\, 87600 Kaufbeuren
END:VEVENT
BEGIN:VEVENT
UID:sabre-vobject-dfdcfac9-127e-40d3-b06a-2ccbb00f71dd
DTSTAMP:20260420T140731Z
SUMMARY:Crescentiafest Pontifikalgottesdienst mit Bischof Dr. Bertram Meier
 \, musik. gest. vom MartinsChor und -orchester
DESCRIPTION:https://pfarreien-bistum-augsburg.df-preview.de/crescentiafest-
 pontifikalgottesdienst-mit-bischof-dr-bertram-meier-musik-gest-vom-martins
 chor-und-orchester_id1720690
DTSTART;TZID=Europe/Berlin:20260426T100000
DURATION:PT30M
LOCATION:St. Martin
END:VEVENT
BEGIN:VEVENT
UID:sabre-vobject-f1ca8592-5ca9-468b-a707-3a5658d66336
DTSTAMP:20260420T140731Z
SUMMARY:Eucharistiefeier
DESCRIPTION:https://pfarreien-bistum-augsburg.df-preview.de/eucharistiefeie
 r_id1720691
DTSTART;TZID=Europe/Berlin:20260426T100000
DURATION:PT30M
LOCATION:St. Martin
END:VEVENT
BEGIN:VEVENT
UID:sabre-vobject-0c548a95-9129-4238-830c-1ac414688a68
DTSTAMP:20260420T140731Z
SUMMARY:Heilige Messe
DESCRIPTION:https://pfarreien-bistum-augsburg.df-preview.de/heilige-messe_i
 d1720692
DTSTART;TZID=Europe/Berlin:20260426T190000
DURATION:PT30M
LOCATION:St. Martin
END:VEVENT
BEGIN:VEVENT
UID:sabre-vobject-347e1b19-c38c-4481-a4aa-844109e260bc
DTSTAMP:20260420T140731Z
SUMMARY:Rosenkranz
DESCRIPTION:https://pfarreien-bistum-augsburg.df-preview.de/rosenkranz_id17
 20681
DTSTART;TZID=Europe/Berlin:20260427T175500
DURATION:PT30M
LOCATION:St. Martin
END:VEVENT
BEGIN:VEVENT
UID:sabre-vobject-b14088b5-de2d-48b5-8475-e914f2424e1f
DTSTAMP:20260420T140731Z
SUMMARY:Heilige Messe
DESCRIPTION:https://pfarreien-bistum-augsburg.df-preview.de/heilige-messe_i
 d1720699
DTSTART;TZID=Europe/Berlin:20260427T183000
DURATION:PT30M
LOCATION:St. Martin
END:VEVENT
BEGIN:VEVENT
UID:sabre-vobject-f568ac09-3c0d-479b-ad61-26644239e7d9
DTSTAMP:20260420T140731Z
SUMMARY:Heilige Messe im Oratorium
DESCRIPTION:https://pfarreien-bistum-augsburg.df-preview.de/heilige-messe-i
 m-oratorium_id1720700
DTSTART;TZID=Europe/Berlin:20260427T190000
DURATION:PT30M
LOCATION:St. Martin
END:VEVENT
BEGIN:VEVENT
UID:sabre-vobject-9527ebc9-154b-4aee-9857-7a253060b9be
DTSTAMP:20260420T140731Z
SUMMARY:Atem holen am Abend - besinnliche Abendandacht
DESCRIPTION:https://pfarreien-bistum-augsburg.df-preview.de/atem-holen-am-a
 bend-besinnliche-abendandacht_id1720701
DTSTART;TZID=Europe/Berlin:20260428T170000
DURATION:PT30M
LOCATION:St. Thomas\, Thomasplatz 2\, 87600 Kaufbeuren
END:VEVENT
BEGIN:VEVENT
UID:sabre-vobject-1f3d487e-162a-411a-9cc1-5ab5f1a89af6
DTSTAMP:20260420T140731Z
SUMMARY:Heilige Messe
DESCRIPTION:https://pfarreien-bistum-augsburg.df-preview.de/heilige-messe_i
 d1720625
DTSTART;TZID=Europe/Berlin:20260428T180000
DURATION:PT30M
LOCATION:St. Dionysius
END:VEVENT
BEGIN:VEVENT
UID:sabre-vobject-b1e2963e-0a54-4f8a-8595-7a6c5f7d8fc7
DTSTAMP:20260420T140731Z
SUMMARY:Beichtgelegenheit
DESCRIPTION:https://pfarreien-bistum-augsburg.df-preview.de/beichtgelegenhe
 it_id1720578
DTSTART;TZID=Europe/Berlin:20260428T183000
DURATION:PT30M
LOCATION:St. Ulrich\, Gartenweg 30\, 87600 Kaufbeuren
END:VEVENT
BEGIN:VEVENT
UID:sabre-vobject-832dc1b8-7722-41f3-9422-b6cb9fbe12ae
DTSTAMP:20260420T140731Z
SUMMARY:Heilige Messe
DESCRIPTION:https://pfarreien-bistum-augsburg.df-preview.de/heilige-messe_i
 d1720501
DTSTART;TZID=Europe/Berlin:20260428T190000
DURATION:PT30M
LOCATION:St. Ulrich\, Gartenweg 30\, 87600 Kaufbeuren
END:VEVENT
BEGIN:VEVENT
UID:sabre-vobject-87329c95-458d-4a10-b1ec-79b97108cf53
DTSTAMP:20260420T140731Z
SUMMARY:Heilige Messe
DESCRIPTION:https://pfarreien-bistum-augsburg.df-preview.de/heilige-messe_i
 d1720702
DTSTART;TZID=Europe/Berlin:20260429T091500
DURATION:PT30M
LOCATION:Gottesackerkirchenstiftung Heilig Kreuz\, Ganghoferstr. 30\, 87600
  Kaufbeuren
END:VEVENT
BEGIN:VEVENT
UID:sabre-vobject-b3b6ef5b-54d5-4ee9-aa72-2c3e3140daef
DTSTAMP:20260420T140731Z
SUMMARY:Wort-Gottes-Feier
DESCRIPTION:https://pfarreien-bistum-augsburg.df-preview.de/wort-gottes-fei
 er_id1720704
DTSTART;TZID=Europe/Berlin:20260429T180000
DURATION:PT30M
LOCATION:St. Martin
END:VEVENT
BEGIN:VEVENT
UID:sabre-vobject-eb5b9604-fc19-4117-8746-b184ccf7593f
DTSTAMP:20260420T140731Z
SUMMARY:Rosenkranz
DESCRIPTION:https://pfarreien-bistum-augsburg.df-preview.de/rosenkranz_id17
 20743
DTSTART;TZID=Europe/Berlin:20260429T182500
DURATION:PT30M
LOCATION:St. Peter und Paul
END:VEVENT
BEGIN:VEVENT
UID:sabre-vobject-ede4b884-73bd-4326-8b94-5f21b8951f66
DTSTAMP:20260420T140731Z
SUMMARY:Beichtgelegenheit
DESCRIPTION:https://pfarreien-bistum-augsburg.df-preview.de/beichtgelegenhe
 it_id1720744
DTSTART;TZID=Europe/Berlin:20260429T183000
DURATION:PT30M
LOCATION:St. Peter und Paul
END:VEVENT
BEGIN:VEVENT
UID:sabre-vobject-0bf80fa1-2cb7-4b7d-aade-03807bc983c6
DTSTAMP:20260420T140731Z
SUMMARY:Gebetskreis (Rosenkranz\, Vesper\, Anbetung) - Treffpunkt Sakristei
DESCRIPTION:https://pfarreien-bistum-augsburg.df-preview.de/gebetskreis-ros
 enkranz-vesper-anbetung-treffpunkt-sakristei_id1720703
DTSTART;TZID=Europe/Berlin:20260429T190000
DURATION:PT30M
LOCATION:St. Martin
END:VEVENT
BEGIN:VEVENT
UID:sabre-vobject-e87088a6-9626-476c-b83f-15873c093174
DTSTAMP:20260420T140731Z
SUMMARY:Heilige Messe
DESCRIPTION:https://pfarreien-bistum-augsburg.df-preview.de/heilige-messe_i
 d1720705
DTSTART;TZID=Europe/Berlin:20260429T190000
DURATION:PT30M
LOCATION:St. Martin
END:VEVENT
BEGIN:VEVENT
UID:sabre-vobject-ca2d05b2-bdd2-47e0-a676-86b6ca861411
DTSTAMP:20260420T140731Z
SUMMARY:Heilige Messe
DESCRIPTION:https://pfarreien-bistum-augsburg.df-preview.de/heilige-messe_i
 d1720750
DTSTART;TZID=Europe/Berlin:20260429T190000
DURATION:PT30M
LOCATION:St. Peter und Paul
END:VEVENT
BEGIN:VEVENT
UID:sabre-vobject-d5952e94-fee1-4fcb-9016-fbc378d6c2ec
DTSTAMP:20260420T140731Z
SUMMARY:Heilige Messe\, anschl. Aussetzung des Allerheiligsten\; \nStille A
 nbetung bis 11:45 Uhr
DESCRIPTION:https://pfarreien-bistum-augsburg.df-preview.de/heilige-messe-a
 nschl-aussetzung-des-allerheiligsten-stille-anbetung-bis-11-45-uhr_id17207
 07
DTSTART;TZID=Europe/Berlin:20260430T081500
DURATION:PT30M
LOCATION:St. Martin
END:VEVENT
BEGIN:VEVENT
UID:sabre-vobject-300bd86b-a289-449e-b726-957ad71211fb
DTSTAMP:20260420T140731Z
SUMMARY:Beichtgelegenheit
DESCRIPTION:https://pfarreien-bistum-augsburg.df-preview.de/beichtgelegenhe
 it_id1720708
DTSTART;TZID=Europe/Berlin:20260430T100000
DURATION:PT30M
LOCATION:St. Martin
END:VEVENT
BEGIN:VEVENT
UID:sabre-vobject-3567a4d2-48ba-48b9-9d41-92281f8e69f0
DTSTAMP:20260420T140731Z
SUMMARY:Vesper
DESCRIPTION:https://pfarreien-bistum-augsburg.df-preview.de/vesper_id172070
 9
DTSTART;TZID=Europe/Berlin:20260430T170000
DURATION:PT30M
LOCATION:St. Martin
END:VEVENT
BEGIN:VEVENT
UID:sabre-vobject-9c020410-6363-45c6-b953-49debd49bda9
DTSTAMP:20260420T140731Z
SUMMARY:Beichtgelegenheit
DESCRIPTION:https://pfarreien-bistum-augsburg.df-preview.de/beichtgelegenhe
 it_id1719600
DTSTART;TZID=Europe/Berlin:20260430T183000
DURATION:PT30M
LOCATION:Heilige Familie\, Am Sonneneck 45\, 87600 Kaufbeuren
END:VEVENT
BEGIN:VEVENT
UID:sabre-vobject-07e64e5c-1380-4301-8b9f-a8eaaa8c4365
DTSTAMP:20260420T140731Z
SUMMARY:Rosenkranz für geistliche Berufungen
DESCRIPTION:https://pfarreien-bistum-augsburg.df-preview.de/rosenkranz-fuer
 -geistliche-berufungen_id1719615
DTSTART;TZID=Europe/Berlin:20260430T183000
DURATION:PT30M
LOCATION:Heilige Familie\, Am Sonneneck 45\, 87600 Kaufbeuren
END:VEVENT
BEGIN:VEVENT
UID:sabre-vobject-302eb80d-ee54-4f3c-8942-e387e7ca11e6
DTSTAMP:20260420T140731Z
SUMMARY:Heilige Messe
DESCRIPTION:https://pfarreien-bistum-augsburg.df-preview.de/heilige-messe_i
 d1719616
DTSTART;TZID=Europe/Berlin:20260430T190000
DURATION:PT30M
LOCATION:Heilige Familie\, Am Sonneneck 45\, 87600 Kaufbeuren
END:VEVENT
BEGIN:VEVENT
UID:sabre-vobject-5261b449-b5c5-4af4-b47b-32076adca095
DTSTAMP:20260420T140731Z
SUMMARY:Heilige Messe
DESCRIPTION:https://pfarreien-bistum-augsburg.df-preview.de/heilige-messe_i
 d1719705
DTSTART;TZID=Europe/Berlin:20260430T191500
DURATION:PT30M
LOCATION:St. Thomas\, Thomasplatz 2\, 87600 Kaufbeuren
END:VEVENT
END:VCALENDAR
