BEGIN:VCALENDAR
VERSION:2.0
PRODID:-//Sabre//Sabre VObject 4.5.8//EN
CALSCALE:GREGORIAN
NAME:Bistum Augsburg
X-WR-CALNAME:Bistum Augsburg
BEGIN:VEVENT
UID:sabre-vobject-b15bb832-01ab-4555-81db-648565a32a6c
DTSTAMP:20260422T061033Z
SUMMARY:Rosenkranz
DESCRIPTION:https://pfarreien-bistum-augsburg.df-preview.de/rosenkranz_id17
 36387
DTSTART;TZID=Europe/Berlin:20260424T190000
DURATION:PT30M
LOCATION:St. Ulrich und Vitus
END:VEVENT
BEGIN:VEVENT
UID:sabre-vobject-3884a160-4872-4cd4-9e04-4e995be3103e
DTSTAMP:20260422T061033Z
SUMMARY:Heilige Messe
DESCRIPTION:https://pfarreien-bistum-augsburg.df-preview.de/heilige-messe_i
 d1736388
DTSTART;TZID=Europe/Berlin:20260428T190000
DURATION:PT30M
LOCATION:St. Ulrich und Vitus
END:VEVENT
BEGIN:VEVENT
UID:sabre-vobject-f45a2670-a81c-4e91-b5e5-08d4d4adba5e
DTSTAMP:20260422T061033Z
SUMMARY:Rosenkranz
DESCRIPTION:https://pfarreien-bistum-augsburg.df-preview.de/rosenkranz_id17
 36390
DTSTART;TZID=Europe/Berlin:20260501T190000
DURATION:PT30M
LOCATION:St. Ulrich und Vitus
END:VEVENT
END:VCALENDAR
