BEGIN:VCALENDAR
VERSION:2.0
PRODID:-//Sabre//Sabre VObject 4.5.8//EN
CALSCALE:GREGORIAN
NAME:Bistum Augsburg
X-WR-CALNAME:Bistum Augsburg
BEGIN:VEVENT
UID:sabre-vobject-c2e80c0f-032a-4a30-b214-e1eca16b2c47
DTSTAMP:20260421T201534Z
SUMMARY:Pfarrgottesdienst mit Erstkommunion
DESCRIPTION:https://pfarreien-bistum-augsburg.df-preview.de/pfarrgottesdien
 st-mit-erstkommunion_id1744731
DTSTART;TZID=Europe/Berlin:20260426T084500
DURATION:PT30M
LOCATION:St. Andreas\, Hochdorfer Str. 1\, 82278 Althegnenberg
END:VEVENT
BEGIN:VEVENT
UID:sabre-vobject-54a86ac3-fa7a-4141-8317-99d52c4e6456
DTSTAMP:20260421T201535Z
SUMMARY:Krankenkommunion
DESCRIPTION:https://pfarreien-bistum-augsburg.df-preview.de/krankenkommunio
 n_id1744694
DTSTART;TZID=Europe/Berlin:20260430T140000
DURATION:PT30M
LOCATION:St. Andreas\, Hochdorfer Str. 1\, 82278 Althegnenberg
END:VEVENT
BEGIN:VEVENT
UID:sabre-vobject-ab700615-ea74-4e23-a683-f1e026541485
DTSTAMP:20260421T201535Z
SUMMARY:Vorabendmesse
DESCRIPTION:https://pfarreien-bistum-augsburg.df-preview.de/vorabendmesse_i
 d1744695
DTSTART;TZID=Europe/Berlin:20260502T173000
DURATION:PT30M
LOCATION:St. Andreas\, Hochdorfer Str. 1\, 82278 Althegnenberg
END:VEVENT
BEGIN:VEVENT
UID:sabre-vobject-7154e12e-4a5f-4a9f-bcf5-6c22d2e17b36
DTSTAMP:20260421T201535Z
SUMMARY:Wort Gottes Feier
DESCRIPTION:https://pfarreien-bistum-augsburg.df-preview.de/pfarreiengemein
 schaften/baindlkirch/veranstaltungen/wort-gottes-feier_id1698250
DTSTART;TZID=Europe/Berlin:20260917T100000
DURATION:PT30M
LOCATION:Baindlkirch: St. Martin\, St.-Martin-Str. 3\, 86510 Ried
END:VEVENT
END:VCALENDAR
