BEGIN:VCALENDAR
VERSION:2.0
PRODID:-//Sabre//Sabre VObject 4.5.8//EN
CALSCALE:GREGORIAN
NAME:Bistum Augsburg
X-WR-CALNAME:Bistum Augsburg
BEGIN:VEVENT
UID:sabre-vobject-84df333c-17c5-4fef-b1f0-3d38b3acf124
DTSTAMP:20260422T010645Z
SUMMARY:Rosenkranz für unsere Kranken
DESCRIPTION:https://pfarreien-bistum-augsburg.df-preview.de/rosenkranz-fuer
 -unsere-kranken_id1740853
DTSTART;TZID=Europe/Berlin:20260423T184500
DURATION:PT30M
LOCATION:Mariä Heimsuchung
END:VEVENT
BEGIN:VEVENT
UID:sabre-vobject-8ad75a42-bb7c-4a68-92ec-7085787e69c2
DTSTAMP:20260422T010645Z
SUMMARY:Heilige Messe
DESCRIPTION:https://pfarreien-bistum-augsburg.df-preview.de/heilige-messe_i
 d1740820
DTSTART;TZID=Europe/Berlin:20260423T191500
DURATION:PT30M
LOCATION:Mariä Heimsuchung
END:VEVENT
BEGIN:VEVENT
UID:sabre-vobject-0d82f129-89d1-49a7-8792-b3af2cedbebb
DTSTAMP:20260422T010645Z
SUMMARY:Rosenkranz um Priester- und Ordensberufe
DESCRIPTION:https://pfarreien-bistum-augsburg.df-preview.de/rosenkranz-um-p
 riester-und-ordensberufe_id1740821
DTSTART;TZID=Europe/Berlin:20260425T183000
DURATION:PT30M
LOCATION:Mariä Heimsuchung
END:VEVENT
BEGIN:VEVENT
UID:sabre-vobject-1a0c02ce-2d00-4bf5-90bd-bef4b9644ce2
DTSTAMP:20260422T010645Z
SUMMARY:Heilige Messe
DESCRIPTION:https://pfarreien-bistum-augsburg.df-preview.de/heilige-messe_i
 d1740849
DTSTART;TZID=Europe/Berlin:20260425T190000
DURATION:PT30M
LOCATION:Mariä Heimsuchung
END:VEVENT
BEGIN:VEVENT
UID:sabre-vobject-5f513a15-d8b3-42df-a13b-83f528a22022
DTSTAMP:20260422T010645Z
SUMMARY:Rosenkranz
DESCRIPTION:https://pfarreien-bistum-augsburg.df-preview.de/rosenkranz_id17
 40850
DTSTART;TZID=Europe/Berlin:20260426T120000
DURATION:PT30M
LOCATION:Mariä Heimsuchung
END:VEVENT
END:VCALENDAR
