BEGIN:VCALENDAR
VERSION:2.0
PRODID:-//Sabre//Sabre VObject 4.5.8//EN
CALSCALE:GREGORIAN
NAME:Bistum Augsburg
X-WR-CALNAME:Bistum Augsburg
BEGIN:VEVENT
UID:sabre-vobject-93b89c8d-8aa1-4e22-beaf-8d486c4454b1
DTSTAMP:20260421T023044Z
SUMMARY:Rosenkranz
DESCRIPTION:https://pfarreien-bistum-augsburg.df-preview.de/rosenkranz_id17
 14395
DTSTART;TZID=Europe/Berlin:20260422T182500
DURATION:PT30M
LOCATION:St. Margareta
END:VEVENT
BEGIN:VEVENT
UID:sabre-vobject-c2095c01-2e69-4e6f-990c-5177c62b6039
DTSTAMP:20260421T023044Z
SUMMARY:Hl. Messe
DESCRIPTION:https://pfarreien-bistum-augsburg.df-preview.de/hl-messe_id1714
 396
DTSTART;TZID=Europe/Berlin:20260422T190000
DURATION:PT30M
LOCATION:St. Margareta
END:VEVENT
BEGIN:VEVENT
UID:sabre-vobject-26d09dc6-c8c9-4454-b37e-7afe1a2689f6
DTSTAMP:20260421T023044Z
SUMMARY:Festmesse\, musik. gest. v. Kirchenchor\, f. d. Lebenden und Versto
 rbenen der Pfarreiengemeinschaft\, anschl. Kirchenkaffee
DESCRIPTION:https://pfarreien-bistum-augsburg.df-preview.de/festmesse-musik
 -gest-v-kirchenchor-f-d-lebenden-und-verstorbenen-der-pfarreiengemeinschaf
 t-anschl-kirchenkaffee_id1714397
DTSTART;TZID=Europe/Berlin:20260426T090000
DURATION:PT30M
LOCATION:St. Margareta
END:VEVENT
BEGIN:VEVENT
UID:sabre-vobject-112ba99d-4d76-4896-b9b4-60016874eeb0
DTSTAMP:20260421T023044Z
SUMMARY:Rosenkranz
DESCRIPTION:https://pfarreien-bistum-augsburg.df-preview.de/rosenkranz_id17
 14398
DTSTART;TZID=Europe/Berlin:20260429T182500
DURATION:PT30M
LOCATION:St. Margareta
END:VEVENT
BEGIN:VEVENT
UID:sabre-vobject-4a4cb561-a226-43d7-b69c-bd1396d042cc
DTSTAMP:20260421T023044Z
SUMMARY:Hl. Messe
DESCRIPTION:https://pfarreien-bistum-augsburg.df-preview.de/hl-messe_id1714
 399
DTSTART;TZID=Europe/Berlin:20260429T190000
DURATION:PT30M
LOCATION:St. Margareta
END:VEVENT
END:VCALENDAR
