BEGIN:VCALENDAR
VERSION:2.0
PRODID:-//Sabre//Sabre VObject 4.5.8//EN
CALSCALE:GREGORIAN
NAME:Bistum Augsburg
X-WR-CALNAME:Bistum Augsburg
BEGIN:VEVENT
UID:sabre-vobject-cb3aff80-eaff-4fc5-85ec-c12556f58f20
DTSTAMP:20260422T114657Z
SUMMARY:Rosenkranz
DESCRIPTION:https://pfarreien-bistum-augsburg.df-preview.de/rosenkranz_id17
 41191
DTSTART;TZID=Europe/Berlin:20260422T180000
DURATION:PT30M
LOCATION:St. Martin
END:VEVENT
BEGIN:VEVENT
UID:sabre-vobject-3d9e0a71-110e-4517-8751-2aa0b5568242
DTSTAMP:20260422T114657Z
SUMMARY:Erstkommunionfeier\, Heilige Messe für die verst. Angehörigen der
  Erstkommunionkinder                   \n
DESCRIPTION:https://pfarreien-bistum-augsburg.df-preview.de/erstkommunionfe
 ier-heilige-messe-fuer-die-verst-angehoerigen-der-erstkommunionkinder_id17
 48085
DTSTART;TZID=Europe/Berlin:20260426T100000
DURATION:PT30M
LOCATION:St. Martin
END:VEVENT
BEGIN:VEVENT
UID:sabre-vobject-b0435389-cb27-4fa0-aa81-90ad449637d0
DTSTAMP:20260422T114657Z
SUMMARY:- 19.00 Uhr Eucharistische stille Anbetung-Gebetsanliegen wir bitte
 n um den Frieden in der Welt und in den Familien.
DESCRIPTION:https://pfarreien-bistum-augsburg.df-preview.de/19-00-uhr-eucha
 ristische-stille-anbetung-gebetsanliegen-wir-bitten-um-den-frieden-in-der-
 welt-und-in-den-familien_id1748086
DTSTART;TZID=Europe/Berlin:20260428T160000
DURATION:PT30M
LOCATION:St. Martin
END:VEVENT
BEGIN:VEVENT
UID:sabre-vobject-f9660108-b6e4-42d2-a13c-32e284baa0cd
DTSTAMP:20260422T114657Z
SUMMARY:Heilige Messe
DESCRIPTION:https://pfarreien-bistum-augsburg.df-preview.de/heilige-messe_i
 d1748087
DTSTART;TZID=Europe/Berlin:20260428T190000
DURATION:PT30M
LOCATION:St. Martin
END:VEVENT
BEGIN:VEVENT
UID:sabre-vobject-63bb819a-8be0-4151-8112-e8a1a89865a6
DTSTAMP:20260422T114657Z
SUMMARY:Rosenkranz
DESCRIPTION:https://pfarreien-bistum-augsburg.df-preview.de/rosenkranz_id17
 47973
DTSTART;TZID=Europe/Berlin:20260429T180000
DURATION:PT30M
LOCATION:St. Martin
END:VEVENT
END:VCALENDAR
