BEGIN:VCALENDAR
VERSION:2.0
PRODID:-//Sabre//Sabre VObject 4.5.8//EN
CALSCALE:GREGORIAN
NAME:Bistum Augsburg
X-WR-CALNAME:Bistum Augsburg
BEGIN:VEVENT
UID:sabre-vobject-de8de1bd-eb79-4a14-9f13-15b039c58b2f
DTSTAMP:20260420T085819Z
SUMMARY:Rosenkranz
DESCRIPTION:https://pfarreien-bistum-augsburg.df-preview.de/rosenkranz_id17
 20839
DTSTART;TZID=Europe/Berlin:20260421T182500
DURATION:PT30M
LOCATION:Unsere Liebe Frau
END:VEVENT
BEGIN:VEVENT
UID:sabre-vobject-aad5c4c2-6a28-422c-a4a2-3d25a03d84b2
DTSTAMP:20260420T085820Z
SUMMARY:Heilige Messe
DESCRIPTION:https://pfarreien-bistum-augsburg.df-preview.de/heilige-messe_i
 d1720840
DTSTART;TZID=Europe/Berlin:20260421T190000
DURATION:PT30M
LOCATION:Unsere Liebe Frau
END:VEVENT
BEGIN:VEVENT
UID:sabre-vobject-e0ee5aa0-6dd0-4ec6-978d-467e913ff3ff
DTSTAMP:20260420T085820Z
SUMMARY:Rosenkranz in den Anliegen unserer Zeit
DESCRIPTION:https://pfarreien-bistum-augsburg.df-preview.de/rosenkranz-in-d
 en-anliegen-unserer-zeit_id1720841
DTSTART;TZID=Europe/Berlin:20260422T082500
DURATION:PT30M
LOCATION:Unsere Liebe Frau
END:VEVENT
BEGIN:VEVENT
UID:sabre-vobject-264c999d-f2e4-47fe-bd03-54de5d0755bf
DTSTAMP:20260420T085820Z
SUMMARY:Heilige Messe
DESCRIPTION:https://pfarreien-bistum-augsburg.df-preview.de/heilige-messe_i
 d1720842
DTSTART;TZID=Europe/Berlin:20260422T090000
DURATION:PT30M
LOCATION:Unsere Liebe Frau
END:VEVENT
BEGIN:VEVENT
UID:sabre-vobject-6086fa4c-a270-448a-ab92-2eb09c3cdb83
DTSTAMP:20260420T085820Z
SUMMARY:Heilige Messe - anschl. Rosenkranz
DESCRIPTION:https://pfarreien-bistum-augsburg.df-preview.de/heilige-messe-a
 nschl-rosenkranz_id1720843
DTSTART;TZID=Europe/Berlin:20260424T080000
DURATION:PT30M
LOCATION:Unsere Liebe Frau
END:VEVENT
BEGIN:VEVENT
UID:sabre-vobject-6068ed01-1589-46a6-b883-d41fd9e8a997
DTSTAMP:20260420T085820Z
SUMMARY:Feier der Erstkommunion - musikalische Gestaltung: Kinderchor
DESCRIPTION:https://pfarreien-bistum-augsburg.df-preview.de/feier-der-erstk
 ommunion-musikalische-gestaltung-kinderchor_id1720844
DTSTART;TZID=Europe/Berlin:20260426T100000
DURATION:PT30M
LOCATION:Unsere Liebe Frau
END:VEVENT
BEGIN:VEVENT
UID:sabre-vobject-75cc75ec-a934-4da2-b87d-0dfb57ea5898
DTSTAMP:20260420T085820Z
SUMMARY:Dankandacht der Erstkommunionkinder
DESCRIPTION:https://pfarreien-bistum-augsburg.df-preview.de/dankandacht-der
 -erstkommunionkinder_id1720845
DTSTART;TZID=Europe/Berlin:20260426T170000
DURATION:PT30M
LOCATION:Unsere Liebe Frau
END:VEVENT
BEGIN:VEVENT
UID:sabre-vobject-1fd76efe-4d71-4212-aa64-f5dd6ff6382e
DTSTAMP:20260420T085820Z
SUMMARY:Rosenkranz
DESCRIPTION:https://pfarreien-bistum-augsburg.df-preview.de/rosenkranz_id17
 20846
DTSTART;TZID=Europe/Berlin:20260428T182500
DURATION:PT30M
LOCATION:Unsere Liebe Frau
END:VEVENT
BEGIN:VEVENT
UID:sabre-vobject-bde157e2-d664-4d17-af79-b02d67df2d31
DTSTAMP:20260420T085820Z
SUMMARY:Heilige Messe
DESCRIPTION:https://pfarreien-bistum-augsburg.df-preview.de/heilige-messe_i
 d1720847
DTSTART;TZID=Europe/Berlin:20260428T190000
DURATION:PT30M
LOCATION:Unsere Liebe Frau
END:VEVENT
BEGIN:VEVENT
UID:sabre-vobject-4ddf4c00-2f41-443b-a417-0c5eb858b58b
DTSTAMP:20260420T085820Z
SUMMARY:Rosenkranz in den Anliegen unserer Zeit
DESCRIPTION:https://pfarreien-bistum-augsburg.df-preview.de/rosenkranz-in-d
 en-anliegen-unserer-zeit_id1720848
DTSTART;TZID=Europe/Berlin:20260429T082500
DURATION:PT30M
LOCATION:Unsere Liebe Frau
END:VEVENT
BEGIN:VEVENT
UID:sabre-vobject-843840a0-51f2-47da-abe3-1a2df19fc9e6
DTSTAMP:20260420T085820Z
SUMMARY:Heilige Messe
DESCRIPTION:https://pfarreien-bistum-augsburg.df-preview.de/heilige-messe_i
 d1720849
DTSTART;TZID=Europe/Berlin:20260429T090000
DURATION:PT30M
LOCATION:Unsere Liebe Frau
END:VEVENT
BEGIN:VEVENT
UID:sabre-vobject-38668d17-8f39-4c98-b796-1fcbe1400cc2
DTSTAMP:20260420T085820Z
SUMMARY:Heilige Messe
DESCRIPTION:https://pfarreien-bistum-augsburg.df-preview.de/heilige-messe_i
 d1720850
DTSTART;TZID=Europe/Berlin:20260501T090000
DURATION:PT30M
LOCATION:Unsere Liebe Frau
END:VEVENT
BEGIN:VEVENT
UID:sabre-vobject-724ce69e-ada7-4db1-a4bd-6237679256ad
DTSTAMP:20260420T085820Z
SUMMARY:1. feierliche Maiandacht
DESCRIPTION:https://pfarreien-bistum-augsburg.df-preview.de/1-feierliche-ma
 iandacht_id1720852
DTSTART;TZID=Europe/Berlin:20260501T170000
DURATION:PT30M
LOCATION:Unsere Liebe Frau
END:VEVENT
BEGIN:VEVENT
UID:sabre-vobject-9c8bbe17-cd87-4480-8d5c-2157bb243ce3
DTSTAMP:20260420T085820Z
SUMMARY:Festgottesdienst Patrozinium - musikalische Gestaltung: W.A. Mozart
 : Messe in C-Dur KV 317 "Krönungsmesse" Solisten\, Chor und Orchester
DESCRIPTION:https://pfarreien-bistum-augsburg.df-preview.de/festgottesdiens
 t-patrozinium-musikalische-gestaltung-w-a-mozart-messe-in-c-dur-kv-317-kro
 enungsmesse-solisten-chor-und-orchester_id1722330
DTSTART;TZID=Europe/Berlin:20260503T100000
DURATION:PT30M
LOCATION:Unsere Liebe Frau
END:VEVENT
BEGIN:VEVENT
UID:sabre-vobject-0de7ca7d-bbea-402d-b024-52fb2e552e88
DTSTAMP:20260420T085820Z
SUMMARY:Rosenkranz
DESCRIPTION:https://pfarreien-bistum-augsburg.df-preview.de/rosenkranz_id17
 42628
DTSTART;TZID=Europe/Berlin:20260514T095500
DURATION:PT30M
LOCATION:Unsere Liebe Frau
END:VEVENT
BEGIN:VEVENT
UID:sabre-vobject-73269c4c-016f-40a8-ae8d-a19faca24da8
DTSTAMP:20260420T085820Z
SUMMARY:Festgottesdienst
DESCRIPTION:https://pfarreien-bistum-augsburg.df-preview.de/festgottesdiens
 t_id1742845
DTSTART;TZID=Europe/Berlin:20260514T103000
DURATION:PT30M
LOCATION:Unsere Liebe Frau
END:VEVENT
BEGIN:VEVENT
UID:sabre-vobject-85eba120-aa2b-4647-a463-35bc75b7d29e
DTSTAMP:20260420T085820Z
SUMMARY:Heilige Messe - anschl. Rosenkranz
DESCRIPTION:https://pfarreien-bistum-augsburg.df-preview.de/heilige-messe-a
 nschl-rosenkranz_id1742685
DTSTART;TZID=Europe/Berlin:20260515T080000
DURATION:PT30M
LOCATION:Unsere Liebe Frau
END:VEVENT
BEGIN:VEVENT
UID:sabre-vobject-3c88f89b-1df5-4c3b-b258-ba80a5d801f0
DTSTAMP:20260420T085820Z
SUMMARY:Maiandacht
DESCRIPTION:https://pfarreien-bistum-augsburg.df-preview.de/maiandacht_id17
 42613
DTSTART;TZID=Europe/Berlin:20260515T190000
DURATION:PT30M
LOCATION:Unsere Liebe Frau
END:VEVENT
END:VCALENDAR
