BEGIN:VCALENDAR
VERSION:2.0
PRODID:-//Sabre//Sabre VObject 4.5.8//EN
CALSCALE:GREGORIAN
NAME:Bistum Augsburg
X-WR-CALNAME:Bistum Augsburg
BEGIN:VEVENT
UID:sabre-vobject-5a34cd77-9179-4d9a-a346-76b10a405922
DTSTAMP:20260424T002621Z
SUMMARY:Feier der Erstkommunion für die Kinder der Pfarreien Laugna\, Oste
 rbuch und Modeshausen
DESCRIPTION:https://pfarreien-bistum-augsburg.df-preview.de/feier-der-erstk
 ommunion-fuer-die-kinder-der-pfarreien-laugna-osterbuch-und-modeshausen_id
 1747470
DTSTART;TZID=Europe/Berlin:20260425T140000
DURATION:PT30M
LOCATION:St. Michael
END:VEVENT
BEGIN:VEVENT
UID:sabre-vobject-050c8c1e-26e2-4f69-a481-5362495435b9
DTSTAMP:20260424T002621Z
SUMMARY:Taufe
DESCRIPTION:https://pfarreien-bistum-augsburg.df-preview.de/taufe_id1747471
DTSTART;TZID=Europe/Berlin:20260426T114500
DURATION:PT30M
LOCATION:St. Michael
END:VEVENT
BEGIN:VEVENT
UID:sabre-vobject-9c4eba7e-70c9-46b8-8ddf-6b76bc855fa7
DTSTAMP:20260424T002621Z
SUMMARY:Heilige Messe in  Violau
DESCRIPTION:https://pfarreien-bistum-augsburg.df-preview.de/heilige-messe-i
 n-violau_id1747472
DTSTART;TZID=Europe/Berlin:20260501T100000
DURATION:PT30M
LOCATION:St. Michael
END:VEVENT
END:VCALENDAR
