BEGIN:VCALENDAR
VERSION:2.0
PRODID:-//Sabre//Sabre VObject 4.5.8//EN
CALSCALE:GREGORIAN
NAME:Bistum Augsburg
X-WR-CALNAME:Bistum Augsburg
BEGIN:VEVENT
UID:sabre-vobject-cba76177-9ceb-4995-a7ca-c9d10bd6f947
DTSTAMP:20260420T162752Z
SUMMARY:Rosenkranz und Beichtgelegenheit
DESCRIPTION:https://pfarreien-bistum-augsburg.df-preview.de/rosenkranz-und-
 beichtgelegenheit_id1725451
DTSTART;TZID=Europe/Berlin:20260420T182500
DURATION:PT30M
LOCATION:St. Peter und Paul
END:VEVENT
BEGIN:VEVENT
UID:sabre-vobject-d17fa0f7-a01b-42cc-9f0d-d8f9c86bccee
DTSTAMP:20260420T162752Z
SUMMARY:Hl. Messe
DESCRIPTION:https://pfarreien-bistum-augsburg.df-preview.de/hl-messe_id1725
 815
DTSTART;TZID=Europe/Berlin:20260420T190000
DURATION:PT30M
LOCATION:St. Peter und Paul
END:VEVENT
BEGIN:VEVENT
UID:sabre-vobject-1f3a58f6-db8d-4066-8730-e8c8add21cc4
DTSTAMP:20260420T162752Z
SUMMARY:Pfarrnachmittag im Pfarrheim\nThema: "Sicher mobil im Alter"
DESCRIPTION:https://pfarreien-bistum-augsburg.df-preview.de/pfarrnachmittag
 -im-pfarrheim-thema-sicher-mobil-im-alter_id1725817
DTSTART;TZID=Europe/Berlin:20260421T140000
DURATION:PT30M
LOCATION:St. Peter und Paul
END:VEVENT
BEGIN:VEVENT
UID:sabre-vobject-443e7542-6e77-4193-95cd-2701d3f0fa86
DTSTAMP:20260420T162752Z
SUMMARY:Rosenkranz für den Frieden und Beichtgelegenheit
DESCRIPTION:https://pfarreien-bistum-augsburg.df-preview.de/rosenkranz-fuer
 -den-frieden-und-beichtgelegenheit_id1725818
DTSTART;TZID=Europe/Berlin:20260421T182500
DURATION:PT30M
LOCATION:St. Peter und Paul
END:VEVENT
BEGIN:VEVENT
UID:sabre-vobject-52f516b7-c05c-4c0a-b3e4-946c3c6af7c9
DTSTAMP:20260420T162752Z
SUMMARY:Hl. Messe
DESCRIPTION:https://pfarreien-bistum-augsburg.df-preview.de/hl-messe_id1725
 819
DTSTART;TZID=Europe/Berlin:20260421T190000
DURATION:PT30M
LOCATION:St. Peter und Paul
END:VEVENT
BEGIN:VEVENT
UID:sabre-vobject-a0c08f36-88c6-4f2e-a9a9-5e6811963941
DTSTAMP:20260420T162752Z
SUMMARY:Hl. Messe
DESCRIPTION:https://pfarreien-bistum-augsburg.df-preview.de/hl-messe_id1725
 820
DTSTART;TZID=Europe/Berlin:20260422T080000
DURATION:PT30M
LOCATION:St. Peter und Paul
END:VEVENT
BEGIN:VEVENT
UID:sabre-vobject-45a55dc7-5654-430e-8309-2a4790424387
DTSTAMP:20260420T162752Z
SUMMARY:Rosenkranz
DESCRIPTION:https://pfarreien-bistum-augsburg.df-preview.de/rosenkranz_id17
 25821
DTSTART;TZID=Europe/Berlin:20260423T182500
DURATION:PT30M
LOCATION:St. Peter und Paul
END:VEVENT
BEGIN:VEVENT
UID:sabre-vobject-d64b38d8-c17d-432d-b092-cb00de48f299
DTSTAMP:20260420T162752Z
SUMMARY:Rosenkranz
DESCRIPTION:https://pfarreien-bistum-augsburg.df-preview.de/rosenkranz_id17
 25822
DTSTART;TZID=Europe/Berlin:20260424T175500
DURATION:PT30M
LOCATION:St. Peter und Paul
END:VEVENT
BEGIN:VEVENT
UID:sabre-vobject-046efe7c-6f79-4bcf-ac73-560225f4164f
DTSTAMP:20260420T162752Z
SUMMARY:Hl. Messe
DESCRIPTION:https://pfarreien-bistum-augsburg.df-preview.de/hl-messe_id1725
 823
DTSTART;TZID=Europe/Berlin:20260424T183000
DURATION:PT30M
LOCATION:St. Peter und Paul
END:VEVENT
BEGIN:VEVENT
UID:sabre-vobject-4f4b7f38-ca88-44d2-87d9-f6441b16ab35
DTSTAMP:20260420T162752Z
SUMMARY:Firmkurs im Pfarrheim
DESCRIPTION:https://pfarreien-bistum-augsburg.df-preview.de/firmkurs-im-pfa
 rrheim_id1727175
DTSTART;TZID=Europe/Berlin:20260425T093000
DURATION:PT30M
LOCATION:St. Peter und Paul
END:VEVENT
BEGIN:VEVENT
UID:sabre-vobject-6c24ed33-015c-4b6c-b8dd-5c0d440d5101
DTSTAMP:20260420T162752Z
SUMMARY:Rosenkranz und Beichtgelegenheit
DESCRIPTION:https://pfarreien-bistum-augsburg.df-preview.de/rosenkranz-und-
 beichtgelegenheit_id1727176
DTSTART;TZID=Europe/Berlin:20260425T182500
DURATION:PT30M
LOCATION:St. Peter und Paul
END:VEVENT
BEGIN:VEVENT
UID:sabre-vobject-1ec26fd7-6d26-4ae7-9988-cbc040cb1575
DTSTAMP:20260420T162752Z
SUMMARY:Vorabendmesse zum Sonntag \nHl. Messe
DESCRIPTION:https://pfarreien-bistum-augsburg.df-preview.de/vorabendmesse-z
 um-sonntag-hl-messe_id1727177
DTSTART;TZID=Europe/Berlin:20260425T190000
DURATION:PT30M
LOCATION:St. Peter und Paul
END:VEVENT
BEGIN:VEVENT
UID:sabre-vobject-80889137-8228-4983-acee-195432f61018
DTSTAMP:20260420T162752Z
SUMMARY:Hl. Amt für die Lebenden und Verstorbenen der Pfarreiengemeinschaf
 t
DESCRIPTION:https://pfarreien-bistum-augsburg.df-preview.de/hl-amt-fuer-die
 -lebenden-und-verstorbenen-der-pfarreiengemeinschaft_id1727178
DTSTART;TZID=Europe/Berlin:20260426T100000
DURATION:PT30M
LOCATION:St. Peter und Paul
END:VEVENT
BEGIN:VEVENT
UID:sabre-vobject-199cca7d-3668-4422-89de-cc3b79abb35d
DTSTAMP:20260420T162752Z
SUMMARY:Rosenkranz und Beichtgelegenheit
DESCRIPTION:https://pfarreien-bistum-augsburg.df-preview.de/rosenkranz-und-
 beichtgelegenheit_id1726983
DTSTART;TZID=Europe/Berlin:20260427T182500
DURATION:PT30M
LOCATION:St. Peter und Paul
END:VEVENT
BEGIN:VEVENT
UID:sabre-vobject-5cc505a3-e332-45ef-bfaa-7cba032b917a
DTSTAMP:20260420T162752Z
SUMMARY:Hl. Messe
DESCRIPTION:https://pfarreien-bistum-augsburg.df-preview.de/hl-messe_id1726
 985
DTSTART;TZID=Europe/Berlin:20260427T190000
DURATION:PT30M
LOCATION:St. Peter und Paul
END:VEVENT
BEGIN:VEVENT
UID:sabre-vobject-b94223ae-5898-4383-92a6-da635ac1796c
DTSTAMP:20260420T162752Z
SUMMARY:Rosenkranz für den Frieden und Beichtgelegenheit
DESCRIPTION:https://pfarreien-bistum-augsburg.df-preview.de/rosenkranz-fuer
 -den-frieden-und-beichtgelegenheit_id1727002
DTSTART;TZID=Europe/Berlin:20260428T182500
DURATION:PT30M
LOCATION:St. Peter und Paul
END:VEVENT
BEGIN:VEVENT
UID:sabre-vobject-db643eae-3d48-4646-8d22-cb7c21700350
DTSTAMP:20260420T162752Z
SUMMARY:Hl. Messe
DESCRIPTION:https://pfarreien-bistum-augsburg.df-preview.de/hl-messe_id1727
 003
DTSTART;TZID=Europe/Berlin:20260428T190000
DURATION:PT30M
LOCATION:St. Peter und Paul
END:VEVENT
BEGIN:VEVENT
UID:sabre-vobject-5f75eef6-d061-4afe-af43-d4b9fbaa971e
DTSTAMP:20260420T162752Z
SUMMARY:Bibelabend im Pfarrhof
DESCRIPTION:https://pfarreien-bistum-augsburg.df-preview.de/bibelabend-im-p
 farrhof_id1727004
DTSTART;TZID=Europe/Berlin:20260428T194500
DURATION:PT30M
LOCATION:St. Peter und Paul
END:VEVENT
BEGIN:VEVENT
UID:sabre-vobject-a0c7811f-5d5c-4ae9-b0e0-c73a07b33340
DTSTAMP:20260420T162752Z
SUMMARY:Hl. Messe
DESCRIPTION:https://pfarreien-bistum-augsburg.df-preview.de/hl-messe_id1726
 993
DTSTART;TZID=Europe/Berlin:20260429T080000
DURATION:PT30M
LOCATION:St. Peter und Paul
END:VEVENT
BEGIN:VEVENT
UID:sabre-vobject-71bf111f-2e8a-4cb3-bbf1-3eca28e939a5
DTSTAMP:20260420T162752Z
SUMMARY:Rosenkranz
DESCRIPTION:https://pfarreien-bistum-augsburg.df-preview.de/rosenkranz_id17
 26994
DTSTART;TZID=Europe/Berlin:20260430T182500
DURATION:PT30M
LOCATION:St. Peter und Paul
END:VEVENT
BEGIN:VEVENT
UID:sabre-vobject-330d3dd5-5d9e-4eb1-a769-871a228be1e4
DTSTAMP:20260420T162752Z
SUMMARY:Sühnenachtanbetung in der Nothelferkapelle
DESCRIPTION:https://pfarreien-bistum-augsburg.df-preview.de/suehnenachtanbe
 tung-in-der-nothelferkapelle_id1726995
DTSTART;TZID=Europe/Berlin:20260501T000000
DURATION:PT30M
LOCATION:St. Peter und Paul
END:VEVENT
BEGIN:VEVENT
UID:sabre-vobject-82be4f46-b596-4be4-b4f3-c7e3548665f7
DTSTAMP:20260420T162752Z
SUMMARY:Hochamt für die Lebenden und Verstorbenen der Pfarreiengemeinschaf
 t
DESCRIPTION:https://pfarreien-bistum-augsburg.df-preview.de/hochamt-fuer-di
 e-lebenden-und-verstorbenen-der-pfarreiengemeinschaft_id1727010
DTSTART;TZID=Europe/Berlin:20260501T100000
DURATION:PT30M
LOCATION:St. Peter und Paul
END:VEVENT
BEGIN:VEVENT
UID:sabre-vobject-960c8d5f-d6fa-4dc4-af4e-a23066805ebb
DTSTAMP:20260420T162752Z
SUMMARY:anschließend Fahrzeugsegnung
DESCRIPTION:https://pfarreien-bistum-augsburg.df-preview.de/anschliessend-f
 ahrzeugsegnung_id1727011
DTSTART;TZID=Europe/Berlin:20260501T110000
DURATION:PT30M
LOCATION:St. Peter und Paul
END:VEVENT
BEGIN:VEVENT
UID:sabre-vobject-4fa9d714-925c-49e2-91ba-870fe1e3882a
DTSTAMP:20260420T162752Z
SUMMARY:1. feierliche Maiandacht
DESCRIPTION:https://pfarreien-bistum-augsburg.df-preview.de/1-feierliche-ma
 iandacht_id1727021
DTSTART;TZID=Europe/Berlin:20260501T193000
DURATION:PT30M
LOCATION:St. Peter und Paul
END:VEVENT
BEGIN:VEVENT
UID:sabre-vobject-e493425e-575d-4f79-ad2e-45d5f2e3b788
DTSTAMP:20260420T162752Z
SUMMARY:Rosenkranz in der Nothelferkapelle
DESCRIPTION:https://pfarreien-bistum-augsburg.df-preview.de/rosenkranz-in-d
 er-nothelferkapelle_id1732185
DTSTART;TZID=Europe/Berlin:20260502T070000
DURATION:PT30M
LOCATION:St. Peter und Paul
END:VEVENT
BEGIN:VEVENT
UID:sabre-vobject-d5f66d8b-3593-46a2-ac06-5b8a5f14a803
DTSTAMP:20260420T162752Z
SUMMARY:Hl. Messe zu Ehren des unbefleckten Herzens Mariens
DESCRIPTION:https://pfarreien-bistum-augsburg.df-preview.de/hl-messe-zu-ehr
 en-des-unbefleckten-herzens-mariens_id1732162
DTSTART;TZID=Europe/Berlin:20260502T080000
DURATION:PT30M
LOCATION:St. Peter und Paul
END:VEVENT
BEGIN:VEVENT
UID:sabre-vobject-5531c01c-d142-4152-889d-636267dcb930
DTSTAMP:20260420T162752Z
SUMMARY:Trauung von Franziska Mögn und Maximilian Schupfner
DESCRIPTION:https://pfarreien-bistum-augsburg.df-preview.de/trauung-von-fra
 nziska-moegn-und-maximilian-schupfner_id1732163
DTSTART;TZID=Europe/Berlin:20260502T120000
DURATION:PT30M
LOCATION:St. Peter und Paul
END:VEVENT
BEGIN:VEVENT
UID:sabre-vobject-c1e1f8e5-e4a1-4eb9-845c-30323d8c0ebf
DTSTAMP:20260420T162752Z
SUMMARY:Rosenkranz und Beichtgelegenheit
DESCRIPTION:https://pfarreien-bistum-augsburg.df-preview.de/rosenkranz-und-
 beichtgelegenheit_id1732164
DTSTART;TZID=Europe/Berlin:20260502T182500
DURATION:PT30M
LOCATION:St. Peter und Paul
END:VEVENT
BEGIN:VEVENT
UID:sabre-vobject-f42b5e13-300a-42d6-bc14-a6f2cdb9e5a4
DTSTAMP:20260420T162752Z
SUMMARY:Vorabendmesse zum Sonntag \nHl. Messe
DESCRIPTION:https://pfarreien-bistum-augsburg.df-preview.de/vorabendmesse-z
 um-sonntag-hl-messe_id1732176
DTSTART;TZID=Europe/Berlin:20260502T190000
DURATION:PT30M
LOCATION:St. Peter und Paul
END:VEVENT
BEGIN:VEVENT
UID:sabre-vobject-fe1e34a3-27c5-4007-a98a-7f6505c9af04
DTSTAMP:20260420T162752Z
SUMMARY:Hl. Amt für die Lebenden und Verstorbenen der Pfarreiengemeinschaf
 t
DESCRIPTION:https://pfarreien-bistum-augsburg.df-preview.de/hl-amt-fuer-die
 -lebenden-und-verstorbenen-der-pfarreiengemeinschaft_id1732174
DTSTART;TZID=Europe/Berlin:20260503T100000
DURATION:PT30M
LOCATION:St. Peter und Paul
END:VEVENT
BEGIN:VEVENT
UID:sabre-vobject-995ab338-4e2d-4d3e-9d43-c4fba3372b97
DTSTAMP:20260420T162752Z
SUMMARY:Maiandacht
DESCRIPTION:https://pfarreien-bistum-augsburg.df-preview.de/maiandacht_id17
 32175
DTSTART;TZID=Europe/Berlin:20260503T193000
DURATION:PT30M
LOCATION:St. Peter und Paul
END:VEVENT
BEGIN:VEVENT
UID:sabre-vobject-cb4c5d1e-f04e-4d5c-8154-649177918e29
DTSTAMP:20260420T162752Z
SUMMARY:Rosenkranz und Beichtgelegenheit
DESCRIPTION:https://pfarreien-bistum-augsburg.df-preview.de/rosenkranz-und-
 beichtgelegenheit_id1732161
DTSTART;TZID=Europe/Berlin:20260504T182500
DURATION:PT30M
LOCATION:St. Peter und Paul
END:VEVENT
BEGIN:VEVENT
UID:sabre-vobject-87529e1b-e96b-4f61-a633-0ea3817376bc
DTSTAMP:20260420T162752Z
SUMMARY:Hl. Messe
DESCRIPTION:https://pfarreien-bistum-augsburg.df-preview.de/hl-messe_id1732
 177
DTSTART;TZID=Europe/Berlin:20260504T190000
DURATION:PT30M
LOCATION:St. Peter und Paul
END:VEVENT
BEGIN:VEVENT
UID:sabre-vobject-ac9709ba-f018-4ce6-82db-2e93ae98fe3a
DTSTAMP:20260420T162752Z
SUMMARY:Rosenkranz für den Frieden und Beichtgelegenheit
DESCRIPTION:https://pfarreien-bistum-augsburg.df-preview.de/rosenkranz-fuer
 -den-frieden-und-beichtgelegenheit_id1732067
DTSTART;TZID=Europe/Berlin:20260505T182500
DURATION:PT30M
LOCATION:St. Peter und Paul
END:VEVENT
BEGIN:VEVENT
UID:sabre-vobject-78433d8e-4479-4636-b118-e6befcda5e8f
DTSTAMP:20260420T162752Z
SUMMARY:Hl. Messe
DESCRIPTION:https://pfarreien-bistum-augsburg.df-preview.de/hl-messe_id1732
 068
DTSTART;TZID=Europe/Berlin:20260505T190000
DURATION:PT30M
LOCATION:St. Peter und Paul
END:VEVENT
BEGIN:VEVENT
UID:sabre-vobject-5439b34f-9829-4484-ba97-8440c4ce853b
DTSTAMP:20260420T162752Z
SUMMARY:Hl. Messe
DESCRIPTION:https://pfarreien-bistum-augsburg.df-preview.de/hl-messe_id1732
 070
DTSTART;TZID=Europe/Berlin:20260506T080000
DURATION:PT30M
LOCATION:St. Peter und Paul
END:VEVENT
BEGIN:VEVENT
UID:sabre-vobject-cee2aaf0-ef91-4a14-acdd-c050b5ba4be7
DTSTAMP:20260420T162752Z
SUMMARY:Frühstück im Pfarrheim
DESCRIPTION:https://pfarreien-bistum-augsburg.df-preview.de/fruehstueck-im-
 pfarrheim_id1732071
DTSTART;TZID=Europe/Berlin:20260506T083000
DURATION:PT30M
LOCATION:St. Peter und Paul
END:VEVENT
BEGIN:VEVENT
UID:sabre-vobject-0a568ab7-7614-4d25-a089-ac24ca5939bf
DTSTAMP:20260420T162752Z
SUMMARY:Kindergottesdienst in der Johanneskapelle
DESCRIPTION:https://pfarreien-bistum-augsburg.df-preview.de/kindergottesdie
 nst-in-der-johanneskapelle_id1732069
DTSTART;TZID=Europe/Berlin:20260506T160000
DURATION:PT30M
LOCATION:St. Peter und Paul
END:VEVENT
BEGIN:VEVENT
UID:sabre-vobject-27b88ccb-49da-44b0-8697-06dda892b11e
DTSTAMP:20260420T162752Z
SUMMARY:anschließend  Holy Hour mit Beichtgelegenheit
DESCRIPTION:https://pfarreien-bistum-augsburg.df-preview.de/anschliessend-h
 oly-hour-mit-beichtgelegenheit_id1732088
DTSTART;TZID=Europe/Berlin:20260507T000000
DURATION:PT30M
LOCATION:St. Peter und Paul
END:VEVENT
BEGIN:VEVENT
UID:sabre-vobject-0ab3137c-e22d-4573-bb89-0f91a37e950b
DTSTAMP:20260420T162752Z
SUMMARY:Bruderschaftsrosenkranz
DESCRIPTION:https://pfarreien-bistum-augsburg.df-preview.de/bruderschaftsro
 senkranz_id1732089
DTSTART;TZID=Europe/Berlin:20260507T182500
DURATION:PT30M
LOCATION:St. Peter und Paul
END:VEVENT
BEGIN:VEVENT
UID:sabre-vobject-7ec35eec-c93c-4476-8b9e-d4d75c15db8c
DTSTAMP:20260420T162752Z
SUMMARY:Hl. Messe mit dem Holy Chor
DESCRIPTION:https://pfarreien-bistum-augsburg.df-preview.de/hl-messe-mit-de
 m-holy-chor_id1732090
DTSTART;TZID=Europe/Berlin:20260507T190000
DURATION:PT30M
LOCATION:St. Peter und Paul
END:VEVENT
BEGIN:VEVENT
UID:sabre-vobject-6399380e-b447-4aec-841f-fda12c86ea4f
DTSTAMP:20260420T162752Z
SUMMARY:Rosenkranz
DESCRIPTION:https://pfarreien-bistum-augsburg.df-preview.de/rosenkranz_id17
 32091
DTSTART;TZID=Europe/Berlin:20260508T175500
DURATION:PT30M
LOCATION:St. Peter und Paul
END:VEVENT
BEGIN:VEVENT
UID:sabre-vobject-9dc967a3-9aff-490a-b361-31a4c6f4c49f
DTSTAMP:20260420T162752Z
SUMMARY:Hl. Messe
DESCRIPTION:https://pfarreien-bistum-augsburg.df-preview.de/hl-messe_id1732
 092
DTSTART;TZID=Europe/Berlin:20260508T183000
DURATION:PT30M
LOCATION:St. Peter und Paul
END:VEVENT
BEGIN:VEVENT
UID:sabre-vobject-60f484dc-6898-49ec-867f-efedb0259020
DTSTAMP:20260420T162752Z
SUMMARY:Rosenkranz und Beichtgelegenheit
DESCRIPTION:https://pfarreien-bistum-augsburg.df-preview.de/rosenkranz-und-
 beichtgelegenheit_id1746261
DTSTART;TZID=Europe/Berlin:20260509T182500
DURATION:PT30M
LOCATION:St. Peter und Paul
END:VEVENT
BEGIN:VEVENT
UID:sabre-vobject-dc44c6af-1e32-4777-901b-1d430566a8da
DTSTAMP:20260420T162752Z
SUMMARY:Vorabendmesse zum Sonntag \nHl. Messe
DESCRIPTION:https://pfarreien-bistum-augsburg.df-preview.de/vorabendmesse-z
 um-sonntag-hl-messe_id1746262
DTSTART;TZID=Europe/Berlin:20260509T190000
DURATION:PT30M
LOCATION:St. Peter und Paul
END:VEVENT
BEGIN:VEVENT
UID:sabre-vobject-a74e9fb2-462f-4404-baf1-3e661b940f54
DTSTAMP:20260420T162752Z
SUMMARY:Hl. Amt für die Lebenden und Verstorbenen der Pfarreiengemeinschaf
 t
DESCRIPTION:https://pfarreien-bistum-augsburg.df-preview.de/hl-amt-fuer-die
 -lebenden-und-verstorbenen-der-pfarreiengemeinschaft_id1746263
DTSTART;TZID=Europe/Berlin:20260510T100000
DURATION:PT30M
LOCATION:St. Peter und Paul
END:VEVENT
BEGIN:VEVENT
UID:sabre-vobject-abed893b-cea8-48c1-a493-80aecd0b5370
DTSTAMP:20260420T162752Z
SUMMARY:Maiandacht
DESCRIPTION:https://pfarreien-bistum-augsburg.df-preview.de/maiandacht_id17
 46256
DTSTART;TZID=Europe/Berlin:20260510T193000
DURATION:PT30M
LOCATION:St. Peter und Paul
END:VEVENT
BEGIN:VEVENT
UID:sabre-vobject-58f8f8da-ef61-4188-8343-9fc2119ce896
DTSTAMP:20260420T162752Z
SUMMARY:Bittgang nach Immendorf
DESCRIPTION:https://pfarreien-bistum-augsburg.df-preview.de/bittgang-nach-i
 mmendorf_id1746290
DTSTART;TZID=Europe/Berlin:20260511T181500
DURATION:PT30M
LOCATION:St. Peter und Paul
END:VEVENT
BEGIN:VEVENT
UID:sabre-vobject-34b711ba-3dab-44df-a934-02c777a66c2c
DTSTAMP:20260420T162752Z
SUMMARY:Bittmesse der Pfarreiengemeinschaft in Immendorf
DESCRIPTION:https://pfarreien-bistum-augsburg.df-preview.de/bittmesse-der-p
 farreiengemeinschaft-in-immendorf_id1746294
DTSTART;TZID=Europe/Berlin:20260511T190000
DURATION:PT30M
LOCATION:St. Peter und Paul
END:VEVENT
BEGIN:VEVENT
UID:sabre-vobject-4e74347d-93aa-4367-97f3-7b5df3b47cea
DTSTAMP:20260420T162752Z
SUMMARY:Bittgang nach  Kühnhausen an der Pfarrkirche Pöttmes\, um 18.15 U
 hr Weggang am Wertstoffhof
DESCRIPTION:https://pfarreien-bistum-augsburg.df-preview.de/bittgang-nach-k
 uehnhausen-an-der-pfarrkirche-poettmes-um-18-15-uhr-weggang-am-wertstoffho
 f_id1746295
DTSTART;TZID=Europe/Berlin:20260512T180000
DURATION:PT30M
LOCATION:St. Peter und Paul
END:VEVENT
BEGIN:VEVENT
UID:sabre-vobject-cda6af38-9f27-4f36-bf44-8743d81403f6
DTSTAMP:20260420T162752Z
SUMMARY:Bittmesse in St. Josef Kühnhausen
DESCRIPTION:https://pfarreien-bistum-augsburg.df-preview.de/bittmesse-in-st
 -josef-kuehnhausen_id1746296
DTSTART;TZID=Europe/Berlin:20260512T190000
DURATION:PT30M
LOCATION:St. Peter und Paul
END:VEVENT
BEGIN:VEVENT
UID:sabre-vobject-7d06cea7-4df5-4b83-9c16-151ec0d65b7e
DTSTAMP:20260420T162752Z
SUMMARY:Fatimatag in der Pfarrkirche St. Peter u. Paul
DESCRIPTION:https://pfarreien-bistum-augsburg.df-preview.de/fatimatag-in-de
 r-pfarrkirche-st-peter-u-paul_id1746298
DTSTART;TZID=Europe/Berlin:20260513T000000
DURATION:PT30M
LOCATION:St. Peter und Paul
END:VEVENT
BEGIN:VEVENT
UID:sabre-vobject-67eb165c-d410-4cee-a153-3a349a536377
DTSTAMP:20260420T162752Z
SUMMARY:Vorabendmesse zum Fest Christi Himmelfahrt\nHl. Messe\nZelebrant un
 d Predigt: H. H. Pfarrer Thomas Rein\, Pöttmes
DESCRIPTION:https://pfarreien-bistum-augsburg.df-preview.de/vorabendmesse-z
 um-fest-christi-himmelfahrt-hl-messe-zelebrant-und-predigt-h-h-pfarrer-tho
 mas-rein-poettmes_id1746299
DTSTART;TZID=Europe/Berlin:20260513T200000
DURATION:PT30M
LOCATION:St. Peter und Paul
END:VEVENT
BEGIN:VEVENT
UID:sabre-vobject-bcd3e75e-bf1c-4907-95ff-bbaffd5d53ab
DTSTAMP:20260420T162752Z
SUMMARY:Fatima-Rosenkranz und Beichtgelegenheit
DESCRIPTION:https://pfarreien-bistum-augsburg.df-preview.de/fatima-rosenkra
 nz-und-beichtgelegenheit_id1746300
DTSTART;TZID=Europe/Berlin:20260513T210000
DURATION:PT30M
LOCATION:St. Peter und Paul
END:VEVENT
BEGIN:VEVENT
UID:sabre-vobject-44ad96d5-4b9f-43d0-a94e-effb67e1d7a7
DTSTAMP:20260420T162752Z
SUMMARY:Lichterprozession zur Johanneskapelle auf dem Marktplatz
DESCRIPTION:https://pfarreien-bistum-augsburg.df-preview.de/lichterprozessi
 on-zur-johanneskapelle-auf-dem-marktplatz_id1746306
DTSTART;TZID=Europe/Berlin:20260513T214500
DURATION:PT30M
LOCATION:St. Peter und Paul
END:VEVENT
BEGIN:VEVENT
UID:sabre-vobject-9838f9fb-7a16-456f-bc73-0e8d3d74399a
DTSTAMP:20260420T162752Z
SUMMARY:Hochamt für die Lebenden und Verstorbenen der Pfarreiengemeinschaf
 t \nanschließend Flurumgang\n
DESCRIPTION:https://pfarreien-bistum-augsburg.df-preview.de/hochamt-fuer-di
 e-lebenden-und-verstorbenen-der-pfarreiengemeinschaft-anschliessend-flurum
 gang_id1746307
DTSTART;TZID=Europe/Berlin:20260514T100000
DURATION:PT30M
LOCATION:St. Peter und Paul
END:VEVENT
BEGIN:VEVENT
UID:sabre-vobject-fbbb3579-8fd3-4b3d-aa90-a379f2b1774e
DTSTAMP:20260420T162752Z
SUMMARY:anschließend Friedensgebet - Gebet um Versöhnung und Frieden in d
 er Welt\, in der Gemeinde\, in der Familie
DESCRIPTION:https://pfarreien-bistum-augsburg.df-preview.de/anschliessend-f
 riedensgebet-gebet-um-versoehnung-und-frieden-in-der-welt-in-der-gemeinde-
 in-der-familie_id1746291
DTSTART;TZID=Europe/Berlin:20260515T000000
DURATION:PT30M
LOCATION:St. Peter und Paul
END:VEVENT
BEGIN:VEVENT
UID:sabre-vobject-04329d97-0710-45fe-a674-c160daa820b2
DTSTAMP:20260420T162752Z
SUMMARY:Feier der Hl. Firmung\nmit Hwst. Herrn Domkapitular Dr. theol. Mich
 ael Kreuzer
DESCRIPTION:https://pfarreien-bistum-augsburg.df-preview.de/feier-der-hl-fi
 rmung-mit-hwst-herrn-domkapitular-dr-theol-michael-kreuzer_id1746297
DTSTART;TZID=Europe/Berlin:20260515T093000
DURATION:PT30M
LOCATION:St. Peter und Paul
END:VEVENT
BEGIN:VEVENT
UID:sabre-vobject-ac5c036c-c0f7-453c-95f3-4bf3b7fb0fd0
DTSTAMP:20260420T162752Z
SUMMARY:Rosenkranz
DESCRIPTION:https://pfarreien-bistum-augsburg.df-preview.de/rosenkranz_id17
 46320
DTSTART;TZID=Europe/Berlin:20260515T175500
DURATION:PT30M
LOCATION:St. Peter und Paul
END:VEVENT
BEGIN:VEVENT
UID:sabre-vobject-07812ea0-f0fd-4e36-897b-23d4821faecc
DTSTAMP:20260420T162752Z
SUMMARY:Hl. Messe
DESCRIPTION:https://pfarreien-bistum-augsburg.df-preview.de/hl-messe_id1746
 321
DTSTART;TZID=Europe/Berlin:20260515T183000
DURATION:PT30M
LOCATION:St. Peter und Paul
END:VEVENT
END:VCALENDAR
