BEGIN:VCALENDAR
VERSION:2.0
PRODID:-//Sabre//Sabre VObject 4.5.8//EN
CALSCALE:GREGORIAN
NAME:Bistum Augsburg
X-WR-CALNAME:Bistum Augsburg
BEGIN:VEVENT
UID:sabre-vobject-531998ba-7e1e-40cc-b6e9-819e248f60bb
DTSTAMP:20260424T152159Z
SUMMARY:Erstkommunionfeier
DESCRIPTION:https://pfarreien-bistum-augsburg.df-preview.de/erstkommunionfe
 ier_id1754793
DTSTART;TZID=Europe/Berlin:20260426T101500
DURATION:PT30M
LOCATION:St. Michael
END:VEVENT
BEGIN:VEVENT
UID:sabre-vobject-2f47eabc-3088-4d3e-99ba-8eb19a80808e
DTSTAMP:20260424T152159Z
SUMMARY:Dankandacht d. Erstkommunionkinder
DESCRIPTION:https://pfarreien-bistum-augsburg.df-preview.de/dankandacht-d-e
 rstkommunionkinder_id1754794
DTSTART;TZID=Europe/Berlin:20260426T180000
DURATION:PT30M
LOCATION:St. Michael
END:VEVENT
BEGIN:VEVENT
UID:sabre-vobject-995c5d5f-7f2e-4660-93a4-c78585f8b68e
DTSTAMP:20260424T152159Z
SUMMARY:Heilige Messe im Seniorenzentrum Tiefentalweg
DESCRIPTION:https://pfarreien-bistum-augsburg.df-preview.de/heilige-messe-i
 m-seniorenzentrum-tiefentalweg_id1753778
DTSTART;TZID=Europe/Berlin:20260429T183000
DURATION:PT30M
LOCATION:St. Michael
END:VEVENT
BEGIN:VEVENT
UID:sabre-vobject-53b2163f-698c-4f09-81eb-f0524b1795fc
DTSTAMP:20260424T152159Z
SUMMARY:Vorabendmesse in Magnetsried
DESCRIPTION:https://pfarreien-bistum-augsburg.df-preview.de/vorabendmesse-i
 n-magnetsried_id1755687
DTSTART;TZID=Europe/Berlin:20260502T183000
DURATION:PT30M
LOCATION:St. Margareta
END:VEVENT
BEGIN:VEVENT
UID:sabre-vobject-ab390294-ae22-4acf-b1b7-67a65bf4e950
DTSTAMP:20260424T152159Z
SUMMARY:Pfarrgottesdienst mit Pfr. Gabriel Bucher
DESCRIPTION:https://pfarreien-bistum-augsburg.df-preview.de/pfarrgottesdien
 st-mit-pfr-gabriel-bucher_id1753779
DTSTART;TZID=Europe/Berlin:20260503T101500
DURATION:PT30M
LOCATION:St. Michael
END:VEVENT
BEGIN:VEVENT
UID:sabre-vobject-afa38533-3670-4c1c-932d-694c9a3054e5
DTSTAMP:20260424T152159Z
SUMMARY:Beichtgelegenheit
DESCRIPTION:https://pfarreien-bistum-augsburg.df-preview.de/beichtgelegenhe
 it_id1753780
DTSTART;TZID=Europe/Berlin:20260506T180000
DURATION:PT30M
LOCATION:St. Michael
END:VEVENT
BEGIN:VEVENT
UID:sabre-vobject-c1df5d07-03cb-4b43-a16d-7efe404c409d
DTSTAMP:20260424T152159Z
SUMMARY:Heilige Messe
DESCRIPTION:https://pfarreien-bistum-augsburg.df-preview.de/heilige-messe_i
 d1753781
DTSTART;TZID=Europe/Berlin:20260506T183000
DURATION:PT30M
LOCATION:St. Michael
END:VEVENT
BEGIN:VEVENT
UID:sabre-vobject-bb9767a3-a687-4068-a8a0-c06315787883
DTSTAMP:20260424T152159Z
SUMMARY:Pfarrgottesdienst
DESCRIPTION:https://pfarreien-bistum-augsburg.df-preview.de/pfarrgottesdien
 st_id1755707
DTSTART;TZID=Europe/Berlin:20260510T101500
DURATION:PT30M
LOCATION:St. Michael
END:VEVENT
BEGIN:VEVENT
UID:sabre-vobject-c1885f16-1de0-44de-b2ac-7b5e9a1717cf
DTSTAMP:20260424T152159Z
SUMMARY:Maiandacht in Jenhausen Musik: Orgel
DESCRIPTION:https://pfarreien-bistum-augsburg.df-preview.de/maiandacht-in-j
 enhausen-musik-orgel_id1755688
DTSTART;TZID=Europe/Berlin:20260510T183000
DURATION:PT30M
LOCATION:St. Margareta
END:VEVENT
BEGIN:VEVENT
UID:sabre-vobject-d0d97c8d-725e-4faa-a806-a22974744a35
DTSTAMP:20260424T152159Z
SUMMARY:Festgottesdienst
DESCRIPTION:https://pfarreien-bistum-augsburg.df-preview.de/festgottesdiens
 t_id1755708
DTSTART;TZID=Europe/Berlin:20260514T101500
DURATION:PT30M
LOCATION:St. Michael
END:VEVENT
BEGIN:VEVENT
UID:sabre-vobject-dcd4ceaa-834e-42c0-af1e-fb1f2f1d2767
DTSTAMP:20260424T152159Z
SUMMARY:Vorabendmesse in St. Heinrich
DESCRIPTION:https://pfarreien-bistum-augsburg.df-preview.de/vorabendmesse-i
 n-st-heinrich_id1755709
DTSTART;TZID=Europe/Berlin:20260516T183000
DURATION:PT30M
LOCATION:St. Michael
END:VEVENT
BEGIN:VEVENT
UID:sabre-vobject-50a2b75d-2766-4595-b07e-ffa0f39ceb94
DTSTAMP:20260424T152159Z
SUMMARY:Pfarrgottesdienst
DESCRIPTION:https://pfarreien-bistum-augsburg.df-preview.de/pfarrgottesdien
 st_id1755710
DTSTART;TZID=Europe/Berlin:20260517T101500
DURATION:PT30M
LOCATION:St. Michael
END:VEVENT
BEGIN:VEVENT
UID:sabre-vobject-945b6e39-40c7-47d7-8976-34003471fdb1
DTSTAMP:20260424T152159Z
SUMMARY:Maiandacht in St. Heinrich
DESCRIPTION:https://pfarreien-bistum-augsburg.df-preview.de/maiandacht-in-s
 t-heinrich_id1755711
DTSTART;TZID=Europe/Berlin:20260517T183000
DURATION:PT30M
LOCATION:St. Michael
END:VEVENT
BEGIN:VEVENT
UID:sabre-vobject-c8b386b0-5f97-4c99-8b26-9dc5e046a894
DTSTAMP:20260424T152159Z
SUMMARY:Beichtgelegenheit
DESCRIPTION:https://pfarreien-bistum-augsburg.df-preview.de/beichtgelegenhe
 it_id1755712
DTSTART;TZID=Europe/Berlin:20260520T180000
DURATION:PT30M
LOCATION:St. Michael
END:VEVENT
BEGIN:VEVENT
UID:sabre-vobject-986d17c1-bea2-4b5b-96b3-f2cbd8e67e20
DTSTAMP:20260424T152159Z
SUMMARY:Heilige Messe
DESCRIPTION:https://pfarreien-bistum-augsburg.df-preview.de/heilige-messe_i
 d1755713
DTSTART;TZID=Europe/Berlin:20260520T183000
DURATION:PT30M
LOCATION:St. Michael
END:VEVENT
BEGIN:VEVENT
UID:sabre-vobject-8721d5f8-d181-480a-abf8-c4e1854594e8
DTSTAMP:20260424T152159Z
SUMMARY:Festgottesdienst
DESCRIPTION:https://pfarreien-bistum-augsburg.df-preview.de/festgottesdiens
 t_id1755679
DTSTART;TZID=Europe/Berlin:20260524T101500
DURATION:PT30M
LOCATION:St. Michael
END:VEVENT
BEGIN:VEVENT
UID:sabre-vobject-ddd4bc20-7507-4ab8-a5c9-04ce74432ad8
DTSTAMP:20260424T152159Z
SUMMARY:Pfarrgottesdienst
DESCRIPTION:https://pfarreien-bistum-augsburg.df-preview.de/pfarrgottesdien
 st_id1755680
DTSTART;TZID=Europe/Berlin:20260525T101500
DURATION:PT30M
LOCATION:St. Michael
END:VEVENT
BEGIN:VEVENT
UID:sabre-vobject-ccb27c23-bc06-4c77-878c-611fb7333316
DTSTAMP:20260424T152159Z
SUMMARY:Heilige Messe im Seniorenzentrum Tiefentalweg
DESCRIPTION:https://pfarreien-bistum-augsburg.df-preview.de/heilige-messe-i
 m-seniorenzentrum-tiefentalweg_id1755681
DTSTART;TZID=Europe/Berlin:20260527T183000
DURATION:PT30M
LOCATION:St. Michael
END:VEVENT
BEGIN:VEVENT
UID:sabre-vobject-d18a5dfa-deb4-41fb-bec9-fbc5fe362d0c
DTSTAMP:20260424T152159Z
SUMMARY:Pfarrgottesdienst ( Für die im Fürbittenbuch eingetragenen Anlieg
 en )
DESCRIPTION:https://pfarreien-bistum-augsburg.df-preview.de/pfarrgottesdien
 st-fuer-die-im-fuerbittenbuch-eingetragenen-anliegen_id1755682
DTSTART;TZID=Europe/Berlin:20260531T084500
DURATION:PT30M
LOCATION:St. Michael
END:VEVENT
BEGIN:VEVENT
UID:sabre-vobject-356cd122-8582-4e63-a337-804a58baddc5
DTSTAMP:20260424T152159Z
SUMMARY:Hl. Messe mit Fronleichnamsprozession
DESCRIPTION:https://pfarreien-bistum-augsburg.df-preview.de/hl-messe-mit-fr
 onleichnamsprozession_id1755685
DTSTART;TZID=Europe/Berlin:20260604T093000
DURATION:PT30M
LOCATION:St. Michael
END:VEVENT
BEGIN:VEVENT
UID:sabre-vobject-8b3630f4-268d-4061-8a36-898f40f69de4
DTSTAMP:20260424T152159Z
SUMMARY:Hl. Messe zu Fronleichnam in Jenhausen mit  Prozession \n
DESCRIPTION:https://pfarreien-bistum-augsburg.df-preview.de/hl-messe-zu-fro
 nleichnam-in-jenhausen-mit-prozession_id1755689
DTSTART;TZID=Europe/Berlin:20260606T183000
DURATION:PT30M
LOCATION:St. Margareta
END:VEVENT
BEGIN:VEVENT
UID:sabre-vobject-b51b2daf-9d19-4536-802a-456b74632f0e
DTSTAMP:20260424T152159Z
SUMMARY:Pfarrgottesdienst
DESCRIPTION:https://pfarreien-bistum-augsburg.df-preview.de/pfarrgottesdien
 st_id1755686
DTSTART;TZID=Europe/Berlin:20260607T101500
DURATION:PT30M
LOCATION:St. Michael
END:VEVENT
END:VCALENDAR
