BEGIN:VCALENDAR
VERSION:2.0
PRODID:-//Sabre//Sabre VObject 4.5.8//EN
CALSCALE:GREGORIAN
NAME:Bistum Augsburg
X-WR-CALNAME:Bistum Augsburg
BEGIN:VEVENT
UID:sabre-vobject-d0a62f5f-5d81-4254-af34-eaa2ce277b7b
DTSTAMP:20260423T235909Z
SUMMARY:Heilige Messe mit Verabschiedung der ausscheidenden Pfarrgemeindera
 tsmitglieder - Lebende und Verstorbene der Pfarrgemeinden
DESCRIPTION:https://pfarreien-bistum-augsburg.df-preview.de/heilige-messe-m
 it-verabschiedung-der-ausscheidenden-pfarrgemeinderatsmitglieder-lebende-u
 nd-verstorbene-der-pfarrgemeinden_id1755721
DTSTART;TZID=Europe/Berlin:20260426T083000
DURATION:PT30M
LOCATION:Heilig Kreuz\, Hs.-Nr. 18\, 82272 Purk
END:VEVENT
BEGIN:VEVENT
UID:sabre-vobject-3b78c7f2-915e-4d48-b430-c7e9f33ae12c
DTSTAMP:20260423T235909Z
SUMMARY:Heilige Messe anschl. kurze Maiandacht
DESCRIPTION:https://pfarreien-bistum-augsburg.df-preview.de/heilige-messe-a
 nschl-kurze-maiandacht_id1755206
DTSTART;TZID=Europe/Berlin:20260502T190000
DURATION:PT30M
LOCATION:Heilig Kreuz\, Hs.-Nr. 18\, 82272 Purk
END:VEVENT
BEGIN:VEVENT
UID:sabre-vobject-5ad9ccc3-c2f9-40c7-8426-3c7766cbc46d
DTSTAMP:20260423T235909Z
SUMMARY:Heilige Messe
DESCRIPTION:https://pfarreien-bistum-augsburg.df-preview.de/heilige-messe_i
 d1755207
DTSTART;TZID=Europe/Berlin:20260506T190000
DURATION:PT30M
LOCATION:Heilig Kreuz\, Hs.-Nr. 18\, 82272 Purk
END:VEVENT
BEGIN:VEVENT
UID:sabre-vobject-034c27ea-07e6-4e86-826e-01f38280b7d7
DTSTAMP:20260423T235909Z
SUMMARY:Bittmesse
DESCRIPTION:https://pfarreien-bistum-augsburg.df-preview.de/bittmesse_id175
 5208
DTSTART;TZID=Europe/Berlin:20260511T190000
DURATION:PT30M
LOCATION:Heilig Kreuz\, Hs.-Nr. 18\, 82272 Purk
END:VEVENT
BEGIN:VEVENT
UID:sabre-vobject-423c41c1-f164-4b9b-9f88-8312d2d8f8cb
DTSTAMP:20260423T235909Z
SUMMARY:Maiandacht
DESCRIPTION:https://pfarreien-bistum-augsburg.df-preview.de/maiandacht_id17
 55211
DTSTART;TZID=Europe/Berlin:20260514T190000
DURATION:PT30M
LOCATION:Heilig Kreuz\, Hs.-Nr. 18\, 82272 Purk
END:VEVENT
BEGIN:VEVENT
UID:sabre-vobject-7f2d4223-67d4-45b9-9d73-f5d757f6e945
DTSTAMP:20260423T235909Z
SUMMARY:Heilige Messe
DESCRIPTION:https://pfarreien-bistum-augsburg.df-preview.de/heilige-messe_i
 d1755212
DTSTART;TZID=Europe/Berlin:20260517T100000
DURATION:PT30M
LOCATION:Heilig Kreuz\, Hs.-Nr. 18\, 82272 Purk
END:VEVENT
BEGIN:VEVENT
UID:sabre-vobject-dbfc378e-740e-4f28-9b31-3fdc6a07e003
DTSTAMP:20260423T235909Z
SUMMARY:Heilige Messe
DESCRIPTION:https://pfarreien-bistum-augsburg.df-preview.de/heilige-messe_i
 d1755214
DTSTART;TZID=Europe/Berlin:20260520T190000
DURATION:PT30M
LOCATION:Heilig Kreuz\, Hs.-Nr. 18\, 82272 Purk
END:VEVENT
BEGIN:VEVENT
UID:sabre-vobject-0df55d37-d25b-4545-b6f9-383b8f6e2e0e
DTSTAMP:20260423T235909Z
SUMMARY:Heilige Messe - Lebende und Verstorbene der Pfarrgemeinden
DESCRIPTION:https://pfarreien-bistum-augsburg.df-preview.de/heilige-messe-l
 ebende-und-verstorbene-der-pfarrgemeinden_id1755215
DTSTART;TZID=Europe/Berlin:20260524T083000
DURATION:PT30M
LOCATION:Heilig Kreuz\, Hs.-Nr. 18\, 82272 Purk
END:VEVENT
BEGIN:VEVENT
UID:sabre-vobject-2d962b81-7f5a-4e20-acb5-26ac70e7bd63
DTSTAMP:20260423T235909Z
SUMMARY:Taufe
DESCRIPTION:https://pfarreien-bistum-augsburg.df-preview.de/taufe_id1755216
DTSTART;TZID=Europe/Berlin:20260525T140000
DURATION:PT30M
LOCATION:Heilig Kreuz\, Hs.-Nr. 18\, 82272 Purk
END:VEVENT
END:VCALENDAR
