BEGIN:VCALENDAR
VERSION:2.0
PRODID:-//Sabre//Sabre VObject 4.5.8//EN
CALSCALE:GREGORIAN
NAME:Bistum Augsburg
X-WR-CALNAME:Bistum Augsburg
BEGIN:VEVENT
UID:sabre-vobject-4d0c1ff7-85e1-4faf-abb5-2289d66a1df6
DTSTAMP:20260422T114450Z
SUMMARY:Heilige Messe - 08:15 Uhr Rosenkranz
DESCRIPTION:https://pfarreien-bistum-augsburg.df-preview.de/heilige-messe-0
 8-15-uhr-rosenkranz_id1739846
DTSTART;TZID=Europe/Berlin:20260422T090000
DURATION:PT30M
LOCATION:St. Ägidius
END:VEVENT
BEGIN:VEVENT
UID:sabre-vobject-f6815626-e4f8-431f-a5b6-24769922439f
DTSTAMP:20260422T114450Z
SUMMARY:Anbetung in Stille
DESCRIPTION:https://pfarreien-bistum-augsburg.df-preview.de/anbetung-in-sti
 lle_id1748854
DTSTART;TZID=Europe/Berlin:20260423T164500
DURATION:PT30M
LOCATION:St. Ägidius
END:VEVENT
BEGIN:VEVENT
UID:sabre-vobject-d0f372cf-6ce5-446b-879b-8f93b6b18b94
DTSTAMP:20260422T114450Z
SUMMARY:Beichtgelegenheit
DESCRIPTION:https://pfarreien-bistum-augsburg.df-preview.de/beichtgelegenhe
 it_id1748461
DTSTART;TZID=Europe/Berlin:20260425T171500
DURATION:PT30M
LOCATION:St. Ägidius
END:VEVENT
BEGIN:VEVENT
UID:sabre-vobject-1f601786-fb0d-44dc-a53d-363b8a4c7115
DTSTAMP:20260422T114450Z
SUMMARY:Vorabendmesse - 17:15 Uhr Rosenkranz
DESCRIPTION:https://pfarreien-bistum-augsburg.df-preview.de/vorabendmesse-1
 7-15-uhr-rosenkranz_id1748477
DTSTART;TZID=Europe/Berlin:20260425T180000
DURATION:PT30M
LOCATION:St. Ägidius
END:VEVENT
BEGIN:VEVENT
UID:sabre-vobject-135daf2d-50be-4664-8f42-5cf6d583ba71
DTSTAMP:20260422T114450Z
SUMMARY:Anbetung in Stille
DESCRIPTION:https://pfarreien-bistum-augsburg.df-preview.de/anbetung-in-sti
 lle_id1748344
DTSTART;TZID=Europe/Berlin:20260430T164500
DURATION:PT30M
LOCATION:St. Ägidius
END:VEVENT
BEGIN:VEVENT
UID:sabre-vobject-1fb26f07-067f-4da8-a427-1c69c4f1de73
DTSTAMP:20260422T114450Z
SUMMARY:Beichtgelegenheit
DESCRIPTION:https://pfarreien-bistum-augsburg.df-preview.de/beichtgelegenhe
 it_id1749464
DTSTART;TZID=Europe/Berlin:20260502T171500
DURATION:PT30M
LOCATION:St. Ägidius
END:VEVENT
BEGIN:VEVENT
UID:sabre-vobject-1bc2cf36-7109-4dde-9aa5-53cf3bc903cf
DTSTAMP:20260422T114450Z
SUMMARY:Vorabendmesse - 17:15 Uhr Rosenkranz
DESCRIPTION:https://pfarreien-bistum-augsburg.df-preview.de/vorabendmesse-1
 7-15-uhr-rosenkranz_id1749434
DTSTART;TZID=Europe/Berlin:20260502T180000
DURATION:PT30M
LOCATION:St. Ägidius
END:VEVENT
BEGIN:VEVENT
UID:sabre-vobject-a5c3cb41-6072-4ffa-ba66-95583c498b5e
DTSTAMP:20260422T114450Z
SUMMARY:Heilige Messe - 08:15 Uhr Rosenkranz
DESCRIPTION:https://pfarreien-bistum-augsburg.df-preview.de/heilige-messe-0
 8-15-uhr-rosenkranz_id1749435
DTSTART;TZID=Europe/Berlin:20260506T090000
DURATION:PT30M
LOCATION:St. Ägidius
END:VEVENT
BEGIN:VEVENT
UID:sabre-vobject-e2d61d4a-0a89-4fd7-b384-ea881a4e12bf
DTSTAMP:20260422T114450Z
SUMMARY:Anbetung in Stille
DESCRIPTION:https://pfarreien-bistum-augsburg.df-preview.de/anbetung-in-sti
 lle_id1749436
DTSTART;TZID=Europe/Berlin:20260507T164500
DURATION:PT30M
LOCATION:St. Ägidius
END:VEVENT
BEGIN:VEVENT
UID:sabre-vobject-bd667d03-fc46-454b-b562-5d3badecf35b
DTSTAMP:20260422T114450Z
SUMMARY:Maiandacht
DESCRIPTION:https://pfarreien-bistum-augsburg.df-preview.de/maiandacht_id17
 49437
DTSTART;TZID=Europe/Berlin:20260508T170000
DURATION:PT30M
LOCATION:St. Ägidius
END:VEVENT
BEGIN:VEVENT
UID:sabre-vobject-40c72dd7-9962-48c5-9cd7-9572bcb89cd3
DTSTAMP:20260422T114450Z
SUMMARY:Beichtgelegenheit
DESCRIPTION:https://pfarreien-bistum-augsburg.df-preview.de/beichtgelegenhe
 it_id1747956
DTSTART;TZID=Europe/Berlin:20260509T171500
DURATION:PT30M
LOCATION:St. Ägidius
END:VEVENT
BEGIN:VEVENT
UID:sabre-vobject-c3ce9289-a5eb-4b23-90a8-8e86a3eae2af
DTSTAMP:20260422T114450Z
SUMMARY:Pfarrmesse - 17:15 Uhr Rosenkranz
DESCRIPTION:https://pfarreien-bistum-augsburg.df-preview.de/pfarrmesse-17-1
 5-uhr-rosenkranz_id1748000
DTSTART;TZID=Europe/Berlin:20260509T180000
DURATION:PT30M
LOCATION:St. Ägidius
END:VEVENT
BEGIN:VEVENT
UID:sabre-vobject-cd966fdb-c262-4c45-9ac2-22a0285bb618
DTSTAMP:20260422T114450Z
SUMMARY:Heilige Messe - 08:15 Uhr Rosenkranz
DESCRIPTION:https://pfarreien-bistum-augsburg.df-preview.de/heilige-messe-0
 8-15-uhr-rosenkranz_id1748001
DTSTART;TZID=Europe/Berlin:20260513T090000
DURATION:PT30M
LOCATION:St. Ägidius
END:VEVENT
BEGIN:VEVENT
UID:sabre-vobject-202e2eb8-c94f-44e3-b479-f10ba6bcedee
DTSTAMP:20260422T114450Z
SUMMARY:Anbetung in Stille
DESCRIPTION:https://pfarreien-bistum-augsburg.df-preview.de/anbetung-in-sti
 lle_id1748002
DTSTART;TZID=Europe/Berlin:20260514T164500
DURATION:PT30M
LOCATION:St. Ägidius
END:VEVENT
END:VCALENDAR
