BEGIN:VCALENDAR
VERSION:2.0
PRODID:-//Sabre//Sabre VObject 4.5.8//EN
CALSCALE:GREGORIAN
NAME:Bistum Augsburg
X-WR-CALNAME:Bistum Augsburg
BEGIN:VEVENT
UID:sabre-vobject-2023975b-296f-4910-b677-4efb4def7799
DTSTAMP:20260421T210311Z
SUMMARY:Heilige Messe
DESCRIPTION:https://pfarreien-bistum-augsburg.df-preview.de/heilige-messe_i
 d1739259
DTSTART;TZID=Europe/Berlin:20260422T083000
DURATION:PT30M
LOCATION:St. Ludwig
END:VEVENT
BEGIN:VEVENT
UID:sabre-vobject-456e39d5-a450-43a6-a411-5c682d10a83b
DTSTAMP:20260421T210311Z
SUMMARY:Ausflug Erstkommunion
DESCRIPTION:https://pfarreien-bistum-augsburg.df-preview.de/ausflug-erstkom
 munion_id1739237
DTSTART;TZID=Europe/Berlin:20260423T000000
DURATION:PT30M
LOCATION:St. Ludwig
END:VEVENT
BEGIN:VEVENT
UID:sabre-vobject-356f0c7c-c1db-4159-896f-4e692ba76169
DTSTAMP:20260421T210311Z
SUMMARY:Die Heilige Messe entfällt
DESCRIPTION:https://pfarreien-bistum-augsburg.df-preview.de/die-heilige-mes
 se-entfaellt_id1739260
DTSTART;TZID=Europe/Berlin:20260424T183000
DURATION:PT30M
LOCATION:St. Ludwig
END:VEVENT
BEGIN:VEVENT
UID:sabre-vobject-7bc76ef6-e87c-41e3-b14c-281a1c6ae8c7
DTSTAMP:20260421T210311Z
SUMMARY:Taufe Emilian Cholewa
DESCRIPTION:https://pfarreien-bistum-augsburg.df-preview.de/taufe-emilian-c
 holewa_id1748517
DTSTART;TZID=Europe/Berlin:20260425T140000
DURATION:PT30M
LOCATION:St. Ludwig
END:VEVENT
BEGIN:VEVENT
UID:sabre-vobject-6c43434e-1235-44ed-b84f-d669649fb7c3
DTSTAMP:20260421T210311Z
SUMMARY:Pfarrgottesdienst für die Lebenden und Verstorbenen der Pfarreieng
 emeinschaft
DESCRIPTION:https://pfarreien-bistum-augsburg.df-preview.de/pfarrgottesdien
 st-fuer-die-lebenden-und-verstorbenen-der-pfarreiengemeinschaft_id1748513
DTSTART;TZID=Europe/Berlin:20260426T083000
DURATION:PT30M
LOCATION:St. Ludwig
END:VEVENT
BEGIN:VEVENT
UID:sabre-vobject-62fb61e6-8ad2-4692-b165-3634bc6a4aba
DTSTAMP:20260421T210311Z
SUMMARY:Kindergottesdienst im kath. Jugendheim
DESCRIPTION:https://pfarreien-bistum-augsburg.df-preview.de/kindergottesdie
 nst-im-kath-jugendheim_id1748626
DTSTART;TZID=Europe/Berlin:20260426T100000
DURATION:PT30M
LOCATION:St. Ludwig
END:VEVENT
BEGIN:VEVENT
UID:sabre-vobject-b1e6748f-16d6-472a-9441-3d93e46b638b
DTSTAMP:20260421T210311Z
SUMMARY:Frauenfrühstück im kath. Pfarr- und Jugendheim
DESCRIPTION:https://pfarreien-bistum-augsburg.df-preview.de/frauenfruehstue
 ck-im-kath-pfarr-und-jugendheim_id1748625
DTSTART;TZID=Europe/Berlin:20260427T090000
DURATION:PT30M
LOCATION:St. Ludwig
END:VEVENT
BEGIN:VEVENT
UID:sabre-vobject-abc74815-9b8f-4553-9ac2-3c8e118ee4b6
DTSTAMP:20260421T210311Z
SUMMARY:Heilige Messe
DESCRIPTION:https://pfarreien-bistum-augsburg.df-preview.de/heilige-messe_i
 d1748627
DTSTART;TZID=Europe/Berlin:20260429T083000
DURATION:PT30M
LOCATION:St. Ludwig
END:VEVENT
BEGIN:VEVENT
UID:sabre-vobject-58a7b6b9-1b3d-4806-8ad0-7f2b37f5cfb2
DTSTAMP:20260421T210311Z
SUMMARY:Maiandacht
DESCRIPTION:https://pfarreien-bistum-augsburg.df-preview.de/maiandacht_id17
 48634
DTSTART;TZID=Europe/Berlin:20260501T183000
DURATION:PT30M
LOCATION:St. Ludwig
END:VEVENT
BEGIN:VEVENT
UID:sabre-vobject-c0f5e348-e466-4b3e-83bb-a5ac8abc82a5
DTSTAMP:20260421T210311Z
SUMMARY:Ökumenischer Volksfestgottesdienst im Festzelt
DESCRIPTION:https://pfarreien-bistum-augsburg.df-preview.de/oekumenischer-v
 olksfestgottesdienst-im-festzelt_id1747461
DTSTART;TZID=Europe/Berlin:20260503T101500
DURATION:PT30M
LOCATION:St. Ludwig
END:VEVENT
BEGIN:VEVENT
UID:sabre-vobject-c534a4c3-6d5d-4a53-890b-a9e1d58029fa
DTSTAMP:20260421T210311Z
SUMMARY:Gemeindebücherei im Jugendheim- bis 12 Uhr
DESCRIPTION:https://pfarreien-bistum-augsburg.df-preview.de/gemeindebuecher
 ei-im-jugendheim-bis-12-uhr_id1747282
DTSTART;TZID=Europe/Berlin:20260503T103000
DURATION:PT30M
LOCATION:St. Ludwig
END:VEVENT
BEGIN:VEVENT
UID:sabre-vobject-289f7d91-c7e3-4d74-ab71-3ea1e8ddff8d
DTSTAMP:20260421T210311Z
SUMMARY:Jugendwallfahrt in Pobenhausen am Kalvarienberg
DESCRIPTION:https://pfarreien-bistum-augsburg.df-preview.de/jugendwallfahrt
 -in-pobenhausen-am-kalvarienberg_id1747594
DTSTART;TZID=Europe/Berlin:20260503T110000
DURATION:PT30M
LOCATION:St. Ludwig
END:VEVENT
BEGIN:VEVENT
UID:sabre-vobject-eab2d04d-1cbe-43e2-84a0-1571ff0e0178
DTSTAMP:20260421T210311Z
SUMMARY:Heilige Messe
DESCRIPTION:https://pfarreien-bistum-augsburg.df-preview.de/heilige-messe_i
 d1749017
DTSTART;TZID=Europe/Berlin:20260506T083000
DURATION:PT30M
LOCATION:St. Ludwig
END:VEVENT
BEGIN:VEVENT
UID:sabre-vobject-bb750c38-04f8-4f22-95cd-43362ef596c5
DTSTAMP:20260421T210311Z
SUMMARY:Krankenkommunion
DESCRIPTION:https://pfarreien-bistum-augsburg.df-preview.de/krankenkommunio
 n_id1749021
DTSTART;TZID=Europe/Berlin:20260508T000000
DURATION:PT30M
LOCATION:St. Ludwig
END:VEVENT
BEGIN:VEVENT
UID:sabre-vobject-3f7b57f4-fedd-489c-aa7d-4c9d40ec976c
DTSTAMP:20260421T210311Z
SUMMARY:Maiandacht im Seniorenheim
DESCRIPTION:https://pfarreien-bistum-augsburg.df-preview.de/maiandacht-im-s
 eniorenheim_id1749022
DTSTART;TZID=Europe/Berlin:20260508T160000
DURATION:PT30M
LOCATION:St. Ludwig
END:VEVENT
BEGIN:VEVENT
UID:sabre-vobject-c085c3be-4fe8-4222-a83e-fcc16a691fdf
DTSTAMP:20260421T210311Z
SUMMARY:Heilige Messe
DESCRIPTION:https://pfarreien-bistum-augsburg.df-preview.de/heilige-messe_i
 d1749023
DTSTART;TZID=Europe/Berlin:20260508T183000
DURATION:PT30M
LOCATION:St. Ludwig
END:VEVENT
BEGIN:VEVENT
UID:sabre-vobject-9baabcc2-3137-4386-ae13-5de4ff4fb297
DTSTAMP:20260421T210311Z
SUMMARY:Taufe Nayla Offensperger
DESCRIPTION:https://pfarreien-bistum-augsburg.df-preview.de/taufe-nayla-off
 ensperger_id1749025
DTSTART;TZID=Europe/Berlin:20260509T160000
DURATION:PT30M
LOCATION:St. Ludwig
END:VEVENT
BEGIN:VEVENT
UID:sabre-vobject-5437f903-1e6b-494e-82a7-4ad44ec9d9fd
DTSTAMP:20260421T210311Z
SUMMARY:Beichtgelegenheit
DESCRIPTION:https://pfarreien-bistum-augsburg.df-preview.de/beichtgelegenhe
 it_id1749026
DTSTART;TZID=Europe/Berlin:20260509T180000
DURATION:PT30M
LOCATION:St. Ludwig
END:VEVENT
BEGIN:VEVENT
UID:sabre-vobject-b0fcb6a9-3d76-47ba-9a6a-e6b4ea688536
DTSTAMP:20260421T210311Z
SUMMARY:Vorabendmesse\, Verabschiedung und Begrüßung des Pfarrgemeinderat
 es
DESCRIPTION:https://pfarreien-bistum-augsburg.df-preview.de/vorabendmesse-v
 erabschiedung-und-begruessung-des-pfarrgemeinderates_id1749024
DTSTART;TZID=Europe/Berlin:20260509T183000
DURATION:PT30M
LOCATION:St. Ludwig
END:VEVENT
BEGIN:VEVENT
UID:sabre-vobject-ee61ddfa-fc2d-4ef7-b40b-d2f3534e53d1
DTSTAMP:20260421T210311Z
SUMMARY:Heilige Messe
DESCRIPTION:https://pfarreien-bistum-augsburg.df-preview.de/heilige-messe_i
 d1749057
DTSTART;TZID=Europe/Berlin:20260513T083000
DURATION:PT30M
LOCATION:St. Ludwig
END:VEVENT
BEGIN:VEVENT
UID:sabre-vobject-409b358a-56fb-406d-9b44-42bd08ee2067
DTSTAMP:20260421T210311Z
SUMMARY:Festgottesdienst Christi Himmelfahrt
DESCRIPTION:https://pfarreien-bistum-augsburg.df-preview.de/festgottesdiens
 t-christi-himmelfahrt_id1749070
DTSTART;TZID=Europe/Berlin:20260514T100000
DURATION:PT30M
LOCATION:St. Ludwig
END:VEVENT
BEGIN:VEVENT
UID:sabre-vobject-8cb68300-ba49-42f5-9674-431f9feef1aa
DTSTAMP:20260421T210311Z
SUMMARY:Heilige Messe
DESCRIPTION:https://pfarreien-bistum-augsburg.df-preview.de/heilige-messe_i
 d1749106
DTSTART;TZID=Europe/Berlin:20260515T183000
DURATION:PT30M
LOCATION:St. Ludwig
END:VEVENT
BEGIN:VEVENT
UID:sabre-vobject-c8fdb55c-7025-4223-94fc-07f9019095f0
DTSTAMP:20260421T210311Z
SUMMARY:Pfarrgottesdienst für die Lebenden und Verstorbenen der Pfarreieng
 emeinschaft
DESCRIPTION:https://pfarreien-bistum-augsburg.df-preview.de/pfarrgottesdien
 st-fuer-die-lebenden-und-verstorbenen-der-pfarreiengemeinschaft_id1748700
DTSTART;TZID=Europe/Berlin:20260517T083000
DURATION:PT30M
LOCATION:St. Ludwig
END:VEVENT
BEGIN:VEVENT
UID:sabre-vobject-647ddc15-387d-47f1-b591-9a23eb327ccf
DTSTAMP:20260421T210311Z
SUMMARY:Kindergottesdienst im kath. Jugendheim
DESCRIPTION:https://pfarreien-bistum-augsburg.df-preview.de/kindergottesdie
 nst-im-kath-jugendheim_id1748701
DTSTART;TZID=Europe/Berlin:20260517T100000
DURATION:PT30M
LOCATION:St. Ludwig
END:VEVENT
BEGIN:VEVENT
UID:sabre-vobject-cf72c1f8-90f2-4579-a13a-cdcfd22075f9
DTSTAMP:20260421T210311Z
SUMMARY:Heilige Messe
DESCRIPTION:https://pfarreien-bistum-augsburg.df-preview.de/heilige-messe_i
 d1748702
DTSTART;TZID=Europe/Berlin:20260520T083000
DURATION:PT30M
LOCATION:St. Ludwig
END:VEVENT
BEGIN:VEVENT
UID:sabre-vobject-8092f31d-1284-40ce-b5d0-fa5d39d3b406
DTSTAMP:20260421T210311Z
SUMMARY:Cafè "Vergiss mein nicht" im kath. Pfarr- und Jugendheim
DESCRIPTION:https://pfarreien-bistum-augsburg.df-preview.de/cafe-vergiss-me
 in-nicht-im-kath-pfarr-und-jugendheim_id1748715
DTSTART;TZID=Europe/Berlin:20260521T143000
DURATION:PT30M
LOCATION:St. Ludwig
END:VEVENT
BEGIN:VEVENT
UID:sabre-vobject-2c5ac6dd-3c13-4741-b7c4-f4f89bb862cf
DTSTAMP:20260421T210311Z
SUMMARY:Heilige Messe
DESCRIPTION:https://pfarreien-bistum-augsburg.df-preview.de/heilige-messe_i
 d1748716
DTSTART;TZID=Europe/Berlin:20260522T183000
DURATION:PT30M
LOCATION:St. Ludwig
END:VEVENT
BEGIN:VEVENT
UID:sabre-vobject-f8d6cbf4-e501-4c54-9485-c88f699605cc
DTSTAMP:20260421T210311Z
SUMMARY:Pfarrgemeinderatssitzung im Kath. Pfarr- und Jugendheim
DESCRIPTION:https://pfarreien-bistum-augsburg.df-preview.de/pfarrgemeindera
 tssitzung-im-kath-pfarr-und-jugendheim_id1748717
DTSTART;TZID=Europe/Berlin:20260522T191500
DURATION:PT30M
LOCATION:St. Ludwig
END:VEVENT
END:VCALENDAR
