BEGIN:VCALENDAR
VERSION:2.0
PRODID:-//Sabre//Sabre VObject 4.5.8//EN
CALSCALE:GREGORIAN
NAME:Bistum Augsburg
X-WR-CALNAME:Bistum Augsburg
BEGIN:VEVENT
UID:sabre-vobject-14d6177a-4f0b-4893-9cd7-9d2c3aa2f933
DTSTAMP:20260421T173524Z
SUMMARY:Rosenkranz
DESCRIPTION:https://pfarreien-bistum-augsburg.df-preview.de/rosenkranz_id17
 42142
DTSTART;TZID=Europe/Berlin:20260422T160000
DURATION:PT30M
LOCATION:St. Otmar
END:VEVENT
BEGIN:VEVENT
UID:sabre-vobject-a4458d8a-7944-4339-8d51-8d891eb5dd23
DTSTAMP:20260421T173524Z
SUMMARY:Pfarrgemeinderatsitzung im HDG
DESCRIPTION:https://pfarreien-bistum-augsburg.df-preview.de/pfarrgemeindera
 tsitzung-im-hdg_id1742137
DTSTART;TZID=Europe/Berlin:20260422T200000
DURATION:PT30M
LOCATION:St. Otmar
END:VEVENT
END:VCALENDAR
