BEGIN:VCALENDAR
VERSION:2.0
PRODID:-//Sabre//Sabre VObject 4.5.8//EN
CALSCALE:GREGORIAN
NAME:Bistum Augsburg
X-WR-CALNAME:Bistum Augsburg
BEGIN:VEVENT
UID:sabre-vobject-a3dc6287-1d08-4116-b606-9bc971b68767
DTSTAMP:20260421T185742Z
SUMMARY:Vorabendmesse
DESCRIPTION:https://pfarreien-bistum-augsburg.df-preview.de/vorabendmesse_i
 d1614651
DTSTART;TZID=Europe/Berlin:20260425T190000
DURATION:PT30M
LOCATION:St. Martin
END:VEVENT
BEGIN:VEVENT
UID:sabre-vobject-577ca4ed-005f-4bdc-8cf9-90193179c50f
DTSTAMP:20260421T185742Z
SUMMARY:Vorabendmesse
DESCRIPTION:https://pfarreien-bistum-augsburg.df-preview.de/vorabendmesse_i
 d1743370
DTSTART;TZID=Europe/Berlin:20260425T190000
DURATION:PT30M
LOCATION:St. Martin
END:VEVENT
BEGIN:VEVENT
UID:sabre-vobject-2ed95c72-2cb8-4dc7-9952-61d257b8e5fb
DTSTAMP:20260421T185742Z
SUMMARY:Rosenkranz
DESCRIPTION:https://pfarreien-bistum-augsburg.df-preview.de/rosenkranz_id16
 14615
DTSTART;TZID=Europe/Berlin:20260426T183000
DURATION:PT30M
LOCATION:St. Martin
END:VEVENT
BEGIN:VEVENT
UID:sabre-vobject-064b6ffc-450f-444f-a9f7-3b3864952d65
DTSTAMP:20260421T185742Z
SUMMARY:Rosenkranz
DESCRIPTION:https://pfarreien-bistum-augsburg.df-preview.de/rosenkranz_id17
 43362
DTSTART;TZID=Europe/Berlin:20260426T183000
DURATION:PT30M
LOCATION:St. Martin
END:VEVENT
BEGIN:VEVENT
UID:sabre-vobject-c332d6c9-87df-4cc4-8ae6-3e8b8453b924
DTSTAMP:20260421T185742Z
SUMMARY:Heilige Messe
DESCRIPTION:https://pfarreien-bistum-augsburg.df-preview.de/heilige-messe_i
 d1614617
DTSTART;TZID=Europe/Berlin:20260503T083000
DURATION:PT30M
LOCATION:St. Martin
END:VEVENT
BEGIN:VEVENT
UID:sabre-vobject-3e07fdbd-232f-40aa-9fb3-89615060c27e
DTSTAMP:20260421T185742Z
SUMMARY:Heilige Messe
DESCRIPTION:https://pfarreien-bistum-augsburg.df-preview.de/heilige-messe_i
 d1743364
DTSTART;TZID=Europe/Berlin:20260503T083000
DURATION:PT30M
LOCATION:St. Martin
END:VEVENT
BEGIN:VEVENT
UID:sabre-vobject-ef5b63ae-df1e-42c5-9cf3-4f9e2d07ca82
DTSTAMP:20260421T185742Z
SUMMARY:Anbetung mit Stundengebet
DESCRIPTION:https://pfarreien-bistum-augsburg.df-preview.de/anbetung-mit-st
 undengebet_id1614618
DTSTART;TZID=Europe/Berlin:20260506T180000
DURATION:PT30M
LOCATION:St. Martin
END:VEVENT
BEGIN:VEVENT
UID:sabre-vobject-725f8ded-c193-46e0-b529-0da78c09d286
DTSTAMP:20260421T185742Z
SUMMARY:Anbetung mit Stundengebet
DESCRIPTION:https://pfarreien-bistum-augsburg.df-preview.de/anbetung-mit-st
 undengebet_id1743365
DTSTART;TZID=Europe/Berlin:20260506T180000
DURATION:PT30M
LOCATION:St. Martin
END:VEVENT
BEGIN:VEVENT
UID:sabre-vobject-025c2173-fb50-466e-9945-e14d1d208375
DTSTAMP:20260421T185742Z
SUMMARY:Vorabendmesse
DESCRIPTION:https://pfarreien-bistum-augsburg.df-preview.de/vorabendmesse_i
 d1614652
DTSTART;TZID=Europe/Berlin:20260509T190000
DURATION:PT30M
LOCATION:St. Martin
END:VEVENT
BEGIN:VEVENT
UID:sabre-vobject-4abeef88-e031-432d-b912-65475313d41e
DTSTAMP:20260421T185742Z
SUMMARY:Vorabendmesse für die Lebenden und Verstorbenen unserer Pfarreien
DESCRIPTION:https://pfarreien-bistum-augsburg.df-preview.de/vorabendmesse-f
 uer-die-lebenden-und-verstorbenen-unserer-pfarreien_id1743371
DTSTART;TZID=Europe/Berlin:20260509T190000
DURATION:PT30M
LOCATION:St. Martin
END:VEVENT
BEGIN:VEVENT
UID:sabre-vobject-2eef70e5-c8ec-4e59-a218-d59de555b98c
DTSTAMP:20260421T185742Z
SUMMARY:Maiandacht
DESCRIPTION:https://pfarreien-bistum-augsburg.df-preview.de/maiandacht_id16
 14653
DTSTART;TZID=Europe/Berlin:20260510T190000
DURATION:PT30M
LOCATION:St. Martin
END:VEVENT
BEGIN:VEVENT
UID:sabre-vobject-c7495afc-b491-4595-bd6d-45efa06f6ff9
DTSTAMP:20260421T185742Z
SUMMARY:Maiandacht
DESCRIPTION:https://pfarreien-bistum-augsburg.df-preview.de/maiandacht_id17
 43372
DTSTART;TZID=Europe/Berlin:20260510T190000
DURATION:PT30M
LOCATION:St. Martin
END:VEVENT
BEGIN:VEVENT
UID:sabre-vobject-bf39e270-0d69-4121-8556-d5cc2e06f7d3
DTSTAMP:20260421T185742Z
SUMMARY:Heilige Messe
DESCRIPTION:https://pfarreien-bistum-augsburg.df-preview.de/heilige-messe_i
 d1614800
DTSTART;TZID=Europe/Berlin:20260517T083000
DURATION:PT30M
LOCATION:St. Martin
END:VEVENT
BEGIN:VEVENT
UID:sabre-vobject-2c9f1afb-aa3e-4cea-a2b9-ec8b57268651
DTSTAMP:20260421T185742Z
SUMMARY:Vorabendmesse
DESCRIPTION:https://pfarreien-bistum-augsburg.df-preview.de/vorabendmesse_i
 d1614801
DTSTART;TZID=Europe/Berlin:20260523T190000
DURATION:PT30M
LOCATION:St. Martin
END:VEVENT
BEGIN:VEVENT
UID:sabre-vobject-5050c17c-7518-4cd9-9761-497d5b574bfa
DTSTAMP:20260421T185742Z
SUMMARY:Rosenkranz
DESCRIPTION:https://pfarreien-bistum-augsburg.df-preview.de/rosenkranz_id16
 14802
DTSTART;TZID=Europe/Berlin:20260524T183000
DURATION:PT30M
LOCATION:St. Martin
END:VEVENT
BEGIN:VEVENT
UID:sabre-vobject-70e7ca37-8418-4e0d-a500-d17e930d4b93
DTSTAMP:20260421T185742Z
SUMMARY:Heilige Messe
DESCRIPTION:https://pfarreien-bistum-augsburg.df-preview.de/heilige-messe_i
 d1614803
DTSTART;TZID=Europe/Berlin:20260531T083000
DURATION:PT30M
LOCATION:St. Martin
END:VEVENT
BEGIN:VEVENT
UID:sabre-vobject-efedafe6-1885-4f1a-bef5-8b78b19a0a15
DTSTAMP:20260421T185742Z
SUMMARY:Vorabendmesse
DESCRIPTION:https://pfarreien-bistum-augsburg.df-preview.de/vorabendmesse_i
 d1614804
DTSTART;TZID=Europe/Berlin:20260606T190000
DURATION:PT30M
LOCATION:St. Martin
END:VEVENT
BEGIN:VEVENT
UID:sabre-vobject-d3c7ef9e-ee88-415a-a51a-871c7f276679
DTSTAMP:20260421T185742Z
SUMMARY:Rosenkranz
DESCRIPTION:https://pfarreien-bistum-augsburg.df-preview.de/rosenkranz_id16
 14805
DTSTART;TZID=Europe/Berlin:20260607T183000
DURATION:PT30M
LOCATION:St. Martin
END:VEVENT
BEGIN:VEVENT
UID:sabre-vobject-ed2745d0-995e-4f05-a024-c088aa523638
DTSTAMP:20260421T185742Z
SUMMARY:Anbetung mit Stundengebet
DESCRIPTION:https://pfarreien-bistum-augsburg.df-preview.de/anbetung-mit-st
 undengebet_id1614806
DTSTART;TZID=Europe/Berlin:20260610T180000
DURATION:PT30M
LOCATION:St. Martin
END:VEVENT
BEGIN:VEVENT
UID:sabre-vobject-2126888a-d9c3-4fcf-afe2-3045c682d9c1
DTSTAMP:20260421T185742Z
SUMMARY:Heilige Messe
DESCRIPTION:https://pfarreien-bistum-augsburg.df-preview.de/heilige-messe_i
 d1614826
DTSTART;TZID=Europe/Berlin:20260614T083000
DURATION:PT30M
LOCATION:St. Martin
END:VEVENT
BEGIN:VEVENT
UID:sabre-vobject-5f171e7f-4617-4403-bc3e-e9ebce0e03a7
DTSTAMP:20260421T185742Z
SUMMARY:Rosenkranz
DESCRIPTION:https://pfarreien-bistum-augsburg.df-preview.de/rosenkranz_id16
 14827
DTSTART;TZID=Europe/Berlin:20260614T183000
DURATION:PT30M
LOCATION:St. Martin
END:VEVENT
BEGIN:VEVENT
UID:sabre-vobject-504b7608-9820-4b6a-bfe7-ff637da8c960
DTSTAMP:20260421T185742Z
SUMMARY:Vorabendmesse
DESCRIPTION:https://pfarreien-bistum-augsburg.df-preview.de/vorabendmesse_i
 d1614935
DTSTART;TZID=Europe/Berlin:20260620T190000
DURATION:PT30M
LOCATION:St. Martin
END:VEVENT
BEGIN:VEVENT
UID:sabre-vobject-3c6e9e38-98db-4ef5-9287-c1e60c616ce8
DTSTAMP:20260421T185742Z
SUMMARY:Rosenkranz
DESCRIPTION:https://pfarreien-bistum-augsburg.df-preview.de/rosenkranz_id16
 14936
DTSTART;TZID=Europe/Berlin:20260621T183000
DURATION:PT30M
LOCATION:St. Martin
END:VEVENT
BEGIN:VEVENT
UID:sabre-vobject-e1ab449d-7f28-44e8-bbc5-a94cee4d7ccc
DTSTAMP:20260421T185742Z
SUMMARY:Heilige Messe
DESCRIPTION:https://pfarreien-bistum-augsburg.df-preview.de/heilige-messe_i
 d1614937
DTSTART;TZID=Europe/Berlin:20260628T083000
DURATION:PT30M
LOCATION:St. Martin
END:VEVENT
BEGIN:VEVENT
UID:sabre-vobject-feb8210a-09cb-4bb6-bbf3-ec9cfc1d5e7c
DTSTAMP:20260421T185742Z
SUMMARY:Rosenkranz
DESCRIPTION:https://pfarreien-bistum-augsburg.df-preview.de/rosenkranz_id16
 14938
DTSTART;TZID=Europe/Berlin:20260628T183000
DURATION:PT30M
LOCATION:St. Martin
END:VEVENT
BEGIN:VEVENT
UID:sabre-vobject-629fcbe1-85e2-4f92-83dd-f5e7714c71b1
DTSTAMP:20260421T185742Z
SUMMARY:Vorabendmesse
DESCRIPTION:https://pfarreien-bistum-augsburg.df-preview.de/vorabendmesse_i
 d1614939
DTSTART;TZID=Europe/Berlin:20260704T190000
DURATION:PT30M
LOCATION:St. Martin
END:VEVENT
BEGIN:VEVENT
UID:sabre-vobject-3fddc0bb-33f8-43da-855f-d20cb6da2ca3
DTSTAMP:20260421T185742Z
SUMMARY:Rosenkranz
DESCRIPTION:https://pfarreien-bistum-augsburg.df-preview.de/rosenkranz_id16
 14963
DTSTART;TZID=Europe/Berlin:20260705T183000
DURATION:PT30M
LOCATION:St. Martin
END:VEVENT
BEGIN:VEVENT
UID:sabre-vobject-9493d97f-d528-4b5c-891d-9943d0b801aa
DTSTAMP:20260421T185742Z
SUMMARY:Anbetung mit Stundengebet
DESCRIPTION:https://pfarreien-bistum-augsburg.df-preview.de/anbetung-mit-st
 undengebet_id1614964
DTSTART;TZID=Europe/Berlin:20260708T180000
DURATION:PT30M
LOCATION:St. Martin
END:VEVENT
BEGIN:VEVENT
UID:sabre-vobject-4af6f26e-913c-4d7b-986e-6b0ad403c9c1
DTSTAMP:20260421T185742Z
SUMMARY:Heilige Messe
DESCRIPTION:https://pfarreien-bistum-augsburg.df-preview.de/heilige-messe_i
 d1614965
DTSTART;TZID=Europe/Berlin:20260712T083000
DURATION:PT30M
LOCATION:St. Martin
END:VEVENT
BEGIN:VEVENT
UID:sabre-vobject-34348499-6f8c-4abf-8252-705c4dc7c5f1
DTSTAMP:20260421T185742Z
SUMMARY:Rosenkranz
DESCRIPTION:https://pfarreien-bistum-augsburg.df-preview.de/rosenkranz_id16
 14966
DTSTART;TZID=Europe/Berlin:20260712T183000
DURATION:PT30M
LOCATION:St. Martin
END:VEVENT
BEGIN:VEVENT
UID:sabre-vobject-d1f88f4f-e7c0-406b-a459-07382c253c84
DTSTAMP:20260421T185742Z
SUMMARY:Vorabendmesse
DESCRIPTION:https://pfarreien-bistum-augsburg.df-preview.de/vorabendmesse_i
 d1614967
DTSTART;TZID=Europe/Berlin:20260718T190000
DURATION:PT30M
LOCATION:St. Martin
END:VEVENT
BEGIN:VEVENT
UID:sabre-vobject-b799668c-d813-4e22-bf14-3b28de38b83e
DTSTAMP:20260421T185742Z
SUMMARY:Rosenkranz
DESCRIPTION:https://pfarreien-bistum-augsburg.df-preview.de/rosenkranz_id16
 14968
DTSTART;TZID=Europe/Berlin:20260719T183000
DURATION:PT30M
LOCATION:St. Martin
END:VEVENT
BEGIN:VEVENT
UID:sabre-vobject-53d8ee86-b68e-47b5-95ba-b642c205f1d8
DTSTAMP:20260421T185742Z
SUMMARY:Heilige Messe
DESCRIPTION:https://pfarreien-bistum-augsburg.df-preview.de/heilige-messe_i
 d1614969
DTSTART;TZID=Europe/Berlin:20260726T083000
DURATION:PT30M
LOCATION:St. Martin
END:VEVENT
BEGIN:VEVENT
UID:sabre-vobject-44e27c94-030b-4246-8d9c-74c40f204100
DTSTAMP:20260421T185742Z
SUMMARY:Rosenkranz
DESCRIPTION:https://pfarreien-bistum-augsburg.df-preview.de/rosenkranz_id16
 14970
DTSTART;TZID=Europe/Berlin:20260726T183000
DURATION:PT30M
LOCATION:St. Martin
END:VEVENT
BEGIN:VEVENT
UID:sabre-vobject-ac9758bf-bc03-4189-9fbd-88ba67234d1c
DTSTAMP:20260421T185742Z
SUMMARY:Satio zum Bittgang nach St. Kastl\nBei Frau Heckl Kirche reserviere
 n Telefon: 08453/330445\nOrganist und Minis von St. kastl
DESCRIPTION:https://pfarreien-bistum-augsburg.df-preview.de/satio-zum-bittg
 ang-nach-st-kastl-bei-frau-heckl-kirche-reservieren-telefon-08453-330445-o
 rganist-und-minis-von-st-kastl_id1614971
DTSTART;TZID=Europe/Berlin:20260731T174500
DURATION:PT30M
LOCATION:St. Martin
END:VEVENT
BEGIN:VEVENT
UID:sabre-vobject-913d072f-5bf2-4e57-8551-0ceea5161527
DTSTAMP:20260421T185742Z
SUMMARY:Hl. Messe in der Wahllfahrtskirche St. Kastulus in den Anliegen der
  Wallfahrer und ihrer Familien
DESCRIPTION:https://pfarreien-bistum-augsburg.df-preview.de/hl-messe-in-der
 -wahllfahrtskirche-st-kastulus-in-den-anliegen-der-wallfahrer-und-ihrer-fa
 milien_id1614972
DTSTART;TZID=Europe/Berlin:20260731T190000
DURATION:PT30M
LOCATION:St. Martin
END:VEVENT
BEGIN:VEVENT
UID:sabre-vobject-01c88826-dd6e-43ab-ad96-5bf8e2b49ebf
DTSTAMP:20260421T185742Z
SUMMARY:Vorabendmesse
DESCRIPTION:https://pfarreien-bistum-augsburg.df-preview.de/vorabendmesse_i
 d1614973
DTSTART;TZID=Europe/Berlin:20260801T190000
DURATION:PT30M
LOCATION:St. Martin
END:VEVENT
BEGIN:VEVENT
UID:sabre-vobject-1d7fd779-e283-405e-86da-88807435b3f2
DTSTAMP:20260421T185742Z
SUMMARY:Rosenkranz
DESCRIPTION:https://pfarreien-bistum-augsburg.df-preview.de/rosenkranz_id16
 14974
DTSTART;TZID=Europe/Berlin:20260802T183000
DURATION:PT30M
LOCATION:St. Martin
END:VEVENT
BEGIN:VEVENT
UID:sabre-vobject-3b0afc31-c51b-42c3-852f-30ea11c58ab9
DTSTAMP:20260421T185742Z
SUMMARY:Heilige Messe
DESCRIPTION:https://pfarreien-bistum-augsburg.df-preview.de/heilige-messe_i
 d1614975
DTSTART;TZID=Europe/Berlin:20260809T083000
DURATION:PT30M
LOCATION:St. Martin
END:VEVENT
BEGIN:VEVENT
UID:sabre-vobject-fcfe9888-f9a9-4d45-bf47-6e752225604e
DTSTAMP:20260421T185742Z
SUMMARY:Rosenkranz
DESCRIPTION:https://pfarreien-bistum-augsburg.df-preview.de/rosenkranz_id16
 15011
DTSTART;TZID=Europe/Berlin:20260809T183000
DURATION:PT30M
LOCATION:St. Martin
END:VEVENT
BEGIN:VEVENT
UID:sabre-vobject-4e759ffe-3282-4e80-b0c2-25b2c0b9b63a
DTSTAMP:20260421T185742Z
SUMMARY:Vorabendmesse
DESCRIPTION:https://pfarreien-bistum-augsburg.df-preview.de/vorabendmesse_i
 d1615012
DTSTART;TZID=Europe/Berlin:20260815T190000
DURATION:PT30M
LOCATION:St. Martin
END:VEVENT
BEGIN:VEVENT
UID:sabre-vobject-3be46b3d-f395-4a41-a649-754fa3f41a3b
DTSTAMP:20260421T185742Z
SUMMARY:Rosenkranz
DESCRIPTION:https://pfarreien-bistum-augsburg.df-preview.de/rosenkranz_id16
 15033
DTSTART;TZID=Europe/Berlin:20260816T183000
DURATION:PT30M
LOCATION:St. Martin
END:VEVENT
BEGIN:VEVENT
UID:sabre-vobject-afe68879-fa5e-4cde-ae6f-e5a5fb43004d
DTSTAMP:20260421T185742Z
SUMMARY:Heilige Messe
DESCRIPTION:https://pfarreien-bistum-augsburg.df-preview.de/heilige-messe_i
 d1615034
DTSTART;TZID=Europe/Berlin:20260823T083000
DURATION:PT30M
LOCATION:St. Martin
END:VEVENT
BEGIN:VEVENT
UID:sabre-vobject-4afe2a96-5e7a-485e-94f7-d9590d75587c
DTSTAMP:20260421T185742Z
SUMMARY:Rosenkranz
DESCRIPTION:https://pfarreien-bistum-augsburg.df-preview.de/rosenkranz_id16
 15035
DTSTART;TZID=Europe/Berlin:20260823T183000
DURATION:PT30M
LOCATION:St. Martin
END:VEVENT
BEGIN:VEVENT
UID:sabre-vobject-c0ad967f-ec7e-4936-8f67-de00aecd3780
DTSTAMP:20260421T185742Z
SUMMARY:Vorabendmesse
DESCRIPTION:https://pfarreien-bistum-augsburg.df-preview.de/vorabendmesse_i
 d1615036
DTSTART;TZID=Europe/Berlin:20260829T190000
DURATION:PT30M
LOCATION:St. Martin
END:VEVENT
BEGIN:VEVENT
UID:sabre-vobject-b6fd6735-ebc5-4c38-91b8-884cfa3e51d1
DTSTAMP:20260421T185742Z
SUMMARY:Rosenkranz
DESCRIPTION:https://pfarreien-bistum-augsburg.df-preview.de/rosenkranz_id16
 15037
DTSTART;TZID=Europe/Berlin:20260830T183000
DURATION:PT30M
LOCATION:St. Martin
END:VEVENT
BEGIN:VEVENT
UID:sabre-vobject-d7e6c44e-a9d5-4b95-9c88-ec46c2d8990f
DTSTAMP:20260421T185742Z
SUMMARY:Heilige Messe
DESCRIPTION:https://pfarreien-bistum-augsburg.df-preview.de/heilige-messe_i
 d1615038
DTSTART;TZID=Europe/Berlin:20260906T083000
DURATION:PT30M
LOCATION:St. Martin
END:VEVENT
BEGIN:VEVENT
UID:sabre-vobject-ea29e4f5-a9e1-4b29-b22c-a1df73d86883
DTSTAMP:20260421T185742Z
SUMMARY:Rosenkranz
DESCRIPTION:https://pfarreien-bistum-augsburg.df-preview.de/rosenkranz_id16
 15039
DTSTART;TZID=Europe/Berlin:20260906T183000
DURATION:PT30M
LOCATION:St. Martin
END:VEVENT
BEGIN:VEVENT
UID:sabre-vobject-b61a7086-86be-4f00-af9c-82606ee23322
DTSTAMP:20260421T185742Z
SUMMARY:Anbetung mit Stundengebet
DESCRIPTION:https://pfarreien-bistum-augsburg.df-preview.de/anbetung-mit-st
 undengebet_id1615040
DTSTART;TZID=Europe/Berlin:20260909T180000
DURATION:PT30M
LOCATION:St. Martin
END:VEVENT
BEGIN:VEVENT
UID:sabre-vobject-c1c64e22-278a-40cd-9e8f-7ae319bd8ba1
DTSTAMP:20260421T185742Z
SUMMARY:Vorabendmesse
DESCRIPTION:https://pfarreien-bistum-augsburg.df-preview.de/vorabendmesse_i
 d1615041
DTSTART;TZID=Europe/Berlin:20260912T190000
DURATION:PT30M
LOCATION:St. Martin
END:VEVENT
BEGIN:VEVENT
UID:sabre-vobject-949e00fd-9ae8-4dfe-a24c-9b0198f03092
DTSTAMP:20260421T185742Z
SUMMARY:Rosenkranz
DESCRIPTION:https://pfarreien-bistum-augsburg.df-preview.de/rosenkranz_id16
 15042
DTSTART;TZID=Europe/Berlin:20260913T183000
DURATION:PT30M
LOCATION:St. Martin
END:VEVENT
BEGIN:VEVENT
UID:sabre-vobject-bb019ded-d80f-4e28-8eaf-b9ce92611dfe
DTSTAMP:20260421T185742Z
SUMMARY:Heilige Messe
DESCRIPTION:https://pfarreien-bistum-augsburg.df-preview.de/heilige-messe_i
 d1615043
DTSTART;TZID=Europe/Berlin:20260920T083000
DURATION:PT30M
LOCATION:St. Martin
END:VEVENT
BEGIN:VEVENT
UID:sabre-vobject-9008f0b1-7d0b-4aae-9e12-31d28dd64ee6
DTSTAMP:20260421T185742Z
SUMMARY:Rosenkranz
DESCRIPTION:https://pfarreien-bistum-augsburg.df-preview.de/rosenkranz_id16
 15044
DTSTART;TZID=Europe/Berlin:20260920T183000
DURATION:PT30M
LOCATION:St. Martin
END:VEVENT
BEGIN:VEVENT
UID:sabre-vobject-8463a44f-9e4b-4562-a210-316bb891b202
DTSTAMP:20260421T185742Z
SUMMARY:Vorabendmesse
DESCRIPTION:https://pfarreien-bistum-augsburg.df-preview.de/vorabendmesse_i
 d1615045
DTSTART;TZID=Europe/Berlin:20260926T190000
DURATION:PT30M
LOCATION:St. Martin
END:VEVENT
BEGIN:VEVENT
UID:sabre-vobject-283f0c52-850f-4a99-a79f-e77fd0a48672
DTSTAMP:20260421T185742Z
SUMMARY:Rosenkranz
DESCRIPTION:https://pfarreien-bistum-augsburg.df-preview.de/rosenkranz_id16
 15046
DTSTART;TZID=Europe/Berlin:20260927T183000
DURATION:PT30M
LOCATION:St. Martin
END:VEVENT
BEGIN:VEVENT
UID:sabre-vobject-a3d9910f-6dd9-479e-86ea-5ff85131e259
DTSTAMP:20260421T185742Z
SUMMARY:Heilige Messe
DESCRIPTION:https://pfarreien-bistum-augsburg.df-preview.de/heilige-messe_i
 d1615047
DTSTART;TZID=Europe/Berlin:20261004T083000
DURATION:PT30M
LOCATION:St. Martin
END:VEVENT
BEGIN:VEVENT
UID:sabre-vobject-b125717e-dea1-4db7-8137-8f7510d0f602
DTSTAMP:20260421T185742Z
SUMMARY:Rosenkranz
DESCRIPTION:https://pfarreien-bistum-augsburg.df-preview.de/rosenkranz_id16
 15048
DTSTART;TZID=Europe/Berlin:20261004T183000
DURATION:PT30M
LOCATION:St. Martin
END:VEVENT
BEGIN:VEVENT
UID:sabre-vobject-6aab85de-69f8-4797-931a-96672ff3f8cb
DTSTAMP:20260421T185742Z
SUMMARY:Vorabendmesse
DESCRIPTION:https://pfarreien-bistum-augsburg.df-preview.de/vorabendmesse_i
 d1615049
DTSTART;TZID=Europe/Berlin:20261010T190000
DURATION:PT30M
LOCATION:St. Martin
END:VEVENT
BEGIN:VEVENT
UID:sabre-vobject-eb1519fc-1efc-46cf-b9d3-f1d3e2978d4c
DTSTAMP:20260421T185742Z
SUMMARY:Rosenkranz
DESCRIPTION:https://pfarreien-bistum-augsburg.df-preview.de/rosenkranz_id16
 15050
DTSTART;TZID=Europe/Berlin:20261011T183000
DURATION:PT30M
LOCATION:St. Martin
END:VEVENT
BEGIN:VEVENT
UID:sabre-vobject-13bc535c-5b19-4a90-a335-3031809ee15f
DTSTAMP:20260421T185742Z
SUMMARY:Heilige Messe
DESCRIPTION:https://pfarreien-bistum-augsburg.df-preview.de/heilige-messe_i
 d1615051
DTSTART;TZID=Europe/Berlin:20261018T083000
DURATION:PT30M
LOCATION:St. Martin
END:VEVENT
BEGIN:VEVENT
UID:sabre-vobject-ff7942e6-4956-44d2-8cb5-2a57dc96ec46
DTSTAMP:20260421T185742Z
SUMMARY:Rosenkranz
DESCRIPTION:https://pfarreien-bistum-augsburg.df-preview.de/rosenkranz_id16
 15190
DTSTART;TZID=Europe/Berlin:20261018T183000
DURATION:PT30M
LOCATION:St. Martin
END:VEVENT
BEGIN:VEVENT
UID:sabre-vobject-e4e05bef-d39f-48e7-aee4-9199ce07968c
DTSTAMP:20260421T185743Z
SUMMARY:Vorabendmesse
DESCRIPTION:https://pfarreien-bistum-augsburg.df-preview.de/vorabendmesse_i
 d1615191
DTSTART;TZID=Europe/Berlin:20261024T190000
DURATION:PT30M
LOCATION:St. Martin
END:VEVENT
BEGIN:VEVENT
UID:sabre-vobject-ef95697b-2ab7-488b-96ed-4f26b83b8ba4
DTSTAMP:20260421T185743Z
SUMMARY:Rosenkranz
DESCRIPTION:https://pfarreien-bistum-augsburg.df-preview.de/rosenkranz_id16
 15192
DTSTART;TZID=Europe/Berlin:20261025T170000
DURATION:PT30M
LOCATION:St. Martin
END:VEVENT
BEGIN:VEVENT
UID:sabre-vobject-54b345de-ddda-4b44-be9e-871d71657578
DTSTAMP:20260421T185743Z
SUMMARY:Heilige Messe - ancshließend Gräbersegnung
DESCRIPTION:https://pfarreien-bistum-augsburg.df-preview.de/heilige-messe-a
 ncshliessend-graebersegnung_id1615193
DTSTART;TZID=Europe/Berlin:20261101T140000
DURATION:PT30M
LOCATION:St. Martin
END:VEVENT
BEGIN:VEVENT
UID:sabre-vobject-3509e9a9-cc9b-4f8d-9d77-1d7587c4add5
DTSTAMP:20260421T185743Z
SUMMARY:Rosenkranz
DESCRIPTION:https://pfarreien-bistum-augsburg.df-preview.de/rosenkranz_id16
 15194
DTSTART;TZID=Europe/Berlin:20261101T170000
DURATION:PT30M
LOCATION:St. Martin
END:VEVENT
BEGIN:VEVENT
UID:sabre-vobject-9278dff8-a35b-44c6-b930-2b607dab56df
DTSTAMP:20260421T185743Z
SUMMARY:Gedenkgottesdienst für die gefallenen und vermissten Krieger sowie
  für die verstorbenen Mitglieder des Krieger- und Kameradenvereins Fahlen
 bach
DESCRIPTION:https://pfarreien-bistum-augsburg.df-preview.de/gedenkgottesdie
 nst-fuer-die-gefallenen-und-vermissten-krieger-sowie-fuer-die-verstorbenen
 -mitglieder-des-krieger-und-kameradenvereins-fahlenbach_id1615220
DTSTART;TZID=Europe/Berlin:20261107T140000
DURATION:PT30M
LOCATION:St. Martin
END:VEVENT
BEGIN:VEVENT
UID:sabre-vobject-34e01012-6465-416a-9f50-1f9393d29ed7
DTSTAMP:20260421T185743Z
SUMMARY:Rosenkranz
DESCRIPTION:https://pfarreien-bistum-augsburg.df-preview.de/rosenkranz_id16
 15221
DTSTART;TZID=Europe/Berlin:20261108T170000
DURATION:PT30M
LOCATION:St. Martin
END:VEVENT
BEGIN:VEVENT
UID:sabre-vobject-e12d59bb-eda8-44d4-9887-c76062f3b267
DTSTAMP:20260421T185743Z
SUMMARY:Heilige Messe PATROZINIUM - Gottesdienst am Wochenende
DESCRIPTION:https://pfarreien-bistum-augsburg.df-preview.de/heilige-messe-p
 atrozinium-gottesdienst-am-wochenende_id1615222
DTSTART;TZID=Europe/Berlin:20261111T000000
DURATION:PT30M
LOCATION:St. Martin
END:VEVENT
BEGIN:VEVENT
UID:sabre-vobject-d5fcf4c7-cb2f-4290-932b-14e37e09f9c2
DTSTAMP:20260421T185743Z
SUMMARY:Heilige Messe
DESCRIPTION:https://pfarreien-bistum-augsburg.df-preview.de/heilige-messe_i
 d1615223
DTSTART;TZID=Europe/Berlin:20261115T083000
DURATION:PT30M
LOCATION:St. Martin
END:VEVENT
BEGIN:VEVENT
UID:sabre-vobject-c1720da1-a10a-49a4-b1f7-cd5c0fe6b705
DTSTAMP:20260421T185743Z
SUMMARY:Rosenkranz
DESCRIPTION:https://pfarreien-bistum-augsburg.df-preview.de/rosenkranz_id16
 15224
DTSTART;TZID=Europe/Berlin:20261115T170000
DURATION:PT30M
LOCATION:St. Martin
END:VEVENT
BEGIN:VEVENT
UID:sabre-vobject-3f7eb53a-c339-4049-b4b0-04b6e60e1027
DTSTAMP:20260421T185743Z
SUMMARY:Vorabendmesse
DESCRIPTION:https://pfarreien-bistum-augsburg.df-preview.de/vorabendmesse_i
 d1614722
DTSTART;TZID=Europe/Berlin:20261121T180000
DURATION:PT30M
LOCATION:St. Martin
END:VEVENT
BEGIN:VEVENT
UID:sabre-vobject-e0b048af-010f-41f7-a5eb-94e0ac3846b3
DTSTAMP:20260421T185743Z
SUMMARY:Rosenkranz
DESCRIPTION:https://pfarreien-bistum-augsburg.df-preview.de/rosenkranz_id16
 14723
DTSTART;TZID=Europe/Berlin:20261122T170000
DURATION:PT30M
LOCATION:St. Martin
END:VEVENT
BEGIN:VEVENT
UID:sabre-vobject-65ed77ce-4eb6-45f1-9dbc-963b4e3c119e
DTSTAMP:20260421T185743Z
SUMMARY:Heilige Messe
DESCRIPTION:https://pfarreien-bistum-augsburg.df-preview.de/heilige-messe_i
 d1614724
DTSTART;TZID=Europe/Berlin:20261129T083000
DURATION:PT30M
LOCATION:St. Martin
END:VEVENT
BEGIN:VEVENT
UID:sabre-vobject-57ad620f-d3af-4218-885c-9dd202533528
DTSTAMP:20260421T185743Z
SUMMARY:Rosenkranz
DESCRIPTION:https://pfarreien-bistum-augsburg.df-preview.de/rosenkranz_id16
 14725
DTSTART;TZID=Europe/Berlin:20261129T170000
DURATION:PT30M
LOCATION:St. Martin
END:VEVENT
BEGIN:VEVENT
UID:sabre-vobject-176b982a-e3bc-42fb-93fc-3495d6fd51aa
DTSTAMP:20260421T185743Z
SUMMARY:Ewige Anbetung Fahlenbach
DESCRIPTION:https://pfarreien-bistum-augsburg.df-preview.de/ewige-anbetung-
 fahlenbach_id1614726
DTSTART;TZID=Europe/Berlin:20261203T000000
DURATION:PT30M
LOCATION:St. Martin
END:VEVENT
BEGIN:VEVENT
UID:sabre-vobject-bb7d7c19-de26-4860-97b9-f92178ad5b67
DTSTAMP:20260421T185743Z
SUMMARY:Vorabendmesse
DESCRIPTION:https://pfarreien-bistum-augsburg.df-preview.de/vorabendmesse_i
 d1614727
DTSTART;TZID=Europe/Berlin:20261205T180000
DURATION:PT30M
LOCATION:St. Martin
END:VEVENT
BEGIN:VEVENT
UID:sabre-vobject-bf89ba85-a2ed-4a17-a82b-b2603d315bb0
DTSTAMP:20260421T185743Z
SUMMARY:Rosenkranz
DESCRIPTION:https://pfarreien-bistum-augsburg.df-preview.de/rosenkranz_id16
 14728
DTSTART;TZID=Europe/Berlin:20261206T170000
DURATION:PT30M
LOCATION:St. Martin
END:VEVENT
BEGIN:VEVENT
UID:sabre-vobject-1b27c703-13fc-455e-b525-46de94bfc79a
DTSTAMP:20260421T185743Z
SUMMARY:Heilige Messe
DESCRIPTION:https://pfarreien-bistum-augsburg.df-preview.de/heilige-messe_i
 d1614729
DTSTART;TZID=Europe/Berlin:20261213T083000
DURATION:PT30M
LOCATION:St. Martin
END:VEVENT
BEGIN:VEVENT
UID:sabre-vobject-f40749ac-60e8-43ee-adf8-7b2737bd2feb
DTSTAMP:20260421T185743Z
SUMMARY:Rosenkranz
DESCRIPTION:https://pfarreien-bistum-augsburg.df-preview.de/rosenkranz_id16
 14730
DTSTART;TZID=Europe/Berlin:20261213T170000
DURATION:PT30M
LOCATION:St. Martin
END:VEVENT
BEGIN:VEVENT
UID:sabre-vobject-33694c21-04f2-41aa-a5b5-85345bbe672e
DTSTAMP:20260421T185743Z
SUMMARY:Vorabendmesse
DESCRIPTION:https://pfarreien-bistum-augsburg.df-preview.de/vorabendmesse_i
 d1614731
DTSTART;TZID=Europe/Berlin:20261219T180000
DURATION:PT30M
LOCATION:St. Martin
END:VEVENT
BEGIN:VEVENT
UID:sabre-vobject-b0a71b0d-9ae1-4bcb-8ef8-7a2f7fa796ce
DTSTAMP:20260421T185743Z
SUMMARY:Rosenkranz
DESCRIPTION:https://pfarreien-bistum-augsburg.df-preview.de/rosenkranz_id16
 14732
DTSTART;TZID=Europe/Berlin:20261220T170000
DURATION:PT30M
LOCATION:St. Martin
END:VEVENT
BEGIN:VEVENT
UID:sabre-vobject-6cd84969-70ac-4eee-a9fb-e4d1b0d038d2
DTSTAMP:20260421T185743Z
SUMMARY:Heilige Messe
DESCRIPTION:https://pfarreien-bistum-augsburg.df-preview.de/heilige-messe_i
 d1615053
DTSTART;TZID=Europe/Berlin:20261227T083000
DURATION:PT30M
LOCATION:St. Martin
END:VEVENT
BEGIN:VEVENT
UID:sabre-vobject-47233fbc-7514-44b8-b6aa-adc5ea647d90
DTSTAMP:20260421T185743Z
SUMMARY:Rosenkranz
DESCRIPTION:https://pfarreien-bistum-augsburg.df-preview.de/rosenkranz_id16
 15054
DTSTART;TZID=Europe/Berlin:20261227T170000
DURATION:PT30M
LOCATION:St. Martin
END:VEVENT
END:VCALENDAR
