BEGIN:VCALENDAR
VERSION:2.0
PRODID:-//Sabre//Sabre VObject 4.5.8//EN
CALSCALE:GREGORIAN
NAME:Bistum Augsburg
X-WR-CALNAME:Bistum Augsburg
BEGIN:VEVENT
UID:sabre-vobject-e4101656-bbb4-4372-ac64-9fc361b06108
DTSTAMP:20260422T072430Z
SUMMARY:Rosenkranz
DESCRIPTION:https://pfarreien-bistum-augsburg.df-preview.de/rosenkranz_id16
 92739
DTSTART;TZID=Europe/Berlin:20260422T184500
DURATION:PT30M
LOCATION:St. Vitus
END:VEVENT
BEGIN:VEVENT
UID:sabre-vobject-0b494241-c586-40a4-8d32-7067a64ccdbd
DTSTAMP:20260422T072431Z
SUMMARY:Rosenkranz
DESCRIPTION:https://pfarreien-bistum-augsburg.df-preview.de/rosenkranz_id17
 37111
DTSTART;TZID=Europe/Berlin:20260422T184500
DURATION:PT30M
LOCATION:St. Vitus
END:VEVENT
BEGIN:VEVENT
UID:sabre-vobject-0e56c54b-78c8-47a7-bba7-e27ecbfb8a5e
DTSTAMP:20260422T072431Z
SUMMARY:Hl. Messe
DESCRIPTION:https://pfarreien-bistum-augsburg.df-preview.de/hl-messe_id1692
 728
DTSTART;TZID=Europe/Berlin:20260422T191500
DURATION:PT30M
LOCATION:St. Vitus
END:VEVENT
BEGIN:VEVENT
UID:sabre-vobject-cd81143e-1270-4d33-af38-0417d7e96dfd
DTSTAMP:20260422T072431Z
SUMMARY:Hl. Messe
DESCRIPTION:https://pfarreien-bistum-augsburg.df-preview.de/hl-messe_id1737
 096
DTSTART;TZID=Europe/Berlin:20260422T191500
DURATION:PT30M
LOCATION:St. Vitus
END:VEVENT
BEGIN:VEVENT
UID:sabre-vobject-d0e4ae06-e5fc-449d-b46f-093d39216359
DTSTAMP:20260422T072431Z
SUMMARY:Sonntagsgottesdienst
DESCRIPTION:https://pfarreien-bistum-augsburg.df-preview.de/sonntagsgottesd
 ienst_id1692729
DTSTART;TZID=Europe/Berlin:20260426T084500
DURATION:PT30M
LOCATION:St. Vitus
END:VEVENT
BEGIN:VEVENT
UID:sabre-vobject-102aa663-d848-4310-b09b-4bd6ebc9cfd5
DTSTAMP:20260422T072431Z
SUMMARY:Sonntagsgottesdienst
DESCRIPTION:https://pfarreien-bistum-augsburg.df-preview.de/sonntagsgottesd
 ienst_id1737097
DTSTART;TZID=Europe/Berlin:20260426T084500
DURATION:PT30M
LOCATION:St. Vitus
END:VEVENT
BEGIN:VEVENT
UID:sabre-vobject-93caf482-86b9-4d74-a028-b6546e40971a
DTSTAMP:20260422T072431Z
SUMMARY:Erste feierliche Maiandacht
DESCRIPTION:https://pfarreien-bistum-augsburg.df-preview.de/erste-feierlich
 e-maiandacht_id1737253
DTSTART;TZID=Europe/Berlin:20260501T180000
DURATION:PT30M
LOCATION:St. Vitus
END:VEVENT
BEGIN:VEVENT
UID:sabre-vobject-681e2ba7-d950-4092-aa56-27da836722dd
DTSTAMP:20260422T072431Z
SUMMARY:Vorabendgottesdienst
DESCRIPTION:https://pfarreien-bistum-augsburg.df-preview.de/vorabendgottesd
 ienst_id1737254
DTSTART;TZID=Europe/Berlin:20260502T191500
DURATION:PT30M
LOCATION:St. Vitus
END:VEVENT
BEGIN:VEVENT
UID:sabre-vobject-a0c3643a-ab3b-4a8e-a16b-8c0161af2db4
DTSTAMP:20260422T072431Z
SUMMARY:Crescentia-Fußwallfahrt (Landvolk) nach Kaufbeuren\n
DESCRIPTION:https://pfarreien-bistum-augsburg.df-preview.de/crescentia-fuss
 wallfahrt-landvolk-nach-kaufbeuren_id1737255
DTSTART;TZID=Europe/Berlin:20260505T170000
DURATION:PT30M
LOCATION:St. Vitus
END:VEVENT
BEGIN:VEVENT
UID:sabre-vobject-e44ae0ac-a45c-4854-9d9e-f2f1e3bd03e6
DTSTAMP:20260422T072431Z
SUMMARY:Rosenkranz
DESCRIPTION:https://pfarreien-bistum-augsburg.df-preview.de/rosenkranz_id17
 37256
DTSTART;TZID=Europe/Berlin:20260506T184500
DURATION:PT30M
LOCATION:St. Vitus
END:VEVENT
BEGIN:VEVENT
UID:sabre-vobject-44b78e60-f34d-4a6b-bd67-aeb02dc03ea6
DTSTAMP:20260422T072431Z
SUMMARY:Hl. Messe
DESCRIPTION:https://pfarreien-bistum-augsburg.df-preview.de/hl-messe_id1737
 257
DTSTART;TZID=Europe/Berlin:20260506T191500
DURATION:PT30M
LOCATION:St. Vitus
END:VEVENT
BEGIN:VEVENT
UID:sabre-vobject-31b66779-1dd5-4f98-b2fa-06cc63ed15e7
DTSTAMP:20260422T072431Z
SUMMARY:Sonntagsgottesdienst
DESCRIPTION:https://pfarreien-bistum-augsburg.df-preview.de/sonntagsgottesd
 ienst_id1737258
DTSTART;TZID=Europe/Berlin:20260510T101500
DURATION:PT30M
LOCATION:St. Vitus
END:VEVENT
BEGIN:VEVENT
UID:sabre-vobject-dd8ba3d7-814d-475e-9679-7ad16a6f87a6
DTSTAMP:20260422T072431Z
SUMMARY:Maiandacht
DESCRIPTION:https://pfarreien-bistum-augsburg.df-preview.de/maiandacht_id17
 37259
DTSTART;TZID=Europe/Berlin:20260510T190000
DURATION:PT30M
LOCATION:St. Vitus
END:VEVENT
BEGIN:VEVENT
UID:sabre-vobject-8054ea46-ddb0-4a75-a59b-b640a3cc10a7
DTSTAMP:20260422T072431Z
SUMMARY:Bittgang nach Hausen - Feldgottesdienst in Hausen um 19.30 Uhr \n(b
 ei schlechtem Wetter\, Rosenkranz um 19.15 in St. Vitus Mauerstetten)
DESCRIPTION:https://pfarreien-bistum-augsburg.df-preview.de/bittgang-nach-h
 ausen-feldgottesdienst-in-hausen-um-19-30-uhr-bei-schlechtem-wetter-rosenk
 ranz-um-19-15-in-st-vitus-mauerstetten_id1737260
DTSTART;TZID=Europe/Berlin:20260513T190000
DURATION:PT30M
LOCATION:St. Vitus
END:VEVENT
BEGIN:VEVENT
UID:sabre-vobject-bfe469d9-01b8-4957-bb77-ae2977860fa3
DTSTAMP:20260422T072431Z
SUMMARY:Gemeindegottesdienst mit Flurumgang\n-bei schlechtem Wetter\, entf
 ällt der Flurumgang
DESCRIPTION:https://pfarreien-bistum-augsburg.df-preview.de/gemeindegottesd
 ienst-mit-flurumgang-bei-schlechtem-wetter-entfaellt-der-flurumgang_id1737
 261
DTSTART;TZID=Europe/Berlin:20260514T093000
DURATION:PT30M
LOCATION:St. Vitus
END:VEVENT
BEGIN:VEVENT
UID:sabre-vobject-f39d2867-0a38-4076-bd00-2e91fb967003
DTSTAMP:20260422T072431Z
SUMMARY:Vorabendgottesdienst
DESCRIPTION:https://pfarreien-bistum-augsburg.df-preview.de/vorabendgottesd
 ienst_id1737262
DTSTART;TZID=Europe/Berlin:20260516T191500
DURATION:PT30M
LOCATION:St. Vitus
END:VEVENT
BEGIN:VEVENT
UID:sabre-vobject-3d3b903c-3122-41ae-8820-3aaf667e5e73
DTSTAMP:20260422T072431Z
SUMMARY:Rosenkranz
DESCRIPTION:https://pfarreien-bistum-augsburg.df-preview.de/rosenkranz_id17
 37263
DTSTART;TZID=Europe/Berlin:20260520T184500
DURATION:PT30M
LOCATION:St. Vitus
END:VEVENT
BEGIN:VEVENT
UID:sabre-vobject-1e741001-9edc-4629-98ab-76a01a85fb57
DTSTAMP:20260422T072431Z
SUMMARY:Hl. Messe
DESCRIPTION:https://pfarreien-bistum-augsburg.df-preview.de/hl-messe_id1737
 252
DTSTART;TZID=Europe/Berlin:20260520T191500
DURATION:PT30M
LOCATION:St. Vitus
END:VEVENT
BEGIN:VEVENT
UID:sabre-vobject-f4216355-67c1-499e-902d-9ee852a12918
DTSTAMP:20260422T072431Z
SUMMARY:Festgottesdienst
DESCRIPTION:https://pfarreien-bistum-augsburg.df-preview.de/festgottesdiens
 t_id1737274
DTSTART;TZID=Europe/Berlin:20260524T084500
DURATION:PT30M
LOCATION:St. Vitus
END:VEVENT
BEGIN:VEVENT
UID:sabre-vobject-34bcc0bc-2683-49b4-87fe-cac247e90b83
DTSTAMP:20260422T072431Z
SUMMARY:Gemeindegottesdienst
DESCRIPTION:https://pfarreien-bistum-augsburg.df-preview.de/gemeindegottesd
 ienst_id1737275
DTSTART;TZID=Europe/Berlin:20260525T101500
DURATION:PT30M
LOCATION:St. Vitus
END:VEVENT
BEGIN:VEVENT
UID:sabre-vobject-db0e04ed-507d-429b-8db7-dbfe6fd8f15a
DTSTAMP:20260422T072431Z
SUMMARY:Vorabendgottesdienst
DESCRIPTION:https://pfarreien-bistum-augsburg.df-preview.de/vorabendgottesd
 ienst_id1737273
DTSTART;TZID=Europe/Berlin:20260530T191500
DURATION:PT30M
LOCATION:St. Vitus
END:VEVENT
END:VCALENDAR
