BEGIN:VCALENDAR
VERSION:2.0
PRODID:-//Sabre//Sabre VObject 4.5.8//EN
CALSCALE:GREGORIAN
NAME:Bistum Augsburg
X-WR-CALNAME:Bistum Augsburg
BEGIN:VEVENT
UID:sabre-vobject-a53598f0-94f1-400a-89f3-3ccfa61f2396
DTSTAMP:20260423T122402Z
SUMMARY:Eucharistiefeier
DESCRIPTION:https://pfarreien-bistum-augsburg.df-preview.de/eucharistiefeie
 r_id1750856
DTSTART;TZID=Europe/Berlin:20260426T100000
DURATION:PT30M
LOCATION:Zu den Heiligen Engeln
END:VEVENT
BEGIN:VEVENT
UID:sabre-vobject-670852d8-ff2d-444c-96fb-147e7484f5e8
DTSTAMP:20260423T122402Z
SUMMARY:Eucharistiefeier
DESCRIPTION:https://pfarreien-bistum-augsburg.df-preview.de/eucharistiefeie
 r_id1750857
DTSTART;TZID=Europe/Berlin:20260429T183000
DURATION:PT30M
LOCATION:Zu den Heiligen Engeln
END:VEVENT
BEGIN:VEVENT
UID:sabre-vobject-6d3dddb5-db83-4f4a-ae94-5f5013c2aa2f
DTSTAMP:20260423T122402Z
SUMMARY:Eucharistiefeier
DESCRIPTION:https://pfarreien-bistum-augsburg.df-preview.de/eucharistiefeie
 r_id1750875
DTSTART;TZID=Europe/Berlin:20260501T090000
DURATION:PT30M
LOCATION:Zu den Heiligen Engeln
END:VEVENT
BEGIN:VEVENT
UID:sabre-vobject-68890ea0-2737-40d7-980a-9a785c54742c
DTSTAMP:20260423T122402Z
SUMMARY:Maiandacht gest. vom KDFB
DESCRIPTION:https://pfarreien-bistum-augsburg.df-preview.de/maiandacht-gest
 -vom-kdfb_id1750876
DTSTART;TZID=Europe/Berlin:20260501T183000
DURATION:PT30M
LOCATION:Zu den Heiligen Engeln
END:VEVENT
BEGIN:VEVENT
UID:sabre-vobject-6c5b8c0e-f2dc-4431-8d53-4d59253e804c
DTSTAMP:20260423T122402Z
SUMMARY:Eucharistiefeier
DESCRIPTION:https://pfarreien-bistum-augsburg.df-preview.de/eucharistiefeie
 r_id1750877
DTSTART;TZID=Europe/Berlin:20260503T100000
DURATION:PT30M
LOCATION:Zu den Heiligen Engeln
END:VEVENT
BEGIN:VEVENT
UID:sabre-vobject-3eb63e9e-6211-4e58-b8f5-df242a92dc96
DTSTAMP:20260423T122402Z
SUMMARY:Bittmesse in Hohenzell
DESCRIPTION:https://pfarreien-bistum-augsburg.df-preview.de/bittmesse-in-ho
 henzell_id1750878
DTSTART;TZID=Europe/Berlin:20260506T183000
DURATION:PT30M
LOCATION:Zu den Heiligen Engeln
END:VEVENT
BEGIN:VEVENT
UID:sabre-vobject-1124ca09-da63-4a59-b7d4-723416ca1420
DTSTAMP:20260423T122402Z
SUMMARY:Eucharistiefeier
DESCRIPTION:https://pfarreien-bistum-augsburg.df-preview.de/eucharistiefeie
 r_id1750889
DTSTART;TZID=Europe/Berlin:20260510T100000
DURATION:PT30M
LOCATION:Zu den Heiligen Engeln
END:VEVENT
BEGIN:VEVENT
UID:sabre-vobject-820a518d-57d0-4f6a-a308-254e84320be7
DTSTAMP:20260423T122402Z
SUMMARY:Feierliche Maiandacht
DESCRIPTION:https://pfarreien-bistum-augsburg.df-preview.de/feierliche-maia
 ndacht_id1750839
DTSTART;TZID=Europe/Berlin:20260510T183000
DURATION:PT30M
LOCATION:Zu den Heiligen Engeln
END:VEVENT
BEGIN:VEVENT
UID:sabre-vobject-15fadea4-216c-4da7-b30a-f40cd5b55304
DTSTAMP:20260423T122402Z
SUMMARY:Fatimarosenkranz
DESCRIPTION:https://pfarreien-bistum-augsburg.df-preview.de/fatimarosenkran
 z_id1750896
DTSTART;TZID=Europe/Berlin:20260513T173000
DURATION:PT30M
LOCATION:Zu den Heiligen Engeln
END:VEVENT
BEGIN:VEVENT
UID:sabre-vobject-5921bfe2-abb1-4ec9-adde-8c1d5e1de466
DTSTAMP:20260423T122402Z
SUMMARY:Hochfestgottesdienst
DESCRIPTION:https://pfarreien-bistum-augsburg.df-preview.de/hochfestgottesd
 ienst_id1750897
DTSTART;TZID=Europe/Berlin:20260514T100000
DURATION:PT30M
LOCATION:Zu den Heiligen Engeln
END:VEVENT
BEGIN:VEVENT
UID:sabre-vobject-2b0e60e9-1ce2-4167-849f-74ca3809ef41
DTSTAMP:20260423T122402Z
SUMMARY:Tauffeier von Karolin Viktoria Höpfl
DESCRIPTION:https://pfarreien-bistum-augsburg.df-preview.de/tauffeier-von-k
 arolin-viktoria-hoepfl_id1750898
DTSTART;TZID=Europe/Berlin:20260516T140000
DURATION:PT30M
LOCATION:Zu den Heiligen Engeln
END:VEVENT
BEGIN:VEVENT
UID:sabre-vobject-9ee94461-4454-4321-a64b-ee9b01a5fdc1
DTSTAMP:20260423T122402Z
SUMMARY:Eucharistiefeier mit Kinderevangelium
DESCRIPTION:https://pfarreien-bistum-augsburg.df-preview.de/eucharistiefeie
 r-mit-kinderevangelium_id1750899
DTSTART;TZID=Europe/Berlin:20260517T100000
DURATION:PT30M
LOCATION:Zu den Heiligen Engeln
END:VEVENT
BEGIN:VEVENT
UID:sabre-vobject-dd72183e-5941-4f5b-87d4-1d60f77233c3
DTSTAMP:20260423T122402Z
SUMMARY:Maiandacht an der Grotte gest. vom WGF-Team (musik.Gest.: Gesangsve
 rein)
DESCRIPTION:https://pfarreien-bistum-augsburg.df-preview.de/maiandacht-an-d
 er-grotte-gest-vom-wgf-team-musik-gest-gesangsverein_id1750895
DTSTART;TZID=Europe/Berlin:20260517T183000
DURATION:PT30M
LOCATION:Zu den Heiligen Engeln
END:VEVENT
BEGIN:VEVENT
UID:sabre-vobject-e9930bca-63bc-44ae-903a-656d2d52a22f
DTSTAMP:20260423T122402Z
SUMMARY:Eucharistiefeier
DESCRIPTION:https://pfarreien-bistum-augsburg.df-preview.de/eucharistiefeie
 r_id1750741
DTSTART;TZID=Europe/Berlin:20260520T183000
DURATION:PT30M
LOCATION:Zu den Heiligen Engeln
END:VEVENT
BEGIN:VEVENT
UID:sabre-vobject-3d5862e1-ad9a-42d9-9a70-5ed2d1647140
DTSTAMP:20260423T122402Z
SUMMARY:Maiandacht von Kindern für Kinder an der Waldkapelle
DESCRIPTION:https://pfarreien-bistum-augsburg.df-preview.de/maiandacht-von-
 kindern-fuer-kinder-an-der-waldkapelle_id1750742
DTSTART;TZID=Europe/Berlin:20260522T170000
DURATION:PT30M
LOCATION:Zu den Heiligen Engeln
END:VEVENT
BEGIN:VEVENT
UID:sabre-vobject-d1897419-37d9-4181-9d05-26b3a5df1307
DTSTAMP:20260423T122402Z
SUMMARY:Pilgermesse für die Pfarreiengemeinschaft in Andechs
DESCRIPTION:https://pfarreien-bistum-augsburg.df-preview.de/pilgermesse-fue
 r-die-pfarreiengemeinschaft-in-andechs_id1750743
DTSTART;TZID=Europe/Berlin:20260523T110000
DURATION:PT30M
LOCATION:Zu den Heiligen Engeln
END:VEVENT
BEGIN:VEVENT
UID:sabre-vobject-3afa3bff-6193-4076-a514-79479edee710
DTSTAMP:20260423T122402Z
SUMMARY:Dankandacht für die Pfarreiengemeinschaft in Andechs
DESCRIPTION:https://pfarreien-bistum-augsburg.df-preview.de/dankandacht-fue
 r-die-pfarreiengemeinschaft-in-andechs_id1750744
DTSTART;TZID=Europe/Berlin:20260523T140000
DURATION:PT30M
LOCATION:Zu den Heiligen Engeln
END:VEVENT
BEGIN:VEVENT
UID:sabre-vobject-e02849fc-54d4-4955-8817-dc784973138b
DTSTAMP:20260423T122402Z
SUMMARY:Hochfestgottesdienst und Pfarrgottesdienst
DESCRIPTION:https://pfarreien-bistum-augsburg.df-preview.de/hochfestgottesd
 ienst-und-pfarrgottesdienst_id1750745
DTSTART;TZID=Europe/Berlin:20260524T100000
DURATION:PT30M
LOCATION:Zu den Heiligen Engeln
END:VEVENT
BEGIN:VEVENT
UID:sabre-vobject-e49dae68-df79-4c08-a493-2fd47cd8bb9a
DTSTAMP:20260423T122402Z
SUMMARY:Maiandacht an der Waldkapelle gest. vom PGR
DESCRIPTION:https://pfarreien-bistum-augsburg.df-preview.de/maiandacht-an-d
 er-waldkapelle-gest-vom-pgr_id1750746
DTSTART;TZID=Europe/Berlin:20260524T183000
DURATION:PT30M
LOCATION:Zu den Heiligen Engeln
END:VEVENT
BEGIN:VEVENT
UID:sabre-vobject-cb5c3873-6757-4deb-adba-07e7c47fd038
DTSTAMP:20260423T122402Z
SUMMARY:Flurumgang zum Feldkreuz am Radweg
DESCRIPTION:https://pfarreien-bistum-augsburg.df-preview.de/flurumgang-zum-
 feldkreuz-am-radweg_id1750747
DTSTART;TZID=Europe/Berlin:20260525T081500
DURATION:PT30M
LOCATION:Zu den Heiligen Engeln
END:VEVENT
BEGIN:VEVENT
UID:sabre-vobject-fe82c7de-b127-4784-988b-aa7a462496e8
DTSTAMP:20260423T122402Z
SUMMARY:Flurumgang zum Feldkreuz beim Radweg
DESCRIPTION:https://pfarreien-bistum-augsburg.df-preview.de/flurumgang-zum-
 feldkreuz-beim-radweg_id1750748
DTSTART;TZID=Europe/Berlin:20260525T083000
DURATION:PT30M
LOCATION:Zu den Heiligen Engeln
END:VEVENT
BEGIN:VEVENT
UID:sabre-vobject-d7627dd6-94d2-46b6-9c3f-a558a25a9c47
DTSTAMP:20260423T122402Z
SUMMARY:Bittmesse beim Feldkreuz am Radweg für die Pfarreiengemeinschaft
DESCRIPTION:https://pfarreien-bistum-augsburg.df-preview.de/bittmesse-beim-
 feldkreuz-am-radweg-fuer-die-pfarreiengemeinschaft_id1750750
DTSTART;TZID=Europe/Berlin:20260525T090000
DURATION:PT30M
LOCATION:Zu den Heiligen Engeln
END:VEVENT
BEGIN:VEVENT
UID:sabre-vobject-ea0259e7-125a-4af1-b050-8ae8e50b1e03
DTSTAMP:20260423T122402Z
SUMMARY:Eucharistiefeier
DESCRIPTION:https://pfarreien-bistum-augsburg.df-preview.de/eucharistiefeie
 r_id1750754
DTSTART;TZID=Europe/Berlin:20260527T183000
DURATION:PT30M
LOCATION:Zu den Heiligen Engeln
END:VEVENT
BEGIN:VEVENT
UID:sabre-vobject-677a66af-7362-459f-a3af-c7732e8e966f
DTSTAMP:20260423T122402Z
SUMMARY:Eucharistiefeier
DESCRIPTION:https://pfarreien-bistum-augsburg.df-preview.de/eucharistiefeie
 r_id1750755
DTSTART;TZID=Europe/Berlin:20260531T100000
DURATION:PT30M
LOCATION:Zu den Heiligen Engeln
END:VEVENT
BEGIN:VEVENT
UID:sabre-vobject-403a4c9c-0ad6-442f-a786-eb9b417a44e5
DTSTAMP:20260423T122402Z
SUMMARY:Maiandacht gest. vom WGF-Team
DESCRIPTION:https://pfarreien-bistum-augsburg.df-preview.de/maiandacht-gest
 -vom-wgf-team_id1750756
DTSTART;TZID=Europe/Berlin:20260531T183000
DURATION:PT30M
LOCATION:Zu den Heiligen Engeln
END:VEVENT
BEGIN:VEVENT
UID:sabre-vobject-838296df-31fd-4dee-9baf-7cd3faea37d4
DTSTAMP:20260423T122402Z
SUMMARY:Eucharistiefeier
DESCRIPTION:https://pfarreien-bistum-augsburg.df-preview.de/eucharistiefeie
 r_id1750757
DTSTART;TZID=Europe/Berlin:20260603T183000
DURATION:PT30M
LOCATION:Zu den Heiligen Engeln
END:VEVENT
BEGIN:VEVENT
UID:sabre-vobject-a9e1d67f-e738-44c3-8a56-c125de42c9d7
DTSTAMP:20260423T122402Z
SUMMARY:Hochfestgottesdienst anschl. Fronleichnamsprozession
DESCRIPTION:https://pfarreien-bistum-augsburg.df-preview.de/hochfestgottesd
 ienst-anschl-fronleichnamsprozession_id1750749
DTSTART;TZID=Europe/Berlin:20260604T093000
DURATION:PT30M
LOCATION:Zu den Heiligen Engeln
END:VEVENT
END:VCALENDAR
