BEGIN:VCALENDAR
VERSION:2.0
PRODID:-//Sabre//Sabre VObject 4.5.8//EN
CALSCALE:GREGORIAN
NAME:Bistum Augsburg
X-WR-CALNAME:Bistum Augsburg
BEGIN:VEVENT
UID:sabre-vobject-27fa17ff-6c96-4e36-afde-500765230d61
DTSTAMP:20260419T150638Z
SUMMARY:Heilige Messe
DESCRIPTION:https://pfarreien-bistum-augsburg.df-preview.de/heilige-messe_i
 d1742339
DTSTART;TZID=Europe/Berlin:20260419T190000
DURATION:PT30M
LOCATION:St. Georg
END:VEVENT
BEGIN:VEVENT
UID:sabre-vobject-256ae5a4-20d6-4d0b-a5c4-88d7b63b26d5
DTSTAMP:20260419T150638Z
SUMMARY:Heilige Messe nach Meinung der Mitfeiernden
DESCRIPTION:https://pfarreien-bistum-augsburg.df-preview.de/heilige-messe-n
 ach-meinung-der-mitfeiernden_id1742344
DTSTART;TZID=Europe/Berlin:20260422T190000
DURATION:PT30M
LOCATION:St. Georg
END:VEVENT
BEGIN:VEVENT
UID:sabre-vobject-e99c7c23-8baf-4b65-b6f1-3dcd4b0e067b
DTSTAMP:20260419T150638Z
SUMMARY:Patrozinium St. Georg und Jahrtag des Trachten- und Schützenverein
 s mit Sammlung des Kirchgeldes
DESCRIPTION:https://pfarreien-bistum-augsburg.df-preview.de/patrozinium-st-
 georg-und-jahrtag-des-trachten-und-schuetzenvereins-mit-sammlung-des-kirch
 geldes_id1742345
DTSTART;TZID=Europe/Berlin:20260426T090000
DURATION:PT30M
LOCATION:St. Georg
END:VEVENT
BEGIN:VEVENT
UID:sabre-vobject-c65b1406-414f-47d5-8af9-bb08938519f4
DTSTAMP:20260419T150638Z
SUMMARY:Maiandacht
DESCRIPTION:https://pfarreien-bistum-augsburg.df-preview.de/maiandacht_id17
 42346
DTSTART;TZID=Europe/Berlin:20260501T190000
DURATION:PT30M
LOCATION:St. Georg
END:VEVENT
BEGIN:VEVENT
UID:sabre-vobject-dabd942f-a9e8-4bc2-840a-c7b323fae8db
DTSTAMP:20260419T150638Z
SUMMARY:Kirchenzug der Erstkommunionkinder
DESCRIPTION:https://pfarreien-bistum-augsburg.df-preview.de/kirchenzug-der-
 erstkommunionkinder_id1742347
DTSTART;TZID=Europe/Berlin:20260503T101500
DURATION:PT30M
LOCATION:St. Georg
END:VEVENT
BEGIN:VEVENT
UID:sabre-vobject-1aa02f3b-63f2-4c07-ab93-55a71da2925b
DTSTAMP:20260419T150638Z
SUMMARY:Feierliche Erstkommunion
DESCRIPTION:https://pfarreien-bistum-augsburg.df-preview.de/feierliche-erst
 kommunion_id1742353
DTSTART;TZID=Europe/Berlin:20260503T103000
DURATION:PT30M
LOCATION:St. Georg
END:VEVENT
BEGIN:VEVENT
UID:sabre-vobject-86d19bd5-7d87-43d5-84aa-e4e9976e3c02
DTSTAMP:20260419T150638Z
SUMMARY:Dankandacht für Erstkommunionkinder
DESCRIPTION:https://pfarreien-bistum-augsburg.df-preview.de/dankandacht-fue
 r-erstkommunionkinder_id1742354
DTSTART;TZID=Europe/Berlin:20260503T190000
DURATION:PT30M
LOCATION:St. Georg
END:VEVENT
END:VCALENDAR
