BEGIN:VCALENDAR
VERSION:2.0
PRODID:-//Sabre//Sabre VObject 4.5.8//EN
CALSCALE:GREGORIAN
NAME:Bistum Augsburg
X-WR-CALNAME:Bistum Augsburg
BEGIN:VEVENT
UID:sabre-vobject-5dfcec50-0516-4fd9-a659-8734978bdde6
DTSTAMP:20260422T035706Z
SUMMARY:Unterkirche: Heilige Messe  anschl. Anbetung bis 10.30 Uhr
DESCRIPTION:https://pfarreien-bistum-augsburg.df-preview.de/unterkirche-hei
 lige-messe-anschl-anbetung-bis-10-30-uhr_id1707761
DTSTART;TZID=Europe/Berlin:20260422T090000
DURATION:PT30M
LOCATION:St. Michael
END:VEVENT
BEGIN:VEVENT
UID:sabre-vobject-ca0bbebe-82f5-4078-98a4-1a346d0b7697
DTSTAMP:20260422T035706Z
SUMMARY:Mariengrotte im Luitpoldpark: Deutschland betet Rosenkranz
DESCRIPTION:https://pfarreien-bistum-augsburg.df-preview.de/mariengrotte-im
 -luitpoldpark-deutschland-betet-rosenkranz_id1707762
DTSTART;TZID=Europe/Berlin:20260422T180000
DURATION:PT30M
LOCATION:St. Michael
END:VEVENT
BEGIN:VEVENT
UID:sabre-vobject-98f83865-25f8-49fd-94d4-44ac721e9fc2
DTSTAMP:20260422T035706Z
SUMMARY:Rosenkranz
DESCRIPTION:https://pfarreien-bistum-augsburg.df-preview.de/rosenkranz_id17
 08127
DTSTART;TZID=Europe/Berlin:20260422T190000
DURATION:PT30M
LOCATION:Mater Dolorosa\, Klimmach 61\, 86830 Klimmach
END:VEVENT
BEGIN:VEVENT
UID:sabre-vobject-a22337a6-5056-44c0-83bc-62e6deab1913
DTSTAMP:20260422T035706Z
SUMMARY:Heilige Messe (08:30 Rosenkranz)
DESCRIPTION:https://pfarreien-bistum-augsburg.df-preview.de/heilige-messe-0
 8-30-rosenkranz_id1707750
DTSTART;TZID=Europe/Berlin:20260423T090000
DURATION:PT30M
LOCATION:Mariä Himmelfahrt
END:VEVENT
BEGIN:VEVENT
UID:sabre-vobject-4092572f-79cc-49fb-912a-ede9066bfe9f
DTSTAMP:20260422T035706Z
SUMMARY:Beichtgelegenheit / geistl. Gespräch (Pf. Leutgäb)
DESCRIPTION:https://pfarreien-bistum-augsburg.df-preview.de/beichtgelegenhe
 it-geistl-gespraech-pf-leutgaeb_id1707763
DTSTART;TZID=Europe/Berlin:20260423T170000
DURATION:PT30M
LOCATION:St. Michael
END:VEVENT
BEGIN:VEVENT
UID:sabre-vobject-f95e6e0a-0e13-4c28-bbc7-1dae82dd85e4
DTSTAMP:20260422T035706Z
SUMMARY:Heilige Messe
DESCRIPTION:https://pfarreien-bistum-augsburg.df-preview.de/heilige-messe_i
 d1707764
DTSTART;TZID=Europe/Berlin:20260423T180000
DURATION:PT30M
LOCATION:St. Michael
END:VEVENT
BEGIN:VEVENT
UID:sabre-vobject-931a6efb-bc93-472c-8924-e8c8d6f071ff
DTSTAMP:20260422T035706Z
SUMMARY:Heilige Messe
DESCRIPTION:https://pfarreien-bistum-augsburg.df-preview.de/heilige-messe_i
 d1707765
DTSTART;TZID=Europe/Berlin:20260424T090000
DURATION:PT30M
LOCATION:St. Michael
END:VEVENT
BEGIN:VEVENT
UID:sabre-vobject-d6ec61c5-7f68-490e-a359-1d85e4af5bf2
DTSTAMP:20260422T035706Z
SUMMARY:Andechs: Wallfahrtsgottesdienst zur 309. Wallfahrt
DESCRIPTION:https://pfarreien-bistum-augsburg.df-preview.de/andechs-wallfah
 rtsgottesdienst-zur-309-wallfahrt_id1708024
DTSTART;TZID=Europe/Berlin:20260425T100000
DURATION:PT30M
LOCATION:St. Michael
END:VEVENT
BEGIN:VEVENT
UID:sabre-vobject-838a3e07-4009-4c00-836e-dea87f106510
DTSTAMP:20260422T035706Z
SUMMARY:Vorabendmesse (18:30 Rosenkranz)
DESCRIPTION:https://pfarreien-bistum-augsburg.df-preview.de/vorabendmesse-1
 8-30-rosenkranz_id1707784
DTSTART;TZID=Europe/Berlin:20260425T190000
DURATION:PT30M
LOCATION:Mater Dolorosa\, Klimmach 61\, 86830 Klimmach
END:VEVENT
BEGIN:VEVENT
UID:sabre-vobject-10e6ffd3-e255-4189-bdfc-b49e488b3a35
DTSTAMP:20260422T035706Z
SUMMARY:Heilige Messe (08:30 Rosenkranz)
DESCRIPTION:https://pfarreien-bistum-augsburg.df-preview.de/heilige-messe-0
 8-30-rosenkranz_id1707796
DTSTART;TZID=Europe/Berlin:20260426T090000
DURATION:PT30M
LOCATION:Mariä Himmelfahrt
END:VEVENT
BEGIN:VEVENT
UID:sabre-vobject-6aad9feb-1157-4b36-ab53-9929e48bf6fd
DTSTAMP:20260422T035706Z
SUMMARY:Pfarrgottesdienst (08:30 Rosenkranz)
DESCRIPTION:https://pfarreien-bistum-augsburg.df-preview.de/pfarrgottesdien
 st-08-30-rosenkranz_id1708030
DTSTART;TZID=Europe/Berlin:20260426T090000
DURATION:PT30M
LOCATION:St. Michael
END:VEVENT
BEGIN:VEVENT
UID:sabre-vobject-745ba211-444c-4b0a-8389-a182232c3d14
DTSTAMP:20260422T035706Z
SUMMARY:Heilige Messe
DESCRIPTION:https://pfarreien-bistum-augsburg.df-preview.de/heilige-messe_i
 d1707792
DTSTART;TZID=Europe/Berlin:20260426T103000
DURATION:PT30M
LOCATION:St. Magnus
END:VEVENT
BEGIN:VEVENT
UID:sabre-vobject-e072ad71-d835-4b78-a3f5-4964fa648890
DTSTAMP:20260422T035706Z
SUMMARY:Heilige Messe
DESCRIPTION:https://pfarreien-bistum-augsburg.df-preview.de/heilige-messe_i
 d1707847
DTSTART;TZID=Europe/Berlin:20260426T103000
DURATION:PT30M
LOCATION:St. Michael
END:VEVENT
BEGIN:VEVENT
UID:sabre-vobject-ece9d57d-c4e4-4d17-ab37-6381a71de1c7
DTSTAMP:20260422T035706Z
SUMMARY:Heilige Messe mit Lobpreis-Musik
DESCRIPTION:https://pfarreien-bistum-augsburg.df-preview.de/heilige-messe-m
 it-lobpreis-musik_id1708102
DTSTART;TZID=Europe/Berlin:20260426T190000
DURATION:PT30M
LOCATION:St. Michael
END:VEVENT
BEGIN:VEVENT
UID:sabre-vobject-7515e77b-fd47-4e7b-862a-8d4807247907
DTSTAMP:20260422T035706Z
SUMMARY:Antoniuskapelle Birkach: Rosenkranz
DESCRIPTION:https://pfarreien-bistum-augsburg.df-preview.de/antoniuskapelle
 -birkach-rosenkranz_id1707789
DTSTART;TZID=Europe/Berlin:20260427T160000
DURATION:PT30M
LOCATION:Mater Dolorosa\, Klimmach 61\, 86830 Klimmach
END:VEVENT
BEGIN:VEVENT
UID:sabre-vobject-22d6cfe5-8666-43d0-8297-c66d2a86208b
DTSTAMP:20260422T035706Z
SUMMARY:Heilige Messe
DESCRIPTION:https://pfarreien-bistum-augsburg.df-preview.de/heilige-messe_i
 d1708103
DTSTART;TZID=Europe/Berlin:20260427T180000
DURATION:PT30M
LOCATION:St. Michael
END:VEVENT
BEGIN:VEVENT
UID:sabre-vobject-89cb3b37-14ca-4749-8375-49c76e6765b0
DTSTAMP:20260422T035706Z
SUMMARY:Rosenkranz
DESCRIPTION:https://pfarreien-bistum-augsburg.df-preview.de/rosenkranz_id17
 07793
DTSTART;TZID=Europe/Berlin:20260428T163000
DURATION:PT30M
LOCATION:St. Magnus
END:VEVENT
BEGIN:VEVENT
UID:sabre-vobject-701d6917-5886-46b8-a33e-c8a1b66df0d8
DTSTAMP:20260422T035706Z
SUMMARY:Krankenhauskapelle: Heilige Messe
DESCRIPTION:https://pfarreien-bistum-augsburg.df-preview.de/krankenhauskape
 lle-heilige-messe_id1707807
DTSTART;TZID=Europe/Berlin:20260428T180000
DURATION:PT30M
LOCATION:St. Michael
END:VEVENT
BEGIN:VEVENT
UID:sabre-vobject-10f81e2f-7bc1-485d-8223-81dac0221272
DTSTAMP:20260422T035706Z
SUMMARY:Krankenhauskapelle: Gebet und Bibelteilen
DESCRIPTION:https://pfarreien-bistum-augsburg.df-preview.de/krankenhauskape
 lle-gebet-und-bibelteilen_id1707450
DTSTART;TZID=Europe/Berlin:20260428T183000
DURATION:PT30M
LOCATION:St. Michael
END:VEVENT
BEGIN:VEVENT
UID:sabre-vobject-d7810778-a4f7-466f-bd06-cc19874f1b1d
DTSTAMP:20260422T035706Z
SUMMARY:Rosenkranz
DESCRIPTION:https://pfarreien-bistum-augsburg.df-preview.de/rosenkranz_id17
 07790
DTSTART;TZID=Europe/Berlin:20260428T190000
DURATION:PT30M
LOCATION:Mater Dolorosa\, Klimmach 61\, 86830 Klimmach
END:VEVENT
BEGIN:VEVENT
UID:sabre-vobject-df395b6f-0f43-4323-b26a-51de9b6ffba7
DTSTAMP:20260422T035706Z
SUMMARY:Unterkirche: Heilige Messe  anschl. Anbetung bis 10.30 Uhr
DESCRIPTION:https://pfarreien-bistum-augsburg.df-preview.de/unterkirche-hei
 lige-messe-anschl-anbetung-bis-10-30-uhr_id1707563
DTSTART;TZID=Europe/Berlin:20260429T090000
DURATION:PT30M
LOCATION:St. Michael
END:VEVENT
BEGIN:VEVENT
UID:sabre-vobject-9273c05a-3a96-4034-9714-695dfcd15375
DTSTAMP:20260422T035706Z
SUMMARY:Mariengrotte im Luitpoldpark: Deutschland betet Rosenkranz
DESCRIPTION:https://pfarreien-bistum-augsburg.df-preview.de/mariengrotte-im
 -luitpoldpark-deutschland-betet-rosenkranz_id1707474
DTSTART;TZID=Europe/Berlin:20260429T180000
DURATION:PT30M
LOCATION:St. Michael
END:VEVENT
BEGIN:VEVENT
UID:sabre-vobject-06c029b1-2965-4caf-b781-3284d8787547
DTSTAMP:20260422T035706Z
SUMMARY:Rosenkranz
DESCRIPTION:https://pfarreien-bistum-augsburg.df-preview.de/rosenkranz_id17
 07791
DTSTART;TZID=Europe/Berlin:20260429T190000
DURATION:PT30M
LOCATION:Mater Dolorosa\, Klimmach 61\, 86830 Klimmach
END:VEVENT
BEGIN:VEVENT
UID:sabre-vobject-993ec337-afb1-41ed-82a3-7b055117625f
DTSTAMP:20260422T035706Z
SUMMARY:Gesunde beten für Kranke
DESCRIPTION:https://pfarreien-bistum-augsburg.df-preview.de/gesunde-beten-f
 uer-kranke_id1707797
DTSTART;TZID=Europe/Berlin:20260430T090000
DURATION:PT30M
LOCATION:Mariä Himmelfahrt
END:VEVENT
BEGIN:VEVENT
UID:sabre-vobject-9f2c1ed5-b591-4445-a41f-c851125df39b
DTSTAMP:20260422T035706Z
SUMMARY:Beichtgelegenheit / geistl. Gespräch (Pf. Leutgäb)
DESCRIPTION:https://pfarreien-bistum-augsburg.df-preview.de/beichtgelegenhe
 it-geistl-gespraech-pf-leutgaeb_id1707475
DTSTART;TZID=Europe/Berlin:20260430T170000
DURATION:PT30M
LOCATION:St. Michael
END:VEVENT
BEGIN:VEVENT
UID:sabre-vobject-6dd23141-7de4-46d5-bc00-42522c2ff678
DTSTAMP:20260422T035706Z
SUMMARY:Heilige Messe um geistliche Berufe mit Kollekte
DESCRIPTION:https://pfarreien-bistum-augsburg.df-preview.de/heilige-messe-u
 m-geistliche-berufe-mit-kollekte_id1707451
DTSTART;TZID=Europe/Berlin:20260430T180000
DURATION:PT30M
LOCATION:St. Michael
END:VEVENT
BEGIN:VEVENT
UID:sabre-vobject-5de61615-2810-4d3c-acc6-ca01e10f6d52
DTSTAMP:20260422T035706Z
SUMMARY:Frauenkirche: Heilige Messe mit Marienlob
DESCRIPTION:https://pfarreien-bistum-augsburg.df-preview.de/frauenkirche-he
 ilige-messe-mit-marienlob_id1707562
DTSTART;TZID=Europe/Berlin:20260501T090000
DURATION:PT30M
LOCATION:St. Michael
END:VEVENT
BEGIN:VEVENT
UID:sabre-vobject-021faf8e-5f27-4316-8f1e-5435de9475e3
DTSTAMP:20260422T035706Z
SUMMARY:Rosenkranz mit Herz-Jesu-Litanei - entfällt
DESCRIPTION:https://pfarreien-bistum-augsburg.df-preview.de/rosenkranz-mit-
 herz-jesu-litanei-entfaellt_id1707805
DTSTART;TZID=Europe/Berlin:20260501T090000
DURATION:PT30M
LOCATION:Mariä Himmelfahrt
END:VEVENT
BEGIN:VEVENT
UID:sabre-vobject-d33886c2-a706-490f-9a74-0fb132da89c1
DTSTAMP:20260422T035706Z
SUMMARY:Heilige Messe mit Feier der Erstkommunion
DESCRIPTION:https://pfarreien-bistum-augsburg.df-preview.de/heilige-messe-m
 it-feier-der-erstkommunion_id1707564
DTSTART;TZID=Europe/Berlin:20260501T103000
DURATION:PT30M
LOCATION:St. Michael
END:VEVENT
BEGIN:VEVENT
UID:sabre-vobject-7612289b-7263-4bc4-84fe-5f1cbe47f899
DTSTAMP:20260422T035706Z
SUMMARY:Heilige Messe mit Feier der Erstkommunion
DESCRIPTION:https://pfarreien-bistum-augsburg.df-preview.de/heilige-messe-m
 it-feier-der-erstkommunion_id1708023
DTSTART;TZID=Europe/Berlin:20260501T103000
DURATION:PT30M
LOCATION:Mariä Himmelfahrt
END:VEVENT
BEGIN:VEVENT
UID:sabre-vobject-019a57f8-8290-4e66-989b-3f83acd76632
DTSTAMP:20260422T035706Z
SUMMARY:Rosenkranz
DESCRIPTION:https://pfarreien-bistum-augsburg.df-preview.de/rosenkranz_id17
 38394
DTSTART;TZID=Europe/Berlin:20260502T170000
DURATION:PT30M
LOCATION:Mater Dolorosa\, Klimmach 61\, 86830 Klimmach
END:VEVENT
BEGIN:VEVENT
UID:sabre-vobject-20d79719-36dc-4aca-967f-bfc9aba95d0a
DTSTAMP:20260422T035706Z
SUMMARY:Vorabendmesse und Rosenkranz entfallen
DESCRIPTION:https://pfarreien-bistum-augsburg.df-preview.de/vorabendmesse-u
 nd-rosenkranz-entfallen_id1738373
DTSTART;TZID=Europe/Berlin:20260502T190000
DURATION:PT30M
LOCATION:Mariä Himmelfahrt
END:VEVENT
BEGIN:VEVENT
UID:sabre-vobject-c117272d-b278-4bf4-bf57-cc043dba4dea
DTSTAMP:20260422T035706Z
SUMMARY:Heilige Messe mit Feier der Erstkommunion
DESCRIPTION:https://pfarreien-bistum-augsburg.df-preview.de/heilige-messe-m
 it-feier-der-erstkommunion_id1738353
DTSTART;TZID=Europe/Berlin:20260503T090000
DURATION:PT30M
LOCATION:Mater Dolorosa\, Klimmach 61\, 86830 Klimmach
END:VEVENT
BEGIN:VEVENT
UID:sabre-vobject-d505ce91-2387-4253-99dc-27f5a3f59ef3
DTSTAMP:20260422T035706Z
SUMMARY:Pfarrgottesdienst (08:30 Rosenkranz)
DESCRIPTION:https://pfarreien-bistum-augsburg.df-preview.de/pfarrgottesdien
 st-08-30-rosenkranz_id1738381
DTSTART;TZID=Europe/Berlin:20260503T090000
DURATION:PT30M
LOCATION:St. Michael
END:VEVENT
BEGIN:VEVENT
UID:sabre-vobject-34276232-303f-4f2a-8786-19d42d90e346
DTSTAMP:20260422T035706Z
SUMMARY:Heilige Messe mit Feier der Erstkommunion
DESCRIPTION:https://pfarreien-bistum-augsburg.df-preview.de/heilige-messe-m
 it-feier-der-erstkommunion_id1738363
DTSTART;TZID=Europe/Berlin:20260503T103000
DURATION:PT30M
LOCATION:St. Magnus
END:VEVENT
BEGIN:VEVENT
UID:sabre-vobject-07b74e41-b9c4-4d08-a0e5-50fc63ef7f9a
DTSTAMP:20260422T035706Z
SUMMARY:Heilige Messe mit Feier der Erstkommunion
DESCRIPTION:https://pfarreien-bistum-augsburg.df-preview.de/heilige-messe-m
 it-feier-der-erstkommunion_id1738382
DTSTART;TZID=Europe/Berlin:20260503T103000
DURATION:PT30M
LOCATION:St. Michael
END:VEVENT
BEGIN:VEVENT
UID:sabre-vobject-fc997b68-2e7c-4502-af69-58e266ed24c9
DTSTAMP:20260422T035706Z
SUMMARY:Heilige Messe
DESCRIPTION:https://pfarreien-bistum-augsburg.df-preview.de/heilige-messe_i
 d1738291
DTSTART;TZID=Europe/Berlin:20260503T190000
DURATION:PT30M
LOCATION:St. Michael
END:VEVENT
BEGIN:VEVENT
UID:sabre-vobject-d06af10c-4a0a-4f0b-a737-cefb20e689c5
DTSTAMP:20260422T035706Z
SUMMARY:Antoniuskapelle Birkach: Rosenkranz
DESCRIPTION:https://pfarreien-bistum-augsburg.df-preview.de/antoniuskapelle
 -birkach-rosenkranz_id1738354
DTSTART;TZID=Europe/Berlin:20260504T160000
DURATION:PT30M
LOCATION:Mater Dolorosa\, Klimmach 61\, 86830 Klimmach
END:VEVENT
BEGIN:VEVENT
UID:sabre-vobject-b708315d-0e24-4c8a-ab09-be85e6850142
DTSTAMP:20260422T035706Z
SUMMARY:Heilige Messe mit Marienlob
DESCRIPTION:https://pfarreien-bistum-augsburg.df-preview.de/heilige-messe-m
 it-marienlob_id1738292
DTSTART;TZID=Europe/Berlin:20260504T180000
DURATION:PT30M
LOCATION:St. Michael
END:VEVENT
BEGIN:VEVENT
UID:sabre-vobject-b0d1ae60-af2c-4b9f-b69f-11184a27a7df
DTSTAMP:20260422T035706Z
SUMMARY:Krankenhauskapelle: Heilige Messe
DESCRIPTION:https://pfarreien-bistum-augsburg.df-preview.de/krankenhauskape
 lle-heilige-messe_id1738342
DTSTART;TZID=Europe/Berlin:20260505T180000
DURATION:PT30M
LOCATION:St. Michael
END:VEVENT
BEGIN:VEVENT
UID:sabre-vobject-4b333511-f11e-481b-9046-8ec02c8cb2bc
DTSTAMP:20260422T035706Z
SUMMARY:Maiandacht
DESCRIPTION:https://pfarreien-bistum-augsburg.df-preview.de/maiandacht_id17
 38352
DTSTART;TZID=Europe/Berlin:20260505T183000
DURATION:PT30M
LOCATION:St. Magnus
END:VEVENT
BEGIN:VEVENT
UID:sabre-vobject-e6634734-62f1-4a96-b07d-cbac557387da
DTSTAMP:20260422T035706Z
SUMMARY:Krankenhauskapelle: Gebet und Bibelteilen
DESCRIPTION:https://pfarreien-bistum-augsburg.df-preview.de/krankenhauskape
 lle-gebet-und-bibelteilen_id1738433
DTSTART;TZID=Europe/Berlin:20260505T183000
DURATION:PT30M
LOCATION:St. Michael
END:VEVENT
BEGIN:VEVENT
UID:sabre-vobject-9ad17be2-b04c-4c3d-8d83-1b765bfa6456
DTSTAMP:20260422T035706Z
SUMMARY:Rosenkranz
DESCRIPTION:https://pfarreien-bistum-augsburg.df-preview.de/rosenkranz_id17
 38355
DTSTART;TZID=Europe/Berlin:20260505T190000
DURATION:PT30M
LOCATION:Mater Dolorosa\, Klimmach 61\, 86830 Klimmach
END:VEVENT
BEGIN:VEVENT
UID:sabre-vobject-427d3b72-13e0-42f4-a32f-887faf424877
DTSTAMP:20260422T035706Z
SUMMARY:Unterkirche: Heilige Messe für Karolina und Agathe Erber mit Verwa
 ndtschaft anschl. Anbetung bis 10.30 Uhr
DESCRIPTION:https://pfarreien-bistum-augsburg.df-preview.de/unterkirche-hei
 lige-messe-fuer-karolina-und-agathe-erber-mit-verwandtschaft-anschl-anbetu
 ng-bis-10-30-uhr_id1738434
DTSTART;TZID=Europe/Berlin:20260506T090000
DURATION:PT30M
LOCATION:St. Michael
END:VEVENT
BEGIN:VEVENT
UID:sabre-vobject-d28e1cf5-3b93-4946-9761-6a05823dc726
DTSTAMP:20260422T035706Z
SUMMARY:Mariengrotte im Luitpoldpark: Deutschland betet Rosenkranz
DESCRIPTION:https://pfarreien-bistum-augsburg.df-preview.de/mariengrotte-im
 -luitpoldpark-deutschland-betet-rosenkranz_id1738435
DTSTART;TZID=Europe/Berlin:20260506T180000
DURATION:PT30M
LOCATION:St. Michael
END:VEVENT
BEGIN:VEVENT
UID:sabre-vobject-60946cfb-8155-4ea3-ac64-d910feb5a96d
DTSTAMP:20260422T035706Z
SUMMARY:Rosenkranz
DESCRIPTION:https://pfarreien-bistum-augsburg.df-preview.de/rosenkranz_id17
 38356
DTSTART;TZID=Europe/Berlin:20260506T190000
DURATION:PT30M
LOCATION:Mater Dolorosa\, Klimmach 61\, 86830 Klimmach
END:VEVENT
BEGIN:VEVENT
UID:sabre-vobject-3490f795-504b-410c-b1f4-59a82514c3f7
DTSTAMP:20260422T035706Z
SUMMARY:Maiandacht
DESCRIPTION:https://pfarreien-bistum-augsburg.df-preview.de/maiandacht_id17
 38379
DTSTART;TZID=Europe/Berlin:20260507T083000
DURATION:PT30M
LOCATION:Mariä Himmelfahrt
END:VEVENT
BEGIN:VEVENT
UID:sabre-vobject-5458e73d-b83d-4f5b-81b5-464f9055dc76
DTSTAMP:20260422T035706Z
SUMMARY:Heilige Messe
DESCRIPTION:https://pfarreien-bistum-augsburg.df-preview.de/heilige-messe_i
 d1738380
DTSTART;TZID=Europe/Berlin:20260507T090000
DURATION:PT30M
LOCATION:Mariä Himmelfahrt
END:VEVENT
BEGIN:VEVENT
UID:sabre-vobject-59b5f719-554e-4818-bbcd-4fba18dacce8
DTSTAMP:20260422T035706Z
SUMMARY:Beichtgelegenheit / geistl. Gespräch (P. Joseph)
DESCRIPTION:https://pfarreien-bistum-augsburg.df-preview.de/beichtgelegenhe
 it-geistl-gespraech-p-joseph_id1738436
DTSTART;TZID=Europe/Berlin:20260507T170000
DURATION:PT30M
LOCATION:St. Michael
END:VEVENT
BEGIN:VEVENT
UID:sabre-vobject-83463f8a-7f15-424c-8431-cc78da619fd7
DTSTAMP:20260422T035706Z
SUMMARY:Heilige Messe
DESCRIPTION:https://pfarreien-bistum-augsburg.df-preview.de/heilige-messe_i
 d1738437
DTSTART;TZID=Europe/Berlin:20260507T180000
DURATION:PT30M
LOCATION:St. Michael
END:VEVENT
BEGIN:VEVENT
UID:sabre-vobject-f18b213d-0a55-4140-9240-54c6a92c5569
DTSTAMP:20260422T035706Z
SUMMARY:anschl. Lobpreisabend
DESCRIPTION:https://pfarreien-bistum-augsburg.df-preview.de/anschl-lobpreis
 abend_id1738455
DTSTART;TZID=Europe/Berlin:20260507T184500
DURATION:PT30M
LOCATION:St. Michael
END:VEVENT
BEGIN:VEVENT
UID:sabre-vobject-2d40afc5-b328-4da7-a95b-dd56b953dc54
DTSTAMP:20260422T035706Z
SUMMARY:Frauenkirche: Heilige Messe mit Marienlob
DESCRIPTION:https://pfarreien-bistum-augsburg.df-preview.de/frauenkirche-he
 ilige-messe-mit-marienlob_id1738456
DTSTART;TZID=Europe/Berlin:20260508T090000
DURATION:PT30M
LOCATION:St. Michael
END:VEVENT
BEGIN:VEVENT
UID:sabre-vobject-66fa6278-a5d1-49b6-b34d-51bec590e99f
DTSTAMP:20260422T035706Z
SUMMARY:Maiandacht in Mittelstetten am Marterl Stichstr. zwischen Dorfstr. 
 3 und 5 (bei schlechtem Wetter in der Kirche)
DESCRIPTION:https://pfarreien-bistum-augsburg.df-preview.de/maiandacht-in-m
 ittelstetten-am-marterl-stichstr-zwischen-dorfstr-3-und-5-bei-schlechtem-w
 etter-in-der-kirche_id1738364
DTSTART;TZID=Europe/Berlin:20260508T190000
DURATION:PT30M
LOCATION:St. Magnus
END:VEVENT
BEGIN:VEVENT
UID:sabre-vobject-741294ae-c02e-4062-948f-9777b8fb784e
DTSTAMP:20260422T035706Z
SUMMARY:Trauung Löcherer / Löcherer\, geb. Schmid
DESCRIPTION:https://pfarreien-bistum-augsburg.df-preview.de/trauung-loecher
 er-loecherer-geb-schmid_id1748565
DTSTART;TZID=Europe/Berlin:20260509T140000
DURATION:PT30M
LOCATION:Mater Dolorosa\, Klimmach 61\, 86830 Klimmach
END:VEVENT
BEGIN:VEVENT
UID:sabre-vobject-5324a342-d924-41d8-a293-253b38678319
DTSTAMP:20260422T035706Z
SUMMARY:Vorabendmesse und Rosenkranz - entfällt
DESCRIPTION:https://pfarreien-bistum-augsburg.df-preview.de/vorabendmesse-u
 nd-rosenkranz-entfaellt_id1748566
DTSTART;TZID=Europe/Berlin:20260509T190000
DURATION:PT30M
LOCATION:Mater Dolorosa\, Klimmach 61\, 86830 Klimmach
END:VEVENT
BEGIN:VEVENT
UID:sabre-vobject-9b419795-5b3a-45a8-abe1-870c6874dcc5
DTSTAMP:20260422T035706Z
SUMMARY:Heilige Messe (08:30 Rosenkranz) mit Opfer f.d. Maialtar
DESCRIPTION:https://pfarreien-bistum-augsburg.df-preview.de/heilige-messe-0
 8-30-rosenkranz-mit-opfer-f-d-maialtar_id1748510
DTSTART;TZID=Europe/Berlin:20260510T090000
DURATION:PT30M
LOCATION:Mariä Himmelfahrt
END:VEVENT
BEGIN:VEVENT
UID:sabre-vobject-9ab7cc9b-7fc1-486a-b2df-0a24e304b555
DTSTAMP:20260422T035706Z
SUMMARY:Pfarrgottesdienst (08:30 Rosenkranz)
DESCRIPTION:https://pfarreien-bistum-augsburg.df-preview.de/pfarrgottesdien
 st-08-30-rosenkranz_id1748549
DTSTART;TZID=Europe/Berlin:20260510T090000
DURATION:PT30M
LOCATION:St. Michael
END:VEVENT
BEGIN:VEVENT
UID:sabre-vobject-61fa8ea7-1622-4511-a69e-eafa8a9a219b
DTSTAMP:20260422T035706Z
SUMMARY:Heilige Messe musik. gestaltet v.d. Blechbläsern St. Michael
DESCRIPTION:https://pfarreien-bistum-augsburg.df-preview.de/heilige-messe-m
 usik-gestaltet-v-d-blechblaesern-st-michael_id1748546
DTSTART;TZID=Europe/Berlin:20260510T103000
DURATION:PT30M
LOCATION:St. Michael
END:VEVENT
BEGIN:VEVENT
UID:sabre-vobject-41af6c26-cde8-4743-9553-3fbf5551b5b5
DTSTAMP:20260422T035706Z
SUMMARY:Heilige Messe mit Rosenverkauf
DESCRIPTION:https://pfarreien-bistum-augsburg.df-preview.de/heilige-messe-m
 it-rosenverkauf_id1748607
DTSTART;TZID=Europe/Berlin:20260510T103000
DURATION:PT30M
LOCATION:St. Magnus
END:VEVENT
BEGIN:VEVENT
UID:sabre-vobject-515f7e62-a0da-4774-9d03-c28b228b4b8b
DTSTAMP:20260422T035706Z
SUMMARY:Taufe von Levi Fuhrmann
DESCRIPTION:https://pfarreien-bistum-augsburg.df-preview.de/taufe-von-levi-
 fuhrmann_id1748547
DTSTART;TZID=Europe/Berlin:20260510T113000
DURATION:PT30M
LOCATION:St. Michael
END:VEVENT
BEGIN:VEVENT
UID:sabre-vobject-0c84ec96-cf19-425d-a60e-663bf779888e
DTSTAMP:20260422T035706Z
SUMMARY:Taufe von Emil und Alina Maria Dankert
DESCRIPTION:https://pfarreien-bistum-augsburg.df-preview.de/taufe-von-emil-
 und-alina-maria-dankert_id1748608
DTSTART;TZID=Europe/Berlin:20260510T113000
DURATION:PT30M
LOCATION:St. Magnus
END:VEVENT
BEGIN:VEVENT
UID:sabre-vobject-5618d748-a9c6-45cc-b77f-bd6f1699b07a
DTSTAMP:20260422T035706Z
SUMMARY:Heilige Messe musik. gestaltet v.d. SingGoldies
DESCRIPTION:https://pfarreien-bistum-augsburg.df-preview.de/heilige-messe-m
 usik-gestaltet-v-d-singgoldies_id1748590
DTSTART;TZID=Europe/Berlin:20260510T190000
DURATION:PT30M
LOCATION:St. Michael
END:VEVENT
BEGIN:VEVENT
UID:sabre-vobject-b608ab56-f730-44db-bc7b-ea340679c780
DTSTAMP:20260422T035706Z
SUMMARY:Antoniuskapelle Birkach: Rosenkranz
DESCRIPTION:https://pfarreien-bistum-augsburg.df-preview.de/antoniuskapelle
 -birkach-rosenkranz_id1748567
DTSTART;TZID=Europe/Berlin:20260511T160000
DURATION:PT30M
LOCATION:Mater Dolorosa\, Klimmach 61\, 86830 Klimmach
END:VEVENT
BEGIN:VEVENT
UID:sabre-vobject-3fcf60e1-a182-4b82-8de6-209dd308b5fe
DTSTAMP:20260422T035706Z
SUMMARY:Heilige Messe mit Marienlob
DESCRIPTION:https://pfarreien-bistum-augsburg.df-preview.de/heilige-messe-m
 it-marienlob_id1748621
DTSTART;TZID=Europe/Berlin:20260511T180000
DURATION:PT30M
LOCATION:St. Michael
END:VEVENT
BEGIN:VEVENT
UID:sabre-vobject-f1fa99b5-da3e-42e6-8da0-6bcbf43fcf91
DTSTAMP:20260422T035706Z
SUMMARY:Bittandacht
DESCRIPTION:https://pfarreien-bistum-augsburg.df-preview.de/bittandacht_id1
 748609
DTSTART;TZID=Europe/Berlin:20260511T183000
DURATION:PT30M
LOCATION:St. Magnus
END:VEVENT
BEGIN:VEVENT
UID:sabre-vobject-be26657b-b8f9-4d67-ad32-ebfb46633662
DTSTAMP:20260422T035706Z
SUMMARY:Flurumgang\, Treffpunkt an der Herrgotts-Ruh-Kapelle
DESCRIPTION:https://pfarreien-bistum-augsburg.df-preview.de/flurumgang-tref
 fpunkt-an-der-herrgotts-ruh-kapelle_id1748511
DTSTART;TZID=Europe/Berlin:20260511T190000
DURATION:PT30M
LOCATION:Mariä Himmelfahrt
END:VEVENT
BEGIN:VEVENT
UID:sabre-vobject-d39e4023-eadf-496c-84b9-80e33fb559a7
DTSTAMP:20260422T035706Z
SUMMARY:AWO-Seniorenheim: Heilige Messe
DESCRIPTION:https://pfarreien-bistum-augsburg.df-preview.de/awo-seniorenhei
 m-heilige-messe_id1748622
DTSTART;TZID=Europe/Berlin:20260512T160000
DURATION:PT30M
LOCATION:St. Michael
END:VEVENT
BEGIN:VEVENT
UID:sabre-vobject-51bc9be6-2c24-49ea-8c76-0a64bf0a277e
DTSTAMP:20260422T035706Z
SUMMARY:Krankenhauskapelle: Heilige Messe
DESCRIPTION:https://pfarreien-bistum-augsburg.df-preview.de/krankenhauskape
 lle-heilige-messe_id1748623
DTSTART;TZID=Europe/Berlin:20260512T180000
DURATION:PT30M
LOCATION:St. Michael
END:VEVENT
BEGIN:VEVENT
UID:sabre-vobject-8e06c15e-cd64-40fb-bb3b-ab0cd82fb4a4
DTSTAMP:20260422T035706Z
SUMMARY:Krankenhauskapelle: Gebet und Bibelteilen
DESCRIPTION:https://pfarreien-bistum-augsburg.df-preview.de/krankenhauskape
 lle-gebet-und-bibelteilen_id1748624
DTSTART;TZID=Europe/Berlin:20260512T183000
DURATION:PT30M
LOCATION:St. Michael
END:VEVENT
BEGIN:VEVENT
UID:sabre-vobject-15c68bff-b025-4526-9b08-88e3b8fdb463
DTSTAMP:20260422T035706Z
SUMMARY:Heilige Messe mit Obermeitingen
DESCRIPTION:https://pfarreien-bistum-augsburg.df-preview.de/heilige-messe-m
 it-obermeitingen_id1748568
DTSTART;TZID=Europe/Berlin:20260512T190000
DURATION:PT30M
LOCATION:Mater Dolorosa\, Klimmach 61\, 86830 Klimmach
END:VEVENT
BEGIN:VEVENT
UID:sabre-vobject-04f21b86-7285-4332-b7be-0959daf6a44d
DTSTAMP:20260422T035706Z
SUMMARY:Bittgang von der Frauenkirche zur Stadtpfarrkirche
DESCRIPTION:https://pfarreien-bistum-augsburg.df-preview.de/bittgang-von-de
 r-frauenkirche-zur-stadtpfarrkirche_id1748628
DTSTART;TZID=Europe/Berlin:20260513T083000
DURATION:PT30M
LOCATION:St. Michael
END:VEVENT
BEGIN:VEVENT
UID:sabre-vobject-a6329e51-2ad0-44de-ac84-abf82b428acd
DTSTAMP:20260422T035706Z
SUMMARY:Heilige Messe  anschl. Fatima-Rosenkranz
DESCRIPTION:https://pfarreien-bistum-augsburg.df-preview.de/heilige-messe-a
 nschl-fatima-rosenkranz_id1748629
DTSTART;TZID=Europe/Berlin:20260513T090000
DURATION:PT30M
LOCATION:St. Michael
END:VEVENT
BEGIN:VEVENT
UID:sabre-vobject-ae33159c-a314-43a5-8661-387bea97b47c
DTSTAMP:20260422T035706Z
SUMMARY:Mariengrotte im Luitpoldpark: Deutschland betet Rosenkranz
DESCRIPTION:https://pfarreien-bistum-augsburg.df-preview.de/mariengrotte-im
 -luitpoldpark-deutschland-betet-rosenkranz_id1748630
DTSTART;TZID=Europe/Berlin:20260513T180000
DURATION:PT30M
LOCATION:St. Michael
END:VEVENT
BEGIN:VEVENT
UID:sabre-vobject-ee7a5eb4-cda4-4bb8-adc2-c740a77f24b3
DTSTAMP:20260422T035706Z
SUMMARY:Rosenkranz
DESCRIPTION:https://pfarreien-bistum-augsburg.df-preview.de/rosenkranz_id17
 48569
DTSTART;TZID=Europe/Berlin:20260513T190000
DURATION:PT30M
LOCATION:Mater Dolorosa\, Klimmach 61\, 86830 Klimmach
END:VEVENT
BEGIN:VEVENT
UID:sabre-vobject-ac6b733f-a9c6-45de-ad0d-1a83c02cdcf3
DTSTAMP:20260422T035706Z
SUMMARY:Feldmesse - Vorabendmesse zu Christi Himmelfahrt
DESCRIPTION:https://pfarreien-bistum-augsburg.df-preview.de/feldmesse-vorab
 endmesse-zu-christi-himmelfahrt_id1748613
DTSTART;TZID=Europe/Berlin:20260513T190000
DURATION:PT30M
LOCATION:St. Magnus
END:VEVENT
BEGIN:VEVENT
UID:sabre-vobject-e2158030-97f5-461b-ba12-235ed400922e
DTSTAMP:20260422T035706Z
SUMMARY:Heilige Messe mit den Ettal-Pilgern
DESCRIPTION:https://pfarreien-bistum-augsburg.df-preview.de/heilige-messe-m
 it-den-ettal-pilgern_id1748605
DTSTART;TZID=Europe/Berlin:20260514T071500
DURATION:PT30M
LOCATION:Mater Dolorosa\, Klimmach 61\, 86830 Klimmach
END:VEVENT
BEGIN:VEVENT
UID:sabre-vobject-b67e7a93-0b73-4675-9503-13794e752445
DTSTAMP:20260422T035706Z
SUMMARY:Maiandacht
DESCRIPTION:https://pfarreien-bistum-augsburg.df-preview.de/maiandacht_id17
 48512
DTSTART;TZID=Europe/Berlin:20260514T083000
DURATION:PT30M
LOCATION:Mariä Himmelfahrt
END:VEVENT
BEGIN:VEVENT
UID:sabre-vobject-b5269b76-7b06-425e-b607-88986fb08aaf
DTSTAMP:20260422T035706Z
SUMMARY:Heilige Messe
DESCRIPTION:https://pfarreien-bistum-augsburg.df-preview.de/heilige-messe_i
 d1748548
DTSTART;TZID=Europe/Berlin:20260514T090000
DURATION:PT30M
LOCATION:Mariä Himmelfahrt
END:VEVENT
BEGIN:VEVENT
UID:sabre-vobject-e6300995-3513-4998-b615-71d21c486fea
DTSTAMP:20260422T035706Z
SUMMARY:Feldmesse an der Feldkapelle (bei schlechtem Wetter in der Pfarrkir
 che)
DESCRIPTION:https://pfarreien-bistum-augsburg.df-preview.de/feldmesse-an-de
 r-feldkapelle-bei-schlechtem-wetter-in-der-pfarrkirche_id1748631
DTSTART;TZID=Europe/Berlin:20260514T103000
DURATION:PT30M
LOCATION:St. Michael
END:VEVENT
BEGIN:VEVENT
UID:sabre-vobject-cad5a9cf-2840-44df-bb65-05cb42895115
DTSTAMP:20260422T035706Z
SUMMARY:Frauenkirche: Heilige Messe mit Marienlob
DESCRIPTION:https://pfarreien-bistum-augsburg.df-preview.de/frauenkirche-he
 ilige-messe-mit-marienlob_id1748632
DTSTART;TZID=Europe/Berlin:20260515T090000
DURATION:PT30M
LOCATION:St. Michael
END:VEVENT
BEGIN:VEVENT
UID:sabre-vobject-2be035d9-7a96-4d27-ba12-07198e5c2c89
DTSTAMP:20260422T035706Z
SUMMARY:Maiandacht im Luitpoldpark (entfällt bei schlechtem Wetter)
DESCRIPTION:https://pfarreien-bistum-augsburg.df-preview.de/maiandacht-im-l
 uitpoldpark-entfaellt-bei-schlechtem-wetter_id1748633
DTSTART;TZID=Europe/Berlin:20260515T180000
DURATION:PT30M
LOCATION:St. Michael
END:VEVENT
BEGIN:VEVENT
UID:sabre-vobject-47faae7e-c1aa-46ba-b988-f097c5358bc3
DTSTAMP:20260422T035706Z
SUMMARY:Antoniuskapelle Birkach: Heilige Messe (18:30 Rosenkranz)
DESCRIPTION:https://pfarreien-bistum-augsburg.df-preview.de/antoniuskapelle
 -birkach-heilige-messe-18-30-rosenkranz_id1748606
DTSTART;TZID=Europe/Berlin:20260515T190000
DURATION:PT30M
LOCATION:Mater Dolorosa\, Klimmach 61\, 86830 Klimmach
END:VEVENT
END:VCALENDAR
