BEGIN:VCALENDAR
VERSION:2.0
PRODID:-//Sabre//Sabre VObject 4.5.8//EN
CALSCALE:GREGORIAN
NAME:Bistum Augsburg
X-WR-CALNAME:Bistum Augsburg
BEGIN:VEVENT
UID:sabre-vobject-7bf5c5fe-2b84-40d6-8e48-11e5ffc88cde
DTSTAMP:20260421T144242Z
SUMMARY:Rosenkranz
DESCRIPTION:https://pfarreien-bistum-augsburg.df-preview.de/rosenkranz_id17
 13056
DTSTART;TZID=Europe/Berlin:20260422T160000
DURATION:PT30M
LOCATION:St. Peter und Paul\, Kirchpl. 4\, 82387 Antdorf
END:VEVENT
BEGIN:VEVENT
UID:sabre-vobject-0620dcc1-181b-48e2-bdc8-bcbe21a7777c
DTSTAMP:20260421T144242Z
SUMMARY:Probe Erstkommunion
DESCRIPTION:https://pfarreien-bistum-augsburg.df-preview.de/probe-erstkommu
 nion_id1713058
DTSTART;TZID=Europe/Berlin:20260423T160000
DURATION:PT30M
LOCATION:St. Peter und Paul\, Kirchpl. 4\, 82387 Antdorf
END:VEVENT
BEGIN:VEVENT
UID:sabre-vobject-c8ecf823-0af8-45a2-ad38-05852803c72d
DTSTAMP:20260421T144242Z
SUMMARY:Abendmesse
DESCRIPTION:https://pfarreien-bistum-augsburg.df-preview.de/abendmesse_id17
 13059
DTSTART;TZID=Europe/Berlin:20260423T190000
DURATION:PT30M
LOCATION:St. Peter und Paul\, Kirchpl. 4\, 82387 Antdorf
END:VEVENT
BEGIN:VEVENT
UID:sabre-vobject-10c7b40d-e676-412a-a272-40aff81c9147
DTSTAMP:20260421T144242Z
SUMMARY:ERSTKOMMUNION
DESCRIPTION:https://pfarreien-bistum-augsburg.df-preview.de/erstkommunion_i
 d1713060
DTSTART;TZID=Europe/Berlin:20260426T101500
DURATION:PT30M
LOCATION:St. Peter und Paul\, Kirchpl. 4\, 82387 Antdorf
END:VEVENT
BEGIN:VEVENT
UID:sabre-vobject-642ae677-eedc-4f36-904b-55046325e0fb
DTSTAMP:20260421T144242Z
SUMMARY:Dankandacht zur Erstkommunion in Frauenrain
DESCRIPTION:https://pfarreien-bistum-augsburg.df-preview.de/dankandacht-zur
 -erstkommunion-in-frauenrain_id1713061
DTSTART;TZID=Europe/Berlin:20260426T173000
DURATION:PT30M
LOCATION:St. Peter und Paul\, Kirchpl. 4\, 82387 Antdorf
END:VEVENT
BEGIN:VEVENT
UID:sabre-vobject-38433f07-1f8c-44e2-8bc7-a253978a36e7
DTSTAMP:20260421T144242Z
SUMMARY:Rosenkranz
DESCRIPTION:https://pfarreien-bistum-augsburg.df-preview.de/rosenkranz_id17
 13062
DTSTART;TZID=Europe/Berlin:20260429T160000
DURATION:PT30M
LOCATION:St. Peter und Paul\, Kirchpl. 4\, 82387 Antdorf
END:VEVENT
BEGIN:VEVENT
UID:sabre-vobject-8c27e76e-aa7e-4687-9fca-6e49ad60be08
DTSTAMP:20260421T144242Z
SUMMARY:Vorabendmesse
DESCRIPTION:https://pfarreien-bistum-augsburg.df-preview.de/vorabendmesse_i
 d1713063
DTSTART;TZID=Europe/Berlin:20260430T190000
DURATION:PT30M
LOCATION:St. Peter und Paul\, Kirchpl. 4\, 82387 Antdorf
END:VEVENT
BEGIN:VEVENT
UID:sabre-vobject-b35bc358-6641-4831-9857-8458625fe574
DTSTAMP:20260421T144242Z
SUMMARY:Feierliche Maiandacht
DESCRIPTION:https://pfarreien-bistum-augsburg.df-preview.de/feierliche-maia
 ndacht_id1713064
DTSTART;TZID=Europe/Berlin:20260501T190000
DURATION:PT30M
LOCATION:St. Peter und Paul\, Kirchpl. 4\, 82387 Antdorf
END:VEVENT
BEGIN:VEVENT
UID:sabre-vobject-1f95059e-34e6-4c21-84b8-51483314678b
DTSTAMP:20260421T144242Z
SUMMARY:Rosenkranz
DESCRIPTION:https://pfarreien-bistum-augsburg.df-preview.de/rosenkranz_id17
 13065
DTSTART;TZID=Europe/Berlin:20260506T160000
DURATION:PT30M
LOCATION:St. Peter und Paul\, Kirchpl. 4\, 82387 Antdorf
END:VEVENT
BEGIN:VEVENT
UID:sabre-vobject-789aba29-6ab8-4a78-8087-35a5709180c1
DTSTAMP:20260421T144242Z
SUMMARY:Abendmesse
DESCRIPTION:https://pfarreien-bistum-augsburg.df-preview.de/abendmesse_id17
 13066
DTSTART;TZID=Europe/Berlin:20260507T190000
DURATION:PT30M
LOCATION:St. Peter und Paul\, Kirchpl. 4\, 82387 Antdorf
END:VEVENT
BEGIN:VEVENT
UID:sabre-vobject-8dea7a45-d44a-4efc-ac73-99582974b82e
DTSTAMP:20260421T144242Z
SUMMARY:Heilige Messe
DESCRIPTION:https://pfarreien-bistum-augsburg.df-preview.de/heilige-messe_i
 d1713096
DTSTART;TZID=Europe/Berlin:20260510T101500
DURATION:PT30M
LOCATION:St. Peter und Paul\, Kirchpl. 4\, 82387 Antdorf
END:VEVENT
BEGIN:VEVENT
UID:sabre-vobject-a03b5375-d92f-4c4f-9731-e6a194947fe8
DTSTAMP:20260421T144242Z
SUMMARY:Maiandacht des Frauenkreises an der Grotte (bei schlechter Witterun
 g in der Pfarrkirche)
DESCRIPTION:https://pfarreien-bistum-augsburg.df-preview.de/maiandacht-des-
 frauenkreises-an-der-grotte-bei-schlechter-witterung-in-der-pfarrkirche_id
 1713097
DTSTART;TZID=Europe/Berlin:20260510T190000
DURATION:PT30M
LOCATION:St. Peter und Paul\, Kirchpl. 4\, 82387 Antdorf
END:VEVENT
BEGIN:VEVENT
UID:sabre-vobject-22d6ebb3-434f-407a-a789-e40a9c1bdce1
DTSTAMP:20260421T144242Z
SUMMARY:Rosenkranz
DESCRIPTION:https://pfarreien-bistum-augsburg.df-preview.de/rosenkranz_id17
 13098
DTSTART;TZID=Europe/Berlin:20260513T160000
DURATION:PT30M
LOCATION:St. Peter und Paul\, Kirchpl. 4\, 82387 Antdorf
END:VEVENT
BEGIN:VEVENT
UID:sabre-vobject-94e7357a-dec0-46f0-9535-1afe462af96d
DTSTAMP:20260421T144242Z
SUMMARY:Bittgang nach Frauenrain
DESCRIPTION:https://pfarreien-bistum-augsburg.df-preview.de/bittgang-nach-f
 rauenrain_id1713099
DTSTART;TZID=Europe/Berlin:20260514T081500
DURATION:PT30M
LOCATION:St. Peter und Paul\, Kirchpl. 4\, 82387 Antdorf
END:VEVENT
BEGIN:VEVENT
UID:sabre-vobject-9c5a1104-95af-4ffc-89e2-e7b102d14c9b
DTSTAMP:20260421T144242Z
SUMMARY:Heilige Messe in Frauenrain
DESCRIPTION:https://pfarreien-bistum-augsburg.df-preview.de/heilige-messe-i
 n-frauenrain_id1713100
DTSTART;TZID=Europe/Berlin:20260514T084500
DURATION:PT30M
LOCATION:St. Peter und Paul\, Kirchpl. 4\, 82387 Antdorf
END:VEVENT
BEGIN:VEVENT
UID:sabre-vobject-6c64adc1-7188-4c4f-8894-0feceab3f1b2
DTSTAMP:20260421T144242Z
SUMMARY:Heilige Messe
DESCRIPTION:https://pfarreien-bistum-augsburg.df-preview.de/heilige-messe_i
 d1713090
DTSTART;TZID=Europe/Berlin:20260517T084500
DURATION:PT30M
LOCATION:St. Peter und Paul\, Kirchpl. 4\, 82387 Antdorf
END:VEVENT
BEGIN:VEVENT
UID:sabre-vobject-a34510c1-955d-4a11-ac79-b9588b4926e5
DTSTAMP:20260421T144242Z
SUMMARY:Rosenkranz
DESCRIPTION:https://pfarreien-bistum-augsburg.df-preview.de/rosenkranz_id17
 13091
DTSTART;TZID=Europe/Berlin:20260520T160000
DURATION:PT30M
LOCATION:St. Peter und Paul\, Kirchpl. 4\, 82387 Antdorf
END:VEVENT
BEGIN:VEVENT
UID:sabre-vobject-daa17ed9-f09e-4cd3-a2d7-2df24f8042bc
DTSTAMP:20260421T144242Z
SUMMARY:Feierliche Maiandacht in Frauenrain
DESCRIPTION:https://pfarreien-bistum-augsburg.df-preview.de/feierliche-maia
 ndacht-in-frauenrain_id1713092
DTSTART;TZID=Europe/Berlin:20260521T190000
DURATION:PT30M
LOCATION:St. Peter und Paul\, Kirchpl. 4\, 82387 Antdorf
END:VEVENT
BEGIN:VEVENT
UID:sabre-vobject-392b5f49-1e46-45df-b930-56eae0572284
DTSTAMP:20260421T144242Z
SUMMARY:Wallfahrt nach Andechs
DESCRIPTION:https://pfarreien-bistum-augsburg.df-preview.de/wallfahrt-nach-
 andechs_id1713093
DTSTART;TZID=Europe/Berlin:20260523T071500
DURATION:PT30M
LOCATION:St. Peter und Paul\, Kirchpl. 4\, 82387 Antdorf
END:VEVENT
BEGIN:VEVENT
UID:sabre-vobject-99eb5af7-1e15-4cdf-89d0-1870e2054497
DTSTAMP:20260421T144242Z
SUMMARY:Hochamt
DESCRIPTION:https://pfarreien-bistum-augsburg.df-preview.de/hochamt_id17130
 94
DTSTART;TZID=Europe/Berlin:20260524T084500
DURATION:PT30M
LOCATION:St. Peter und Paul\, Kirchpl. 4\, 82387 Antdorf
END:VEVENT
END:VCALENDAR
