BEGIN:VCALENDAR
VERSION:2.0
PRODID:-//Sabre//Sabre VObject 4.5.8//EN
CALSCALE:GREGORIAN
NAME:Bistum Augsburg
X-WR-CALNAME:Bistum Augsburg
BEGIN:VEVENT
UID:sabre-vobject-1ef27612-fd62-4398-a3b6-899ccca0c7e9
DTSTAMP:20260422T173056Z
SUMMARY:Friedensgebet
DESCRIPTION:https://pfarreien-bistum-augsburg.df-preview.de/friedensgebet_i
 d1738472
DTSTART;TZID=Europe/Berlin:20260426T190000
DURATION:PT30M
LOCATION:St. Andreas
END:VEVENT
BEGIN:VEVENT
UID:sabre-vobject-e950753e-f14c-4e4e-ba52-b855d6ec8e87
DTSTAMP:20260422T173056Z
SUMMARY:HM
DESCRIPTION:https://pfarreien-bistum-augsburg.df-preview.de/hm_id1738473
DTSTART;TZID=Europe/Berlin:20260429T180000
DURATION:PT30M
LOCATION:St. Andreas
END:VEVENT
BEGIN:VEVENT
UID:sabre-vobject-5e6d172f-1a2f-4a6e-bf84-c99f5955574b
DTSTAMP:20260422T173056Z
SUMMARY:HM (Dankgottesdienst der Erstkommunionkinder)
DESCRIPTION:https://pfarreien-bistum-augsburg.df-preview.de/hm-dankgottesdi
 enst-der-erstkommunionkinder_id1738777
DTSTART;TZID=Europe/Berlin:20260503T084500
DURATION:PT30M
LOCATION:St. Andreas
END:VEVENT
BEGIN:VEVENT
UID:sabre-vobject-c1a23f1a-a357-4f2f-a3d8-9b740ef9a101
DTSTAMP:20260422T173056Z
SUMMARY:Maiandacht (musik. gest. v.d. Veeh-Harfen-Gruppe)
DESCRIPTION:https://pfarreien-bistum-augsburg.df-preview.de/maiandacht-musi
 k-gest-v-d-veeh-harfen-gruppe_id1738778
DTSTART;TZID=Europe/Berlin:20260503T190000
DURATION:PT30M
LOCATION:St. Andreas
END:VEVENT
BEGIN:VEVENT
UID:sabre-vobject-9a007045-847d-4644-9b39-ce3b911e6d79
DTSTAMP:20260422T173056Z
SUMMARY:HM (Goldene Hochzeit)
DESCRIPTION:https://pfarreien-bistum-augsburg.df-preview.de/hm-goldene-hoch
 zeit_id1738561
DTSTART;TZID=Europe/Berlin:20260515T140000
DURATION:PT30M
LOCATION:St. Andreas
END:VEVENT
BEGIN:VEVENT
UID:sabre-vobject-06922231-139d-4fa1-b846-71c90085402b
DTSTAMP:20260422T173056Z
SUMMARY:Tauffeier
DESCRIPTION:https://pfarreien-bistum-augsburg.df-preview.de/tauffeier_id173
 8562
DTSTART;TZID=Europe/Berlin:20260517T113000
DURATION:PT30M
LOCATION:St. Andreas
END:VEVENT
BEGIN:VEVENT
UID:sabre-vobject-9c53ab1b-0097-418a-84b2-73256baf543e
DTSTAMP:20260422T173056Z
SUMMARY:Festgottesdienst
DESCRIPTION:https://pfarreien-bistum-augsburg.df-preview.de/festgottesdiens
 t_id1738563
DTSTART;TZID=Europe/Berlin:20260524T084500
DURATION:PT30M
LOCATION:St. Andreas
END:VEVENT
END:VCALENDAR
