BEGIN:VCALENDAR
VERSION:2.0
PRODID:-//Sabre//Sabre VObject 4.5.8//EN
CALSCALE:GREGORIAN
NAME:Bistum Augsburg
X-WR-CALNAME:Bistum Augsburg
BEGIN:VEVENT
UID:sabre-vobject-6d0a19f7-c6d8-447a-88dd-554f65af70a6
DTSTAMP:20260424T163313Z
SUMMARY:Probe der Erstkommunionkinder
DESCRIPTION:https://pfarreien-bistum-augsburg.df-preview.de/probe-der-erstk
 ommunionkinder_id1742224
DTSTART;TZID=Europe/Berlin:20260424T160000
DURATION:PT30M
LOCATION:Mariä Himmelfahrt
END:VEVENT
BEGIN:VEVENT
UID:sabre-vobject-bdfcfa2f-001e-48b2-be6f-c199b7f46b84
DTSTAMP:20260424T163313Z
SUMMARY:Hl. Messe
DESCRIPTION:https://pfarreien-bistum-augsburg.df-preview.de/hl-messe_id1742
 237
DTSTART;TZID=Europe/Berlin:20260424T183000
DURATION:PT30M
LOCATION:St. Vitus
END:VEVENT
BEGIN:VEVENT
UID:sabre-vobject-ea767112-38fa-4d1d-bed7-88c15f98b317
DTSTAMP:20260424T163313Z
SUMMARY:Probe der Erstkommunionkinder
DESCRIPTION:https://pfarreien-bistum-augsburg.df-preview.de/probe-der-erstk
 ommunionkinder_id1752259
DTSTART;TZID=Europe/Berlin:20260425T160000
DURATION:PT30M
LOCATION:Mariä Himmelfahrt
END:VEVENT
BEGIN:VEVENT
UID:sabre-vobject-1eb4ba31-7ba4-4f41-871d-5dcbfc42394e
DTSTAMP:20260424T163313Z
SUMMARY:Rosenkranz für den Frieden
DESCRIPTION:https://pfarreien-bistum-augsburg.df-preview.de/rosenkranz-fuer
 -den-frieden_id1752370
DTSTART;TZID=Europe/Berlin:20260425T180000
DURATION:PT30M
LOCATION:St. Peter
END:VEVENT
BEGIN:VEVENT
UID:sabre-vobject-75002df5-524d-48df-ae0e-c8b8be00747e
DTSTAMP:20260424T163313Z
SUMMARY:Vorabendmesse
DESCRIPTION:https://pfarreien-bistum-augsburg.df-preview.de/vorabendmesse_i
 d1752371
DTSTART;TZID=Europe/Berlin:20260425T183000
DURATION:PT30M
LOCATION:St. Peter
END:VEVENT
BEGIN:VEVENT
UID:sabre-vobject-837c64b6-5872-47cf-b30e-bab360dc90c5
DTSTAMP:20260424T163313Z
SUMMARY:Feier der Erstkommunion\, musikal. gestaltet vom Heartchor
DESCRIPTION:https://pfarreien-bistum-augsburg.df-preview.de/feier-der-erstk
 ommunion-musikal-gestaltet-vom-heartchor_id1752260
DTSTART;TZID=Europe/Berlin:20260426T093000
DURATION:PT30M
LOCATION:Mariä Himmelfahrt
END:VEVENT
BEGIN:VEVENT
UID:sabre-vobject-20587881-dca9-436a-97ee-cacc4f1401bc
DTSTAMP:20260424T163313Z
SUMMARY:Dankandacht der Erstkommunionkinder\, musikal. gestaltet von ErTaDo
  Sol
DESCRIPTION:https://pfarreien-bistum-augsburg.df-preview.de/dankandacht-der
 -erstkommunionkinder-musikal-gestaltet-von-ertado-sol_id1752261
DTSTART;TZID=Europe/Berlin:20260426T170000
DURATION:PT30M
LOCATION:Mariä Himmelfahrt
END:VEVENT
BEGIN:VEVENT
UID:sabre-vobject-52cdc95e-ebfc-4a4a-9c87-9e7e2414d127
DTSTAMP:20260424T163313Z
SUMMARY:Frühmesse
DESCRIPTION:https://pfarreien-bistum-augsburg.df-preview.de/fruehmesse_id17
 52372
DTSTART;TZID=Europe/Berlin:20260427T080000
DURATION:PT30M
LOCATION:St. Peter
END:VEVENT
BEGIN:VEVENT
UID:sabre-vobject-d1970a92-19ba-475c-93b5-b1a9de0cb01f
DTSTAMP:20260424T163313Z
SUMMARY:Barmherzigkeitsrosenkranz
DESCRIPTION:https://pfarreien-bistum-augsburg.df-preview.de/barmherzigkeits
 rosenkranz_id1752396
DTSTART;TZID=Europe/Berlin:20260428T181500
DURATION:PT30M
LOCATION:St. Peter
END:VEVENT
BEGIN:VEVENT
UID:sabre-vobject-35fdb849-49ad-47f9-86ab-851ac3a78a66
DTSTAMP:20260424T163313Z
SUMMARY:Hl. Messe
DESCRIPTION:https://pfarreien-bistum-augsburg.df-preview.de/hl-messe_id1752
 397
DTSTART;TZID=Europe/Berlin:20260428T183000
DURATION:PT30M
LOCATION:St. Peter
END:VEVENT
BEGIN:VEVENT
UID:sabre-vobject-0bc6f717-5a7f-423b-a54b-9ab20ee116fb
DTSTAMP:20260424T163313Z
SUMMARY:Beichtgelegenheit bis 18.15 Uhr
DESCRIPTION:https://pfarreien-bistum-augsburg.df-preview.de/beichtgelegenhe
 it-bis-18-15-uhr_id1752262
DTSTART;TZID=Europe/Berlin:20260429T174500
DURATION:PT30M
LOCATION:Mariä Himmelfahrt
END:VEVENT
BEGIN:VEVENT
UID:sabre-vobject-7c67f9d6-1749-4243-b175-76480562f3f4
DTSTAMP:20260424T163313Z
SUMMARY:Barmherzigkeitsrosenkranz
DESCRIPTION:https://pfarreien-bistum-augsburg.df-preview.de/barmherzigkeits
 rosenkranz_id1752263
DTSTART;TZID=Europe/Berlin:20260429T181500
DURATION:PT30M
LOCATION:Mariä Himmelfahrt
END:VEVENT
BEGIN:VEVENT
UID:sabre-vobject-51c4c872-02d7-41a4-abaa-70420ce35df9
DTSTAMP:20260424T163313Z
SUMMARY:Hl. Messe
DESCRIPTION:https://pfarreien-bistum-augsburg.df-preview.de/hl-messe_id1752
 264
DTSTART;TZID=Europe/Berlin:20260429T183000
DURATION:PT30M
LOCATION:Mariä Himmelfahrt
END:VEVENT
BEGIN:VEVENT
UID:sabre-vobject-b38eaecd-4453-429b-8689-4d3a72776583
DTSTAMP:20260424T163313Z
SUMMARY:Hl. Messe
DESCRIPTION:https://pfarreien-bistum-augsburg.df-preview.de/hl-messe_id1752
 398
DTSTART;TZID=Europe/Berlin:20260430T183000
DURATION:PT30M
LOCATION:St. Peter
END:VEVENT
BEGIN:VEVENT
UID:sabre-vobject-70127c1e-69db-42e4-9169-a38382b2e779
DTSTAMP:20260424T163313Z
SUMMARY:Schützenmesse zusammen mit den Tell-Grenz Schützen\, musikal. ges
 taltet von der VMT
DESCRIPTION:https://pfarreien-bistum-augsburg.df-preview.de/schuetzenmesse-
 zusammen-mit-den-tell-grenz-schuetzen-musikal-gestaltet-von-der-vmt_id1752
 369
DTSTART;TZID=Europe/Berlin:20260501T090000
DURATION:PT30M
LOCATION:Mariä Himmelfahrt
END:VEVENT
BEGIN:VEVENT
UID:sabre-vobject-e2c36e8a-d7c0-459b-bd96-38eb27e19208
DTSTAMP:20260424T163313Z
SUMMARY:Erste feierliche Maiandacht zusammen mit der Rosenkranzbruderschaft
  und dem Marianischen Rat\, anschl. Lichterprozession\, musikal. gestaltet
  vom Kirchenchor
DESCRIPTION:https://pfarreien-bistum-augsburg.df-preview.de/erste-feierlich
 e-maiandacht-zusammen-mit-der-rosenkranzbruderschaft-und-dem-marianischen-
 rat-anschl-lichterprozession-musikal-gestaltet-vom-kirchenchor_id1752399
DTSTART;TZID=Europe/Berlin:20260501T183000
DURATION:PT30M
LOCATION:St. Peter
END:VEVENT
END:VCALENDAR
