BEGIN:VCALENDAR
VERSION:2.0
PRODID:-//Sabre//Sabre VObject 4.5.8//EN
CALSCALE:GREGORIAN
NAME:Bistum Augsburg
X-WR-CALNAME:Bistum Augsburg
BEGIN:VEVENT
UID:sabre-vobject-1df5ba5c-a64f-43b7-a911-1d44eb9c8875
DTSTAMP:20260421T100649Z
SUMMARY:Heilige Messe
DESCRIPTION:https://pfarreien-bistum-augsburg.df-preview.de/heilige-messe_i
 d1732732
DTSTART;TZID=Europe/Berlin:20260421T090000
DURATION:PT30M
LOCATION:St. Andreas
END:VEVENT
BEGIN:VEVENT
UID:sabre-vobject-1c4e97f4-e3fb-40c6-94a2-3738f3197e38
DTSTAMP:20260421T100649Z
SUMMARY:Heilige Messe
DESCRIPTION:https://pfarreien-bistum-augsburg.df-preview.de/heilige-messe_i
 d1732801
DTSTART;TZID=Europe/Berlin:20260421T183000
DURATION:PT30M
LOCATION:St. Wenzeslaus
END:VEVENT
BEGIN:VEVENT
UID:sabre-vobject-e0c8fce0-b375-498b-bd6d-a3d2fc673604
DTSTAMP:20260421T100649Z
SUMMARY:Heilige Messe
DESCRIPTION:https://pfarreien-bistum-augsburg.df-preview.de/heilige-messe_i
 d1732820
DTSTART;TZID=Europe/Berlin:20260422T090000
DURATION:PT30M
LOCATION:Heilig Kreuz
END:VEVENT
BEGIN:VEVENT
UID:sabre-vobject-b972192e-0274-4c5e-af3e-7fff8fa14f83
DTSTAMP:20260421T100649Z
SUMMARY:Heilige Messe
DESCRIPTION:https://pfarreien-bistum-augsburg.df-preview.de/heilige-messe_i
 d1732728
DTSTART;TZID=Europe/Berlin:20260422T183000
DURATION:PT30M
LOCATION:Maria\, Hilfe der Christen\, Aresinger Straße 12\, 86561 Unterwei
 lenbach
END:VEVENT
BEGIN:VEVENT
UID:sabre-vobject-7277668e-965f-4888-a0b4-bc6ddfec094b
DTSTAMP:20260421T100649Z
SUMMARY:Heilige Messe
DESCRIPTION:https://pfarreien-bistum-augsburg.df-preview.de/heilige-messe_i
 d1732745
DTSTART;TZID=Europe/Berlin:20260423T183000
DURATION:PT30M
LOCATION:St. Georg
END:VEVENT
BEGIN:VEVENT
UID:sabre-vobject-9bd3f01b-b181-4120-b351-f284188f3d11
DTSTAMP:20260421T100649Z
SUMMARY:Heilige Messe
DESCRIPTION:https://pfarreien-bistum-augsburg.df-preview.de/heilige-messe_i
 d1732742
DTSTART;TZID=Europe/Berlin:20260424T090000
DURATION:PT30M
LOCATION:St. Martin\, St.-Martin-Straße 15\, 86561 Aresing
END:VEVENT
BEGIN:VEVENT
UID:sabre-vobject-8170f4fd-e587-42cb-9a15-d1eb7c156e4b
DTSTAMP:20260421T100649Z
SUMMARY:Markusbittgang von Gachenbach und Peutenhausen nach Maria Beinberg\
 , anschl. hl. Messe
DESCRIPTION:https://pfarreien-bistum-augsburg.df-preview.de/markusbittgang-
 von-gachenbach-und-peutenhausen-nach-maria-beinberg-anschl-hl-messe_id1732
 114
DTSTART;TZID=Europe/Berlin:20260424T180000
DURATION:PT30M
LOCATION:Wallfahrtskirchenstiftung Mariä Geburt
END:VEVENT
BEGIN:VEVENT
UID:sabre-vobject-502c7b8b-e137-4a8e-8eae-ec707abc59cf
DTSTAMP:20260421T100649Z
SUMMARY:Heilige Messe
DESCRIPTION:https://pfarreien-bistum-augsburg.df-preview.de/heilige-messe_i
 d1732115
DTSTART;TZID=Europe/Berlin:20260424T183000
DURATION:PT30M
LOCATION:Wallfahrtskirchenstiftung Mariä Geburt
END:VEVENT
BEGIN:VEVENT
UID:sabre-vobject-548bbf18-bf04-4034-9ad3-b5f547c2721e
DTSTAMP:20260421T100649Z
SUMMARY:Heilige Messe
DESCRIPTION:https://pfarreien-bistum-augsburg.df-preview.de/heilige-messe_i
 d1732751
DTSTART;TZID=Europe/Berlin:20260424T183000
DURATION:PT30M
LOCATION:Hlgst. Dreifaltigkeit
END:VEVENT
BEGIN:VEVENT
UID:sabre-vobject-dd0e44c5-d1d5-4864-b5ff-56bc77ad1973
DTSTAMP:20260421T100649Z
SUMMARY:Heilige Messe mit Motorradsegnung
DESCRIPTION:https://pfarreien-bistum-augsburg.df-preview.de/heilige-messe-m
 it-motorradsegnung_id1732765
DTSTART;TZID=Europe/Berlin:20260425T100000
DURATION:PT30M
LOCATION:Wallfahrtskirchenstiftung Mariä Geburt
END:VEVENT
BEGIN:VEVENT
UID:sabre-vobject-d5e51b63-3b8d-42c9-bed2-8e615b5f7592
DTSTAMP:20260421T100649Z
SUMMARY:Segenszeit
DESCRIPTION:https://pfarreien-bistum-augsburg.df-preview.de/segenszeit_id17
 32766
DTSTART;TZID=Europe/Berlin:20260425T160000
DURATION:PT30M
LOCATION:Wallfahrtskirchenstiftung Mariä Geburt
END:VEVENT
BEGIN:VEVENT
UID:sabre-vobject-c1d107dd-d744-4b47-836c-ca48612f1a5e
DTSTAMP:20260421T100649Z
SUMMARY:Vorabendmesse
DESCRIPTION:https://pfarreien-bistum-augsburg.df-preview.de/vorabendmesse_i
 d1732743
DTSTART;TZID=Europe/Berlin:20260425T183000
DURATION:PT30M
LOCATION:St. Martin\, St.-Martin-Straße 15\, 86561 Aresing
END:VEVENT
BEGIN:VEVENT
UID:sabre-vobject-3c8e1500-d643-4539-b98e-30041ac741d1
DTSTAMP:20260421T100649Z
SUMMARY:Vorabendmesse
DESCRIPTION:https://pfarreien-bistum-augsburg.df-preview.de/vorabendmesse_i
 d1732821
DTSTART;TZID=Europe/Berlin:20260425T183000
DURATION:PT30M
LOCATION:Heilig Kreuz
END:VEVENT
BEGIN:VEVENT
UID:sabre-vobject-99cba4e0-0114-4690-b0af-c4872e924290
DTSTAMP:20260421T100649Z
SUMMARY:Rosenkranz
DESCRIPTION:https://pfarreien-bistum-augsburg.df-preview.de/rosenkranz_id17
 32767
DTSTART;TZID=Europe/Berlin:20260426T070000
DURATION:PT30M
LOCATION:Wallfahrtskirchenstiftung Mariä Geburt
END:VEVENT
BEGIN:VEVENT
UID:sabre-vobject-c95ddf65-93a3-43bf-8e03-de63482486ae
DTSTAMP:20260421T100649Z
SUMMARY:Heilige Messe - mit den Fußwallfahrern aus Hollenbach
DESCRIPTION:https://pfarreien-bistum-augsburg.df-preview.de/heilige-messe-m
 it-den-fusswallfahrern-aus-hollenbach_id1732768
DTSTART;TZID=Europe/Berlin:20260426T073000
DURATION:PT30M
LOCATION:Wallfahrtskirchenstiftung Mariä Geburt
END:VEVENT
BEGIN:VEVENT
UID:sabre-vobject-636b9ad0-e32f-4346-9f53-a1b531176fff
DTSTAMP:20260421T100649Z
SUMMARY:Heilige Messe
DESCRIPTION:https://pfarreien-bistum-augsburg.df-preview.de/heilige-messe_i
 d1732752
DTSTART;TZID=Europe/Berlin:20260426T090000
DURATION:PT30M
LOCATION:Hlgst. Dreifaltigkeit
END:VEVENT
BEGIN:VEVENT
UID:sabre-vobject-9c33bf21-b953-4019-90aa-fe801ddc1f56
DTSTAMP:20260421T100649Z
SUMMARY:Heilige Messe
DESCRIPTION:https://pfarreien-bistum-augsburg.df-preview.de/heilige-messe_i
 d1732802
DTSTART;TZID=Europe/Berlin:20260426T090000
DURATION:PT30M
LOCATION:St. Wenzeslaus
END:VEVENT
BEGIN:VEVENT
UID:sabre-vobject-ebae38cf-749f-4aa7-b14f-b90f2ed56011
DTSTAMP:20260421T100649Z
SUMMARY:Hochamt zum PATROZINIUM zum Hl. Georg
DESCRIPTION:https://pfarreien-bistum-augsburg.df-preview.de/hochamt-zum-pat
 rozinium-zum-hl-georg_id1732746
DTSTART;TZID=Europe/Berlin:20260426T103000
DURATION:PT30M
LOCATION:St. Georg
END:VEVENT
BEGIN:VEVENT
UID:sabre-vobject-b44cb642-93ed-46ad-8c43-4c1dd200e6f7
DTSTAMP:20260421T100649Z
SUMMARY:Pfarrgottesdienst
DESCRIPTION:https://pfarreien-bistum-augsburg.df-preview.de/pfarrgottesdien
 st_id1732815
DTSTART;TZID=Europe/Berlin:20260426T103000
DURATION:PT30M
LOCATION:Mariä Himmelfahrt
END:VEVENT
BEGIN:VEVENT
UID:sabre-vobject-1f08a90d-3cf0-4212-b703-52a7414fe1ea
DTSTAMP:20260421T100649Z
SUMMARY:Taufe von Josefine Huber und Lena Semmer
DESCRIPTION:https://pfarreien-bistum-augsburg.df-preview.de/taufe-von-josef
 ine-huber-und-lena-semmer_id1732753
DTSTART;TZID=Europe/Berlin:20260426T114500
DURATION:PT30M
LOCATION:Hlgst. Dreifaltigkeit
END:VEVENT
BEGIN:VEVENT
UID:sabre-vobject-e285ae90-69c8-4307-98d1-350570018641
DTSTAMP:20260421T100649Z
SUMMARY:Marienandacht (anschl. Fahrradsegnung mit dem RSV Schrobenhausen)
DESCRIPTION:https://pfarreien-bistum-augsburg.df-preview.de/marienandacht-a
 nschl-fahrradsegnung-mit-dem-rsv-schrobenhausen_id1732769
DTSTART;TZID=Europe/Berlin:20260426T140000
DURATION:PT30M
LOCATION:Wallfahrtskirchenstiftung Mariä Geburt
END:VEVENT
BEGIN:VEVENT
UID:sabre-vobject-3e1742fb-a5f6-49ea-87c9-ae6c2517c499
DTSTAMP:20260421T100649Z
SUMMARY:Heilige Messe mit Augensegen
DESCRIPTION:https://pfarreien-bistum-augsburg.df-preview.de/heilige-messe-m
 it-augensegen_id1732727
DTSTART;TZID=Europe/Berlin:20260427T183000
DURATION:PT30M
LOCATION:St. Ottilia
END:VEVENT
BEGIN:VEVENT
UID:sabre-vobject-f44a8bc3-8f8e-4d4c-86fb-e0dece6db5f7
DTSTAMP:20260421T100649Z
SUMMARY:Heilige Messe
DESCRIPTION:https://pfarreien-bistum-augsburg.df-preview.de/heilige-messe_i
 d1732733
DTSTART;TZID=Europe/Berlin:20260428T090000
DURATION:PT30M
LOCATION:St. Andreas
END:VEVENT
BEGIN:VEVENT
UID:sabre-vobject-6e733e8e-37ad-42c8-80c5-114eb7931394
DTSTAMP:20260421T100649Z
SUMMARY:Heilige Messe
DESCRIPTION:https://pfarreien-bistum-augsburg.df-preview.de/heilige-messe_i
 d1732803
DTSTART;TZID=Europe/Berlin:20260428T183000
DURATION:PT30M
LOCATION:St. Wenzeslaus
END:VEVENT
BEGIN:VEVENT
UID:sabre-vobject-377645ef-4b6f-43e0-a500-e7f589ff1a69
DTSTAMP:20260421T100649Z
SUMMARY:Heilige Messe
DESCRIPTION:https://pfarreien-bistum-augsburg.df-preview.de/heilige-messe_i
 d1732822
DTSTART;TZID=Europe/Berlin:20260429T090000
DURATION:PT30M
LOCATION:Heilig Kreuz
END:VEVENT
BEGIN:VEVENT
UID:sabre-vobject-362ac356-d854-4427-9be5-bb1e90d9fe88
DTSTAMP:20260421T100649Z
SUMMARY:Heilige Messe
DESCRIPTION:https://pfarreien-bistum-augsburg.df-preview.de/heilige-messe_i
 d1732729
DTSTART;TZID=Europe/Berlin:20260429T183000
DURATION:PT30M
LOCATION:Maria\, Hilfe der Christen\, Aresinger Straße 12\, 86561 Unterwei
 lenbach
END:VEVENT
BEGIN:VEVENT
UID:sabre-vobject-ca21ca75-7c78-49b7-9792-f9fbc6b1fd96
DTSTAMP:20260421T100649Z
SUMMARY:Heilige Messe
DESCRIPTION:https://pfarreien-bistum-augsburg.df-preview.de/heilige-messe_i
 d1732747
DTSTART;TZID=Europe/Berlin:20260430T183000
DURATION:PT30M
LOCATION:St. Georg
END:VEVENT
END:VCALENDAR
