BEGIN:VCALENDAR
VERSION:2.0
PRODID:-//Sabre//Sabre VObject 4.5.8//EN
CALSCALE:GREGORIAN
NAME:Bistum Augsburg
X-WR-CALNAME:Bistum Augsburg
BEGIN:VEVENT
UID:sabre-vobject-9abd36f2-f632-436b-b984-fd882f57f1ca
DTSTAMP:20260421T121913Z
SUMMARY:stille eucharistische Anbetung (-17:45)
DESCRIPTION:https://pfarreien-bistum-augsburg.df-preview.de/stille-eucharis
 tische-anbetung-17-45_id1742569
DTSTART;TZID=Europe/Berlin:20260421T170000
DURATION:PT30M
LOCATION:St. Agatha
END:VEVENT
BEGIN:VEVENT
UID:sabre-vobject-44cf696e-9e6a-4f3e-99e8-b6bd6f67d432
DTSTAMP:20260421T121914Z
SUMMARY:Hl. Messe
DESCRIPTION:https://pfarreien-bistum-augsburg.df-preview.de/hl-messe_id1742
 595
DTSTART;TZID=Europe/Berlin:20260421T191500
DURATION:PT30M
LOCATION:St. Michael
END:VEVENT
BEGIN:VEVENT
UID:sabre-vobject-84caf70f-2188-41cf-8b47-098ed42be327
DTSTAMP:20260421T121914Z
SUMMARY:Hl. Messe (mit den EK-Kindern)
DESCRIPTION:https://pfarreien-bistum-augsburg.df-preview.de/hl-messe-mit-de
 n-ek-kindern_id1742570
DTSTART;TZID=Europe/Berlin:20260422T191500
DURATION:PT30M
LOCATION:St. Agatha
END:VEVENT
BEGIN:VEVENT
UID:sabre-vobject-3b74ba1f-b817-44ab-bd45-ea1e60d815c2
DTSTAMP:20260421T121914Z
SUMMARY:Taizé-Gebet
DESCRIPTION:https://pfarreien-bistum-augsburg.df-preview.de/taize-gebet_id1
 742596
DTSTART;TZID=Europe/Berlin:20260422T191500
DURATION:PT30M
LOCATION:St. Michael
END:VEVENT
BEGIN:VEVENT
UID:sabre-vobject-d33d619c-a32e-408c-bc12-2f8f808a0ed5
DTSTAMP:20260421T121914Z
SUMMARY:Hl. Messe
DESCRIPTION:https://pfarreien-bistum-augsburg.df-preview.de/hl-messe_id1742
 597
DTSTART;TZID=Europe/Berlin:20260423T100000
DURATION:PT30M
LOCATION:St. Michael
END:VEVENT
BEGIN:VEVENT
UID:sabre-vobject-5d5ae24e-78ef-445c-9681-20b33bba8fa9
DTSTAMP:20260421T121914Z
SUMMARY:EK-Probe
DESCRIPTION:https://pfarreien-bistum-augsburg.df-preview.de/ek-probe_id1742
 601
DTSTART;TZID=Europe/Berlin:20260423T180000
DURATION:PT30M
LOCATION:St. Afra\, Dorfstraße 15\, 82447 Spatzenhausen 
END:VEVENT
BEGIN:VEVENT
UID:sabre-vobject-91fa9cce-6595-4e76-89a2-401db492918f
DTSTAMP:20260421T121914Z
SUMMARY:Rosenkranz um Frieden
DESCRIPTION:https://pfarreien-bistum-augsburg.df-preview.de/rosenkranz-um-f
 rieden_id1742571
DTSTART;TZID=Europe/Berlin:20260423T191500
DURATION:PT30M
LOCATION:St. Agatha
END:VEVENT
BEGIN:VEVENT
UID:sabre-vobject-41ffd887-2ec4-4ce7-9f13-6f0e8f10cab7
DTSTAMP:20260421T121914Z
SUMMARY:Hl. Messe (mit den EK Kindern)
DESCRIPTION:https://pfarreien-bistum-augsburg.df-preview.de/hl-messe-mit-de
 n-ek-kindern_id1742602
DTSTART;TZID=Europe/Berlin:20260423T191500
DURATION:PT30M
LOCATION:St. Afra\, Dorfstraße 15\, 82447 Spatzenhausen 
END:VEVENT
BEGIN:VEVENT
UID:sabre-vobject-d3367b30-25f7-40f8-9185-107e8d4c7d8d
DTSTAMP:20260421T121914Z
SUMMARY:stille eucharistische Anbetung (-17:45)
DESCRIPTION:https://pfarreien-bistum-augsburg.df-preview.de/stille-eucharis
 tische-anbetung-17-45_id1742573
DTSTART;TZID=Europe/Berlin:20260424T170000
DURATION:PT30M
LOCATION:St. Agatha
END:VEVENT
BEGIN:VEVENT
UID:sabre-vobject-98f3fe6d-d957-4adc-8c54-a2823b526aec
DTSTAMP:20260421T121914Z
SUMMARY:Hl. Messe  anschließend Eucharistische Anbetung und Nachtanbetung
DESCRIPTION:https://pfarreien-bistum-augsburg.df-preview.de/hl-messe-anschl
 iessend-eucharistische-anbetung-und-nachtanbetung_id1742600
DTSTART;TZID=Europe/Berlin:20260424T191500
DURATION:PT30M
LOCATION:St. Anna
END:VEVENT
END:VCALENDAR
