BEGIN:VCALENDAR
VERSION:2.0
PRODID:-//Sabre//Sabre VObject 4.5.8//EN
CALSCALE:GREGORIAN
NAME:Bistum Augsburg
X-WR-CALNAME:Bistum Augsburg
BEGIN:VEVENT
UID:sabre-vobject-64078a91-614b-4ddd-8d99-96649336106e
DTSTAMP:20260422T020829Z
SUMMARY:Erstkommunionprobe in der Pfarrkirche Aufkirch
DESCRIPTION:https://pfarreien-bistum-augsburg.df-preview.de/erstkommunionpr
 obe-in-der-pfarrkirche-aufkirch_id1692809
DTSTART;TZID=Europe/Berlin:20260425T090000
DURATION:PT30M
LOCATION:St. Peter und Paul\, Weldener Str. 4\, 87662 Kaltental
END:VEVENT
BEGIN:VEVENT
UID:sabre-vobject-98809e8b-9a28-488d-a59c-f8ec54d60199
DTSTAMP:20260422T020829Z
SUMMARY:Erstkommunionprobe in der Pfarrkirche Aufkirch
DESCRIPTION:https://pfarreien-bistum-augsburg.df-preview.de/erstkommunionpr
 obe-in-der-pfarrkirche-aufkirch_id1737140
DTSTART;TZID=Europe/Berlin:20260425T090000
DURATION:PT30M
LOCATION:St. Peter und Paul\, Weldener Str. 4\, 87662 Kaltental
END:VEVENT
BEGIN:VEVENT
UID:sabre-vobject-36c7ec73-6942-457a-afaa-60dcd0aabe68
DTSTAMP:20260422T020829Z
SUMMARY:Familiengottesdienst zur Erstkommunion
DESCRIPTION:https://pfarreien-bistum-augsburg.df-preview.de/familiengottesd
 ienst-zur-erstkommunion_id1692803
DTSTART;TZID=Europe/Berlin:20260426T101500
DURATION:PT30M
LOCATION:St. Peter und Paul\, Weldener Str. 4\, 87662 Kaltental
END:VEVENT
BEGIN:VEVENT
UID:sabre-vobject-f3743b39-4a29-493c-9c32-90804d728ffa
DTSTAMP:20260422T020829Z
SUMMARY:Familiengottesdienst zur Erstkommunion
DESCRIPTION:https://pfarreien-bistum-augsburg.df-preview.de/familiengottesd
 ienst-zur-erstkommunion_id1737135
DTSTART;TZID=Europe/Berlin:20260426T101500
DURATION:PT30M
LOCATION:St. Peter und Paul\, Weldener Str. 4\, 87662 Kaltental
END:VEVENT
BEGIN:VEVENT
UID:sabre-vobject-33c6d8ac-afac-4665-8104-64394307e5b1
DTSTAMP:20260422T020829Z
SUMMARY:Dankandacht -Erstkommunionopfer-
DESCRIPTION:https://pfarreien-bistum-augsburg.df-preview.de/dankandacht-ers
 tkommunionopfer_id1692816
DTSTART;TZID=Europe/Berlin:20260426T170000
DURATION:PT30M
LOCATION:St. Peter und Paul\, Weldener Str. 4\, 87662 Kaltental
END:VEVENT
BEGIN:VEVENT
UID:sabre-vobject-cc872171-21b6-4345-84be-faef35351d31
DTSTAMP:20260422T020829Z
SUMMARY:Dankandacht -Erstkommunionopfer-
DESCRIPTION:https://pfarreien-bistum-augsburg.df-preview.de/dankandacht-ers
 tkommunionopfer_id1737146
DTSTART;TZID=Europe/Berlin:20260426T170000
DURATION:PT30M
LOCATION:St. Peter und Paul\, Weldener Str. 4\, 87662 Kaltental
END:VEVENT
BEGIN:VEVENT
UID:sabre-vobject-daf6cb52-94e4-4c08-932e-4c3e8f06e691
DTSTAMP:20260422T020829Z
SUMMARY:Hl. Messe in Helmishofen
DESCRIPTION:https://pfarreien-bistum-augsburg.df-preview.de/hl-messe-in-hel
 mishofen_id1692817
DTSTART;TZID=Europe/Berlin:20260428T191500
DURATION:PT30M
LOCATION:St. Nikolaus\, Weldener Str. 4\, 87662 Kaltental
END:VEVENT
BEGIN:VEVENT
UID:sabre-vobject-3b2e3f8b-c662-41d4-8fc6-da94d25321e7
DTSTAMP:20260422T020829Z
SUMMARY:Hl. Messe in Helmishofen
DESCRIPTION:https://pfarreien-bistum-augsburg.df-preview.de/hl-messe-in-hel
 mishofen_id1737147
DTSTART;TZID=Europe/Berlin:20260428T191500
DURATION:PT30M
LOCATION:St. Nikolaus\, Weldener Str. 4\, 87662 Kaltental
END:VEVENT
BEGIN:VEVENT
UID:sabre-vobject-d92fec66-8937-4659-a282-36c1835ca4e1
DTSTAMP:20260422T020829Z
SUMMARY:Hl. Messe in Blonhofen
DESCRIPTION:https://pfarreien-bistum-augsburg.df-preview.de/hl-messe-in-blo
 nhofen_id1692818
DTSTART;TZID=Europe/Berlin:20260429T191500
DURATION:PT30M
LOCATION:St. Jakobus und Philippus\, Weldener Str. 4\, 87662 Kaltental
END:VEVENT
BEGIN:VEVENT
UID:sabre-vobject-a435ab90-3b13-4128-a3c7-1b0a1369c6b4
DTSTAMP:20260422T020829Z
SUMMARY:Hl. Messe in Blonhofen
DESCRIPTION:https://pfarreien-bistum-augsburg.df-preview.de/hl-messe-in-blo
 nhofen_id1737148
DTSTART;TZID=Europe/Berlin:20260429T191500
DURATION:PT30M
LOCATION:St. Jakobus und Philippus\, Weldener Str. 4\, 87662 Kaltental
END:VEVENT
BEGIN:VEVENT
UID:sabre-vobject-383c5092-78e2-4035-94c0-e337d580ece6
DTSTAMP:20260422T020829Z
SUMMARY:Erste feierlliche Maiandacht
DESCRIPTION:https://pfarreien-bistum-augsburg.df-preview.de/erste-feierllic
 he-maiandacht_id1692821
DTSTART;TZID=Europe/Berlin:20260430T190000
DURATION:PT30M
LOCATION:St. Peter und Paul\, Weldener Str. 4\, 87662 Kaltental
END:VEVENT
BEGIN:VEVENT
UID:sabre-vobject-2eab5b8d-1fb7-4f6d-b258-49f7f0c58968
DTSTAMP:20260422T020829Z
SUMMARY:Erste feierlliche Maiandacht
DESCRIPTION:https://pfarreien-bistum-augsburg.df-preview.de/erste-feierllic
 he-maiandacht_id1737153
DTSTART;TZID=Europe/Berlin:20260430T190000
DURATION:PT30M
LOCATION:St. Peter und Paul\, Weldener Str. 4\, 87662 Kaltental
END:VEVENT
BEGIN:VEVENT
UID:sabre-vobject-41d4aa86-53af-4f98-a8b9-c8388efbdf09
DTSTAMP:20260422T020829Z
SUMMARY:Hl. Messe zum Patrozinium in Blonhofen
DESCRIPTION:https://pfarreien-bistum-augsburg.df-preview.de/hl-messe-zum-pa
 trozinium-in-blonhofen_id1737069
DTSTART;TZID=Europe/Berlin:20260501T100000
DURATION:PT30M
LOCATION:St. Jakobus und Philippus\, Weldener Str. 4\, 87662 Kaltental
END:VEVENT
BEGIN:VEVENT
UID:sabre-vobject-28b1077c-3cf8-4414-b55f-4d36ade4cab5
DTSTAMP:20260422T020829Z
SUMMARY:Rosenkranz in Aufkirch
DESCRIPTION:https://pfarreien-bistum-augsburg.df-preview.de/rosenkranz-in-a
 ufkirch_id1737070
DTSTART;TZID=Europe/Berlin:20260502T160000
DURATION:PT30M
LOCATION:St. Peter und Paul\, Weldener Str. 4\, 87662 Kaltental
END:VEVENT
BEGIN:VEVENT
UID:sabre-vobject-f7ea64b7-6125-4b93-8052-c07e2adbb157
DTSTAMP:20260422T020829Z
SUMMARY:Vorabendgottesdienst
DESCRIPTION:https://pfarreien-bistum-augsburg.df-preview.de/vorabendgottesd
 ienst_id1737071
DTSTART;TZID=Europe/Berlin:20260502T191500
DURATION:PT30M
LOCATION:St. Peter und Paul\, Weldener Str. 4\, 87662 Kaltental
END:VEVENT
BEGIN:VEVENT
UID:sabre-vobject-844bb4d8-8d05-4621-964e-1e773706bba6
DTSTAMP:20260422T020829Z
SUMMARY:Kindergottesdienst in St. Jakobus u. Philippus Blonhofen
DESCRIPTION:https://pfarreien-bistum-augsburg.df-preview.de/kindergottesdie
 nst-in-st-jakobus-u-philippus-blonhofen_id1737072
DTSTART;TZID=Europe/Berlin:20260503T100000
DURATION:PT30M
LOCATION:St. Jakobus und Philippus\, Weldener Str. 4\, 87662 Kaltental
END:VEVENT
BEGIN:VEVENT
UID:sabre-vobject-19a75f12-606c-47af-ae62-fe6a9f339a9a
DTSTAMP:20260422T020829Z
SUMMARY:Friedensrosenkranz in Blonhofen
DESCRIPTION:https://pfarreien-bistum-augsburg.df-preview.de/friedensrosenkr
 anz-in-blonhofen_id1737073
DTSTART;TZID=Europe/Berlin:20260504T190000
DURATION:PT30M
LOCATION:St. Jakobus und Philippus\, Weldener Str. 4\, 87662 Kaltental
END:VEVENT
BEGIN:VEVENT
UID:sabre-vobject-618b9bbf-b250-4148-b644-26fb949ff0ff
DTSTAMP:20260422T020829Z
SUMMARY:Crescentia-Fußwallfahrt (Landvolk) nach Kaufbeuren
DESCRIPTION:https://pfarreien-bistum-augsburg.df-preview.de/crescentia-fuss
 wallfahrt-landvolk-nach-kaufbeuren_id1737074
DTSTART;TZID=Europe/Berlin:20260505T154000
DURATION:PT30M
LOCATION:St. Peter und Paul\, Weldener Str. 4\, 87662 Kaltental
END:VEVENT
BEGIN:VEVENT
UID:sabre-vobject-2ce0be9e-8fd6-4af7-a5df-d2652a7b1b46
DTSTAMP:20260422T020829Z
SUMMARY:Maiandacht in Blonhofen (Gestaltung PGR)
DESCRIPTION:https://pfarreien-bistum-augsburg.df-preview.de/maiandacht-in-b
 lonhofen-gestaltung-pgr_id1737075
DTSTART;TZID=Europe/Berlin:20260506T191500
DURATION:PT30M
LOCATION:St. Peter und Paul\, Weldener Str. 4\, 87662 Kaltental
END:VEVENT
BEGIN:VEVENT
UID:sabre-vobject-e4b7b078-8366-46bb-954b-abbf119f3002
DTSTAMP:20260422T020829Z
SUMMARY:Maiandacht in der Filialkirche Helmishofen
DESCRIPTION:https://pfarreien-bistum-augsburg.df-preview.de/maiandacht-in-d
 er-filialkirche-helmishofen_id1737090
DTSTART;TZID=Europe/Berlin:20260508T193000
DURATION:PT30M
LOCATION:St. Nikolaus\, Weldener Str. 4\, 87662 Kaltental
END:VEVENT
BEGIN:VEVENT
UID:sabre-vobject-f9da4d94-c347-4e1f-91bf-1e0be3937d5b
DTSTAMP:20260422T020829Z
SUMMARY:Rosenkranz in Aufkirch
DESCRIPTION:https://pfarreien-bistum-augsburg.df-preview.de/rosenkranz-in-a
 ufkirch_id1737091
DTSTART;TZID=Europe/Berlin:20260509T160000
DURATION:PT30M
LOCATION:St. Peter und Paul\, Weldener Str. 4\, 87662 Kaltental
END:VEVENT
BEGIN:VEVENT
UID:sabre-vobject-39fd0d3c-6711-4f7c-985f-f6beb1833ba8
DTSTAMP:20260422T020829Z
SUMMARY:In Erinnerung an das Fest Kreuzauffindung gehen die Blonhofener mit
  dem Kreuz nach Aufkirch -Treffpunkt an der Kirche in Blonhofen um 18.45 U
 hr-
DESCRIPTION:https://pfarreien-bistum-augsburg.df-preview.de/in-erinnerung-a
 n-das-fest-kreuzauffindung-gehen-die-blonhofener-mit-dem-kreuz-nach-aufkir
 ch-treffpunkt-an-der-kirche-in-blonhofen-um-18-45-uhr_id1737092
DTSTART;TZID=Europe/Berlin:20260510T094500
DURATION:PT30M
LOCATION:St. Peter und Paul\, Weldener Str. 4\, 87662 Kaltental
END:VEVENT
BEGIN:VEVENT
UID:sabre-vobject-cdf7241b-3fe1-4fd2-b6e8-07929d703066
DTSTAMP:20260422T020829Z
SUMMARY:Sonntagsgottesdienst
DESCRIPTION:https://pfarreien-bistum-augsburg.df-preview.de/sonntagsgottesd
 ienst_id1737093
DTSTART;TZID=Europe/Berlin:20260510T101500
DURATION:PT30M
LOCATION:St. Peter und Paul\, Weldener Str. 4\, 87662 Kaltental
END:VEVENT
BEGIN:VEVENT
UID:sabre-vobject-2e158ca9-30e1-4ff9-9eb2-887497e38fa1
DTSTAMP:20260422T020829Z
SUMMARY:Bittgang der Pfarrgemeinden Aufkirch\, Osterzell und Frankenhofen z
 ur Kirche nach Frankenhofen (bei schlechtem Wetter\, Bittmesse in Frankenh
 ofen um 19.15 Uhr)
DESCRIPTION:https://pfarreien-bistum-augsburg.df-preview.de/bittgang-der-pf
 arrgemeinden-aufkirch-osterzell-und-frankenhofen-zur-kirche-nach-frankenho
 fen-bei-schlechtem-wetter-bittmesse-in-frankenhofen-um-19-15-uhr_id1737094
DTSTART;TZID=Europe/Berlin:20260512T184500
DURATION:PT30M
LOCATION:St. Peter und Paul\, Weldener Str. 4\, 87662 Kaltental
END:VEVENT
BEGIN:VEVENT
UID:sabre-vobject-23c5d609-9640-4fe9-8c11-08b18ef66782
DTSTAMP:20260422T020829Z
SUMMARY:Hl. Messe in Aufkirch entfällt wegen des Bittgangs!!!!
DESCRIPTION:https://pfarreien-bistum-augsburg.df-preview.de/hl-messe-in-auf
 kirch-entfaellt-wegen-des-bittgangs_id1737095
DTSTART;TZID=Europe/Berlin:20260512T191500
DURATION:PT30M
LOCATION:St. Peter und Paul\, Weldener Str. 4\, 87662 Kaltental
END:VEVENT
BEGIN:VEVENT
UID:sabre-vobject-97a9122f-a4a2-47de-ab78-cd9d077d8b97
DTSTAMP:20260422T020829Z
SUMMARY:Hl. Messe in Blonhofen entfällt!!!
DESCRIPTION:https://pfarreien-bistum-augsburg.df-preview.de/hl-messe-in-blo
 nhofen-entfaellt_id1737193
DTSTART;TZID=Europe/Berlin:20260513T191500
DURATION:PT30M
LOCATION:St. Jakobus und Philippus\, Weldener Str. 4\, 87662 Kaltental
END:VEVENT
BEGIN:VEVENT
UID:sabre-vobject-bf2c3020-3717-4832-bf12-24dc42ff0c23
DTSTAMP:20260422T020829Z
SUMMARY:Feldgottesdienst am Feldkreuz\, Beurer Weg\n-bei schlechtem Wetter\
 , in der Pfarrkirche
DESCRIPTION:https://pfarreien-bistum-augsburg.df-preview.de/feldgottesdiens
 t-am-feldkreuz-beurer-weg-bei-schlechtem-wetter-in-der-pfarrkirche_id17372
 82
DTSTART;TZID=Europe/Berlin:20260514T103000
DURATION:PT30M
LOCATION:St. Peter und Paul\, Weldener Str. 4\, 87662 Kaltental
END:VEVENT
BEGIN:VEVENT
UID:sabre-vobject-589b95c9-fa13-42ba-98b2-0f05aefde4d6
DTSTAMP:20260422T020829Z
SUMMARY:Vorabendgottesdienst mit FFW
DESCRIPTION:https://pfarreien-bistum-augsburg.df-preview.de/vorabendgottesd
 ienst-mit-ffw_id1737291
DTSTART;TZID=Europe/Berlin:20260516T191500
DURATION:PT30M
LOCATION:St. Peter und Paul\, Weldener Str. 4\, 87662 Kaltental
END:VEVENT
BEGIN:VEVENT
UID:sabre-vobject-a13f20e4-9106-4597-ac9d-07b1782b809e
DTSTAMP:20260422T020829Z
SUMMARY:Hl. Messe in Helmishofen
DESCRIPTION:https://pfarreien-bistum-augsburg.df-preview.de/hl-messe-in-hel
 mishofen_id1737292
DTSTART;TZID=Europe/Berlin:20260519T191500
DURATION:PT30M
LOCATION:St. Nikolaus\, Weldener Str. 4\, 87662 Kaltental
END:VEVENT
BEGIN:VEVENT
UID:sabre-vobject-2e2d6975-000a-4c76-af77-53008d3277b5
DTSTAMP:20260422T020829Z
SUMMARY:Trauung - Angela Meichelböck und Stephan Dohle
DESCRIPTION:https://pfarreien-bistum-augsburg.df-preview.de/trauung-angela-
 meichelboeck-und-stephan-dohle_id1737293
DTSTART;TZID=Europe/Berlin:20260523T133000
DURATION:PT30M
LOCATION:St. Peter und Paul\, Weldener Str. 4\, 87662 Kaltental
END:VEVENT
BEGIN:VEVENT
UID:sabre-vobject-8946960c-ec13-4267-9142-ec97f41a4c53
DTSTAMP:20260422T020829Z
SUMMARY:Rosenkranz in Aufkirch
DESCRIPTION:https://pfarreien-bistum-augsburg.df-preview.de/rosenkranz-in-a
 ufkirch_id1737296
DTSTART;TZID=Europe/Berlin:20260523T160000
DURATION:PT30M
LOCATION:St. Peter und Paul\, Weldener Str. 4\, 87662 Kaltental
END:VEVENT
BEGIN:VEVENT
UID:sabre-vobject-3e62b02f-ba6a-48de-8385-81df028a19d3
DTSTAMP:20260422T020829Z
SUMMARY:Festgottesdienst
DESCRIPTION:https://pfarreien-bistum-augsburg.df-preview.de/festgottesdiens
 t_id1737297
DTSTART;TZID=Europe/Berlin:20260524T084500
DURATION:PT30M
LOCATION:St. Peter und Paul\, Weldener Str. 4\, 87662 Kaltental
END:VEVENT
BEGIN:VEVENT
UID:sabre-vobject-4860f78e-04d4-46d7-92c6-53d7746a72be
DTSTAMP:20260422T020829Z
SUMMARY:Gemeindegottesdienst
DESCRIPTION:https://pfarreien-bistum-augsburg.df-preview.de/gemeindegottesd
 ienst_id1737306
DTSTART;TZID=Europe/Berlin:20260525T101500
DURATION:PT30M
LOCATION:St. Peter und Paul\, Weldener Str. 4\, 87662 Kaltental
END:VEVENT
BEGIN:VEVENT
UID:sabre-vobject-b02703c2-846f-469b-973b-75d99cbf1973
DTSTAMP:20260422T020829Z
SUMMARY:Tauffeier -  Fiona Luzia Wörz
DESCRIPTION:https://pfarreien-bistum-augsburg.df-preview.de/tauffeier-fiona
 -luzia-woerz_id1737307
DTSTART;TZID=Europe/Berlin:20260525T113000
DURATION:PT30M
LOCATION:St. Peter und Paul\, Weldener Str. 4\, 87662 Kaltental
END:VEVENT
BEGIN:VEVENT
UID:sabre-vobject-7ada26a3-080e-4bc0-ba92-2695c0034ca9
DTSTAMP:20260422T020829Z
SUMMARY:Hl. Messe in Blonhofen
DESCRIPTION:https://pfarreien-bistum-augsburg.df-preview.de/hl-messe-in-blo
 nhofen_id1737308
DTSTART;TZID=Europe/Berlin:20260527T191500
DURATION:PT30M
LOCATION:St. Jakobus und Philippus\, Weldener Str. 4\, 87662 Kaltental
END:VEVENT
BEGIN:VEVENT
UID:sabre-vobject-2f7f07e0-886f-4d61-891d-00c11d7f15db
DTSTAMP:20260422T020829Z
SUMMARY:Vorabendgottesdienst
DESCRIPTION:https://pfarreien-bistum-augsburg.df-preview.de/vorabendgottesd
 ienst_id1737309
DTSTART;TZID=Europe/Berlin:20260530T191500
DURATION:PT30M
LOCATION:St. Peter und Paul\, Weldener Str. 4\, 87662 Kaltental
END:VEVENT
END:VCALENDAR
