BEGIN:VCALENDAR
VERSION:2.0
PRODID:-//Sabre//Sabre VObject 4.5.8//EN
CALSCALE:GREGORIAN
NAME:Bistum Augsburg
X-WR-CALNAME:Bistum Augsburg
BEGIN:VEVENT
UID:sabre-vobject-a7c04a60-afb2-41fa-ae28-69584d4a8459
DTSTAMP:20260424T111133Z
SUMMARY:Abendmesse
DESCRIPTION:https://pfarreien-bistum-augsburg.df-preview.de/abendmesse_id17
 16094
DTSTART;TZID=Europe/Berlin:20260424T190000
DURATION:PT30M
LOCATION:St. Martin
END:VEVENT
BEGIN:VEVENT
UID:sabre-vobject-c578d581-2c71-4892-8d17-1754e66a24d9
DTSTAMP:20260424T111133Z
SUMMARY:Segnung Maibaum
DESCRIPTION:https://pfarreien-bistum-augsburg.df-preview.de/segnung-maibaum
 _id1715777
DTSTART;TZID=Europe/Berlin:20260502T000000
DURATION:PT30M
LOCATION:St. Martin
END:VEVENT
BEGIN:VEVENT
UID:sabre-vobject-21f39476-fbcb-4f66-bf00-8fb5531c0032
DTSTAMP:20260424T111133Z
SUMMARY:Dankandacht zur Erstkommunion in Dürnhausen
DESCRIPTION:https://pfarreien-bistum-augsburg.df-preview.de/dankandacht-zur
 -erstkommunion-in-duernhausen_id1715778
DTSTART;TZID=Europe/Berlin:20260503T173000
DURATION:PT30M
LOCATION:St. Martin
END:VEVENT
BEGIN:VEVENT
UID:sabre-vobject-8de1aba0-84c0-43e5-a036-eab987334203
DTSTAMP:20260424T111133Z
SUMMARY:Bittgang
DESCRIPTION:https://pfarreien-bistum-augsburg.df-preview.de/bittgang_id1715
 779
DTSTART;TZID=Europe/Berlin:20260513T190000
DURATION:PT30M
LOCATION:St. Martin
END:VEVENT
BEGIN:VEVENT
UID:sabre-vobject-249f5f63-e6bf-4d4d-a784-2920408a4299
DTSTAMP:20260424T111133Z
SUMMARY:Heilige Messe
DESCRIPTION:https://pfarreien-bistum-augsburg.df-preview.de/heilige-messe_i
 d1715780
DTSTART;TZID=Europe/Berlin:20260513T194500
DURATION:PT30M
LOCATION:St. Martin
END:VEVENT
BEGIN:VEVENT
UID:sabre-vobject-9adbf6e7-6cbf-44fb-baab-c4a2186634a2
DTSTAMP:20260424T111133Z
SUMMARY:Pfingstamt
DESCRIPTION:https://pfarreien-bistum-augsburg.df-preview.de/pfingstamt_id17
 15781
DTSTART;TZID=Europe/Berlin:20260525T101500
DURATION:PT30M
LOCATION:St. Martin
END:VEVENT
END:VCALENDAR
