BEGIN:VCALENDAR
VERSION:2.0
PRODID:-//Sabre//Sabre VObject 4.5.8//EN
CALSCALE:GREGORIAN
NAME:Bistum Augsburg
X-WR-CALNAME:Bistum Augsburg
BEGIN:VEVENT
UID:sabre-vobject-f728fd13-0c53-4904-8660-ae73dd07ea9e
DTSTAMP:20260424T184844Z
SUMMARY:Heilige Messe
DESCRIPTION:https://pfarreien-bistum-augsburg.df-preview.de/heilige-messe_i
 d1748759
DTSTART;TZID=Europe/Berlin:20260424T090000
DURATION:PT30M
LOCATION:St. Laurentius
END:VEVENT
BEGIN:VEVENT
UID:sabre-vobject-45f3d766-1559-4e98-9d04-e58533de27be
DTSTAMP:20260424T184844Z
SUMMARY:Festgottesdienst zur Erstkommunion\, musikalisch mitgestaltet vom S
 ingkreis
DESCRIPTION:https://pfarreien-bistum-augsburg.df-preview.de/festgottesdiens
 t-zur-erstkommunion-musikalisch-mitgestaltet-vom-singkreis_id1748783
DTSTART;TZID=Europe/Berlin:20260426T104500
DURATION:PT30M
LOCATION:St. Laurentius
END:VEVENT
BEGIN:VEVENT
UID:sabre-vobject-237f090f-f11f-4b75-800c-b835458d3358
DTSTAMP:20260424T184844Z
SUMMARY:Rosenkranzgebet
DESCRIPTION:https://pfarreien-bistum-augsburg.df-preview.de/rosenkranzgebet
 _id1749056
DTSTART;TZID=Europe/Berlin:20260429T173000
DURATION:PT30M
LOCATION:St. Laurentius
END:VEVENT
BEGIN:VEVENT
UID:sabre-vobject-437ca29a-e126-4dac-a462-08fad4663b0f
DTSTAMP:20260424T184844Z
SUMMARY:Pfarrgemeinderatssitzung im Edith-Stein-Zimmer
DESCRIPTION:https://pfarreien-bistum-augsburg.df-preview.de/pfarrgemeindera
 tssitzung-im-edith-stein-zimmer_id1749102
DTSTART;TZID=Europe/Berlin:20260429T190000
DURATION:PT30M
LOCATION:St. Laurentius
END:VEVENT
BEGIN:VEVENT
UID:sabre-vobject-a044d744-76a4-45c3-8f85-68cb2eff7a54
DTSTAMP:20260424T184844Z
SUMMARY:Vorabendmesse
DESCRIPTION:https://pfarreien-bistum-augsburg.df-preview.de/vorabendmesse_i
 d1749086
DTSTART;TZID=Europe/Berlin:20260502T190000
DURATION:PT30M
LOCATION:St. Laurentius
END:VEVENT
BEGIN:VEVENT
UID:sabre-vobject-902b060b-2c9f-4ae3-81b9-a7a7acd67580
DTSTAMP:20260424T184844Z
SUMMARY:Maiandacht\, gestaltet von der KAB
DESCRIPTION:https://pfarreien-bistum-augsburg.df-preview.de/maiandacht-gest
 altet-von-der-kab_id1749087
DTSTART;TZID=Europe/Berlin:20260503T190000
DURATION:PT30M
LOCATION:St. Laurentius
END:VEVENT
END:VCALENDAR
