BEGIN:VCALENDAR
VERSION:2.0
PRODID:-//Sabre//Sabre VObject 4.5.8//EN
CALSCALE:GREGORIAN
NAME:Bistum Augsburg
X-WR-CALNAME:Bistum Augsburg
BEGIN:VEVENT
UID:sabre-vobject-4c1e96d4-87a5-4f8b-a7b1-eb022f57f50e
DTSTAMP:20260420T135443Z
SUMMARY:Altenh.: Rosenkranz
DESCRIPTION:https://pfarreien-bistum-augsburg.df-preview.de/altenh-rosenkra
 nz_id1721020
DTSTART;TZID=Europe/Berlin:20260420T180000
DURATION:PT30M
LOCATION:St. Anna
END:VEVENT
BEGIN:VEVENT
UID:sabre-vobject-956e6d0b-1590-4685-b4f1-ac135f9f8d6f
DTSTAMP:20260420T135443Z
SUMMARY:Rosenkranz
DESCRIPTION:https://pfarreien-bistum-augsburg.df-preview.de/rosenkranz_id17
 21245
DTSTART;TZID=Europe/Berlin:20260421T083000
DURATION:PT30M
LOCATION:St. Stephan
END:VEVENT
BEGIN:VEVENT
UID:sabre-vobject-c0a70c09-522a-443e-a674-b351f94935c2
DTSTAMP:20260420T135443Z
SUMMARY:Altenh.: Rosenkranz
DESCRIPTION:https://pfarreien-bistum-augsburg.df-preview.de/altenh-rosenkra
 nz_id1721021
DTSTART;TZID=Europe/Berlin:20260421T180000
DURATION:PT30M
LOCATION:St. Anna
END:VEVENT
BEGIN:VEVENT
UID:sabre-vobject-51eb272c-f015-465f-bc57-1cb1aa949f20
DTSTAMP:20260420T135443Z
SUMMARY:Rosenkranz
DESCRIPTION:https://pfarreien-bistum-augsburg.df-preview.de/rosenkranz_id17
 21628
DTSTART;TZID=Europe/Berlin:20260421T183000
DURATION:PT30M
LOCATION:St. Nikolaus
END:VEVENT
BEGIN:VEVENT
UID:sabre-vobject-ac985e87-d335-459a-839f-20cffbfb201a
DTSTAMP:20260420T135443Z
SUMMARY:Heilige Messe
DESCRIPTION:https://pfarreien-bistum-augsburg.df-preview.de/heilige-messe_i
 d1721411
DTSTART;TZID=Europe/Berlin:20260421T190000
DURATION:PT30M
LOCATION:St. Peter und Paul
END:VEVENT
BEGIN:VEVENT
UID:sabre-vobject-dfd225b9-d031-49f2-acdd-16bf37051dd7
DTSTAMP:20260420T135443Z
SUMMARY:Heilige Messe
DESCRIPTION:https://pfarreien-bistum-augsburg.df-preview.de/heilige-messe_i
 d1721629
DTSTART;TZID=Europe/Berlin:20260421T190000
DURATION:PT30M
LOCATION:St. Nikolaus
END:VEVENT
BEGIN:VEVENT
UID:sabre-vobject-9a1e705b-f414-4143-a688-9489bcbe9cab
DTSTAMP:20260420T135443Z
SUMMARY:Altenh.: Wortgottesdienst
DESCRIPTION:https://pfarreien-bistum-augsburg.df-preview.de/altenh-wortgott
 esdienst_id1721022
DTSTART;TZID=Europe/Berlin:20260422T100000
DURATION:PT30M
LOCATION:St. Anna
END:VEVENT
BEGIN:VEVENT
UID:sabre-vobject-a3e01ddc-7368-48f1-b1b3-44e1619880ee
DTSTAMP:20260420T135443Z
SUMMARY:Altenh.: Rosenkranz
DESCRIPTION:https://pfarreien-bistum-augsburg.df-preview.de/altenh-rosenkra
 nz_id1721023
DTSTART;TZID=Europe/Berlin:20260422T180000
DURATION:PT30M
LOCATION:St. Anna
END:VEVENT
BEGIN:VEVENT
UID:sabre-vobject-8629c10e-1338-400a-9c6b-3f2609e6239a
DTSTAMP:20260420T135443Z
SUMMARY:Heilige Messe
DESCRIPTION:https://pfarreien-bistum-augsburg.df-preview.de/heilige-messe_i
 d1720793
DTSTART;TZID=Europe/Berlin:20260422T190000
DURATION:PT30M
LOCATION:St. Felizitas und Söhne\, Kirchstraße 2\, 86424 Anried
END:VEVENT
BEGIN:VEVENT
UID:sabre-vobject-3852d107-6c9c-433f-b608-f5e97916c0f2
DTSTAMP:20260420T135443Z
SUMMARY:Heilige Messe
DESCRIPTION:https://pfarreien-bistum-augsburg.df-preview.de/heilige-messe_i
 d1721624
DTSTART;TZID=Europe/Berlin:20260422T190000
DURATION:PT30M
LOCATION:St. Katharina
END:VEVENT
BEGIN:VEVENT
UID:sabre-vobject-14d87b14-72f7-4bfe-bbbf-378fe28ec64f
DTSTAMP:20260420T135443Z
SUMMARY:St. Anna: Heilige Messe
DESCRIPTION:https://pfarreien-bistum-augsburg.df-preview.de/st-anna-heilige
 -messe_id1721242
DTSTART;TZID=Europe/Berlin:20260423T190000
DURATION:PT30M
LOCATION:St. Anna
END:VEVENT
BEGIN:VEVENT
UID:sabre-vobject-c5f8ce3e-c731-4db0-85db-bd8a48906003
DTSTAMP:20260420T135443Z
SUMMARY:Heilige Messe
DESCRIPTION:https://pfarreien-bistum-augsburg.df-preview.de/heilige-messe_i
 d1721246
DTSTART;TZID=Europe/Berlin:20260423T190000
DURATION:PT30M
LOCATION:St. Stephan
END:VEVENT
BEGIN:VEVENT
UID:sabre-vobject-f8c9f86e-af6d-4015-bdc9-1c4e55d22f43
DTSTAMP:20260420T135443Z
SUMMARY:Altenh.: Heilige Messe
DESCRIPTION:https://pfarreien-bistum-augsburg.df-preview.de/altenh-heilige-
 messe_id1721130
DTSTART;TZID=Europe/Berlin:20260424T100000
DURATION:PT30M
LOCATION:St. Anna
END:VEVENT
BEGIN:VEVENT
UID:sabre-vobject-f85a84c4-249d-4bbd-bcac-16c13414076a
DTSTAMP:20260420T135443Z
SUMMARY:Altenh.: Rosenkranz
DESCRIPTION:https://pfarreien-bistum-augsburg.df-preview.de/altenh-rosenkra
 nz_id1721131
DTSTART;TZID=Europe/Berlin:20260424T180000
DURATION:PT30M
LOCATION:St. Anna
END:VEVENT
BEGIN:VEVENT
UID:sabre-vobject-3c04f83e-5b97-404a-ae2f-273e053dc3b8
DTSTAMP:20260420T135443Z
SUMMARY:Vorabendmesse
DESCRIPTION:https://pfarreien-bistum-augsburg.df-preview.de/vorabendmesse_i
 d1720794
DTSTART;TZID=Europe/Berlin:20260425T190000
DURATION:PT30M
LOCATION:St. Felizitas und Söhne\, Kirchstraße 2\, 86424 Anried
END:VEVENT
BEGIN:VEVENT
UID:sabre-vobject-b3c9f1a1-cf1c-4207-a3ae-44de87ccc990
DTSTAMP:20260420T135443Z
SUMMARY:St. Anna: Vorabendmesse - Gelöbnismesse z. Markusfest auf dem Burg
 berg
DESCRIPTION:https://pfarreien-bistum-augsburg.df-preview.de/st-anna-voraben
 dmesse-geloebnismesse-z-markusfest-auf-dem-burgberg_id1721132
DTSTART;TZID=Europe/Berlin:20260425T190000
DURATION:PT30M
LOCATION:St. Anna
END:VEVENT
BEGIN:VEVENT
UID:sabre-vobject-c3982caa-8c31-4374-8d70-43a9411fe928
DTSTAMP:20260420T135443Z
SUMMARY:Heilige Messe
DESCRIPTION:https://pfarreien-bistum-augsburg.df-preview.de/heilige-messe_i
 d1721412
DTSTART;TZID=Europe/Berlin:20260426T083000
DURATION:PT30M
LOCATION:St. Peter und Paul
END:VEVENT
BEGIN:VEVENT
UID:sabre-vobject-73dca859-4f9e-4270-8b7a-d6e8ad4d9f86
DTSTAMP:20260420T135443Z
SUMMARY:Heilige Messe\, Kollekte für den Maialtar
DESCRIPTION:https://pfarreien-bistum-augsburg.df-preview.de/heilige-messe-k
 ollekte-fuer-den-maialtar_id1721625
DTSTART;TZID=Europe/Berlin:20260426T083000
DURATION:PT30M
LOCATION:St. Katharina
END:VEVENT
BEGIN:VEVENT
UID:sabre-vobject-0a5dff04-d65a-4a30-ad1c-e3970042e8de
DTSTAMP:20260420T135443Z
SUMMARY:St. Simpert: Rosenkranz entfällt
DESCRIPTION:https://pfarreien-bistum-augsburg.df-preview.de/st-simpert-rose
 nkranz-entfaellt_id1721133
DTSTART;TZID=Europe/Berlin:20260426T093000
DURATION:PT30M
LOCATION:St. Anna
END:VEVENT
BEGIN:VEVENT
UID:sabre-vobject-44db314b-cbfc-406c-a3ad-bf525d1a8f93
DTSTAMP:20260420T135443Z
SUMMARY:St. Simpert: Pfarrgottesdienst m. Erstkommunionfeier
DESCRIPTION:https://pfarreien-bistum-augsburg.df-preview.de/st-simpert-pfar
 rgottesdienst-m-erstkommunionfeier_id1721134
DTSTART;TZID=Europe/Berlin:20260426T100000
DURATION:PT30M
LOCATION:St. Anna
END:VEVENT
BEGIN:VEVENT
UID:sabre-vobject-fdadd7cd-73e9-46de-af3e-db4c595f8e40
DTSTAMP:20260420T135443Z
SUMMARY:Heilige Messe m. Erstkommunionfeier
DESCRIPTION:https://pfarreien-bistum-augsburg.df-preview.de/heilige-messe-m
 -erstkommunionfeier_id1721247
DTSTART;TZID=Europe/Berlin:20260426T100000
DURATION:PT30M
LOCATION:St. Stephan
END:VEVENT
BEGIN:VEVENT
UID:sabre-vobject-be0e1de2-e021-4121-96a1-185f63e4f081
DTSTAMP:20260420T135443Z
SUMMARY:Heilige Messe
DESCRIPTION:https://pfarreien-bistum-augsburg.df-preview.de/heilige-messe_i
 d1721630
DTSTART;TZID=Europe/Berlin:20260426T100000
DURATION:PT30M
LOCATION:St. Nikolaus
END:VEVENT
BEGIN:VEVENT
UID:sabre-vobject-5f7a3d60-f0b2-4c18-a0fc-726538b725e0
DTSTAMP:20260420T135443Z
SUMMARY:Rosenkranz
DESCRIPTION:https://pfarreien-bistum-augsburg.df-preview.de/rosenkranz_id17
 21248
DTSTART;TZID=Europe/Berlin:20260426T123000
DURATION:PT30M
LOCATION:St. Stephan
END:VEVENT
BEGIN:VEVENT
UID:sabre-vobject-50ba9e91-84ff-408d-88c3-f8571d6a442a
DTSTAMP:20260420T135443Z
SUMMARY:Altenh.: Rosenkranz
DESCRIPTION:https://pfarreien-bistum-augsburg.df-preview.de/altenh-rosenkra
 nz_id1721135
DTSTART;TZID=Europe/Berlin:20260427T180000
DURATION:PT30M
LOCATION:St. Anna
END:VEVENT
BEGIN:VEVENT
UID:sabre-vobject-b2874c7d-da3f-4ada-a7f9-facf8b07f1a3
DTSTAMP:20260420T135443Z
SUMMARY:Rosenkranz
DESCRIPTION:https://pfarreien-bistum-augsburg.df-preview.de/rosenkranz_id17
 21249
DTSTART;TZID=Europe/Berlin:20260428T083000
DURATION:PT30M
LOCATION:St. Stephan
END:VEVENT
BEGIN:VEVENT
UID:sabre-vobject-4bf4b4b2-1a70-44b6-bcd7-5d297cdbe6c9
DTSTAMP:20260420T135443Z
SUMMARY:Altenh.: Rosenkranz
DESCRIPTION:https://pfarreien-bistum-augsburg.df-preview.de/altenh-rosenkra
 nz_id1721136
DTSTART;TZID=Europe/Berlin:20260428T180000
DURATION:PT30M
LOCATION:St. Anna
END:VEVENT
BEGIN:VEVENT
UID:sabre-vobject-25f898bb-af28-42a9-b565-98667c8e80f8
DTSTAMP:20260420T135443Z
SUMMARY:Rosenkranz
DESCRIPTION:https://pfarreien-bistum-augsburg.df-preview.de/rosenkranz_id17
 21631
DTSTART;TZID=Europe/Berlin:20260428T183000
DURATION:PT30M
LOCATION:St. Nikolaus
END:VEVENT
BEGIN:VEVENT
UID:sabre-vobject-2a300e47-03f9-4cf8-ad7d-97b0f4364f73
DTSTAMP:20260420T135443Z
SUMMARY:Heilige Messe
DESCRIPTION:https://pfarreien-bistum-augsburg.df-preview.de/heilige-messe_i
 d1721413
DTSTART;TZID=Europe/Berlin:20260428T190000
DURATION:PT30M
LOCATION:St. Peter und Paul
END:VEVENT
BEGIN:VEVENT
UID:sabre-vobject-2e527d7a-3ebf-4201-a724-4bb86ed7d919
DTSTAMP:20260420T135443Z
SUMMARY:Heilige Messe
DESCRIPTION:https://pfarreien-bistum-augsburg.df-preview.de/heilige-messe_i
 d1721632
DTSTART;TZID=Europe/Berlin:20260428T190000
DURATION:PT30M
LOCATION:St. Nikolaus
END:VEVENT
BEGIN:VEVENT
UID:sabre-vobject-6275bd0f-e607-42a5-b87b-b7e83c23c08b
DTSTAMP:20260420T135443Z
SUMMARY:Altenh.: Wortgottesdienst
DESCRIPTION:https://pfarreien-bistum-augsburg.df-preview.de/altenh-wortgott
 esdienst_id1721137
DTSTART;TZID=Europe/Berlin:20260429T100000
DURATION:PT30M
LOCATION:St. Anna
END:VEVENT
BEGIN:VEVENT
UID:sabre-vobject-2e741e77-c1de-4f0d-8e78-a27edd9c04e7
DTSTAMP:20260420T135443Z
SUMMARY:Altenh.: Rosenkranz
DESCRIPTION:https://pfarreien-bistum-augsburg.df-preview.de/altenh-rosenkra
 nz_id1721138
DTSTART;TZID=Europe/Berlin:20260429T180000
DURATION:PT30M
LOCATION:St. Anna
END:VEVENT
BEGIN:VEVENT
UID:sabre-vobject-ce381353-1340-4bf2-8260-218ae8173d05
DTSTAMP:20260420T135443Z
SUMMARY:Heilige Messe
DESCRIPTION:https://pfarreien-bistum-augsburg.df-preview.de/heilige-messe_i
 d1720795
DTSTART;TZID=Europe/Berlin:20260429T190000
DURATION:PT30M
LOCATION:St. Felizitas und Söhne\, Kirchstraße 2\, 86424 Anried
END:VEVENT
BEGIN:VEVENT
UID:sabre-vobject-76c0729a-83bc-4b54-b9aa-4ab198c3cbc9
DTSTAMP:20260420T135443Z
SUMMARY:Heilige Messe
DESCRIPTION:https://pfarreien-bistum-augsburg.df-preview.de/heilige-messe_i
 d1721626
DTSTART;TZID=Europe/Berlin:20260429T190000
DURATION:PT30M
LOCATION:St. Katharina
END:VEVENT
BEGIN:VEVENT
UID:sabre-vobject-a15a222a-8dce-44b2-989a-119dc810a499
DTSTAMP:20260420T135443Z
SUMMARY:St. Anna: Heilige Messe entfällt
DESCRIPTION:https://pfarreien-bistum-augsburg.df-preview.de/st-anna-heilige
 -messe-entfaellt_id1721139
DTSTART;TZID=Europe/Berlin:20260430T190000
DURATION:PT30M
LOCATION:St. Anna
END:VEVENT
BEGIN:VEVENT
UID:sabre-vobject-8b167c24-0501-48bd-863f-a98b0eedbc3e
DTSTAMP:20260420T135443Z
SUMMARY:Heilige Messe entfällt
DESCRIPTION:https://pfarreien-bistum-augsburg.df-preview.de/heilige-messe-e
 ntfaellt_id1721250
DTSTART;TZID=Europe/Berlin:20260430T190000
DURATION:PT30M
LOCATION:St. Stephan
END:VEVENT
BEGIN:VEVENT
UID:sabre-vobject-8524752a-7f41-4439-9402-f65162d9ab5a
DTSTAMP:20260420T135443Z
SUMMARY:Wallfahrt nach Violau
DESCRIPTION:https://pfarreien-bistum-augsburg.df-preview.de/wallfahrt-nach-
 violau_id1721414
DTSTART;TZID=Europe/Berlin:20260501T041500
DURATION:PT30M
LOCATION:St. Peter und Paul
END:VEVENT
BEGIN:VEVENT
UID:sabre-vobject-0b122f61-ce72-498c-abf0-385a34b14450
DTSTAMP:20260420T135443Z
SUMMARY:St. Anna: Heilige Messe
DESCRIPTION:https://pfarreien-bistum-augsburg.df-preview.de/st-anna-heilige
 -messe_id1721140
DTSTART;TZID=Europe/Berlin:20260501T100000
DURATION:PT30M
LOCATION:St. Anna
END:VEVENT
BEGIN:VEVENT
UID:sabre-vobject-bc0e0054-0a0e-4aed-9e1a-01af3d748964
DTSTAMP:20260420T135443Z
SUMMARY:Heilige Messe
DESCRIPTION:https://pfarreien-bistum-augsburg.df-preview.de/heilige-messe_i
 d1721251
DTSTART;TZID=Europe/Berlin:20260501T100000
DURATION:PT30M
LOCATION:St. Stephan
END:VEVENT
BEGIN:VEVENT
UID:sabre-vobject-c176fc72-a3e0-4d6e-9a9f-ea38bfa07b06
DTSTAMP:20260420T135443Z
SUMMARY:Innenhof Altenheim: Feierliche erste Maiandacht für die gesamte Pf
 arreiengemeinschaft m. Vorstellung d. Pastoralrats (bei Regen in St. Anna)
DESCRIPTION:https://pfarreien-bistum-augsburg.df-preview.de/innenhof-altenh
 eim-feierliche-erste-maiandacht-fuer-die-gesamte-pfarreiengemeinschaft-m-v
 orstellung-d-pastoralrats-bei-regen-in-st-anna_id1721183
DTSTART;TZID=Europe/Berlin:20260501T180000
DURATION:PT30M
LOCATION:St. Anna
END:VEVENT
BEGIN:VEVENT
UID:sabre-vobject-52a4281b-75a9-4561-95ac-df9cf1670cc9
DTSTAMP:20260420T135443Z
SUMMARY:Oldtimer-Segnung
DESCRIPTION:https://pfarreien-bistum-augsburg.df-preview.de/oldtimer-segnun
 g_id1737743
DTSTART;TZID=Europe/Berlin:20260502T110000
DURATION:PT30M
LOCATION:St. Katharina
END:VEVENT
BEGIN:VEVENT
UID:sabre-vobject-bb100c31-a271-49b7-a63f-6e2fa5c6c48b
DTSTAMP:20260420T135443Z
SUMMARY:Taufe Ava Winter
DESCRIPTION:https://pfarreien-bistum-augsburg.df-preview.de/taufe-ava-winte
 r_id1737744
DTSTART;TZID=Europe/Berlin:20260502T140000
DURATION:PT30M
LOCATION:St. Katharina
END:VEVENT
BEGIN:VEVENT
UID:sabre-vobject-f26563b5-3b68-4c73-8c04-bfbf21d8feb7
DTSTAMP:20260420T135443Z
SUMMARY:St. Anna: Beichtgelegenheit bis 18.45 Uhr
DESCRIPTION:https://pfarreien-bistum-augsburg.df-preview.de/st-anna-beichtg
 elegenheit-bis-18-45-uhr_id1737763
DTSTART;TZID=Europe/Berlin:20260502T183000
DURATION:PT30M
LOCATION:St. Anna
END:VEVENT
BEGIN:VEVENT
UID:sabre-vobject-e86e9dab-cbdf-4a4c-8779-f6bd9fd63e38
DTSTAMP:20260420T135443Z
SUMMARY:Heilige Messe\, musik. gest. vom Landfrauenchor
DESCRIPTION:https://pfarreien-bistum-augsburg.df-preview.de/heilige-messe-m
 usik-gest-vom-landfrauenchor_id1737741
DTSTART;TZID=Europe/Berlin:20260502T190000
DURATION:PT30M
LOCATION:St. Peter und Paul
END:VEVENT
BEGIN:VEVENT
UID:sabre-vobject-10e4faf9-8c30-4f93-b249-fa4d418702e9
DTSTAMP:20260420T135443Z
SUMMARY:Vorabendmesse
DESCRIPTION:https://pfarreien-bistum-augsburg.df-preview.de/vorabendmesse_i
 d1737745
DTSTART;TZID=Europe/Berlin:20260502T190000
DURATION:PT30M
LOCATION:St. Katharina
END:VEVENT
BEGIN:VEVENT
UID:sabre-vobject-3169bb77-0910-4636-8f57-57d982c005dd
DTSTAMP:20260420T135443Z
SUMMARY:St. Anna: Vorabendmesse
DESCRIPTION:https://pfarreien-bistum-augsburg.df-preview.de/st-anna-voraben
 dmesse_id1737764
DTSTART;TZID=Europe/Berlin:20260502T190000
DURATION:PT30M
LOCATION:St. Anna
END:VEVENT
BEGIN:VEVENT
UID:sabre-vobject-76b75c4f-8283-4ab7-bedc-6593ab5385b1
DTSTAMP:20260420T135443Z
SUMMARY:Heilige Messe\, anschl. Konvent-Rosenkranz
DESCRIPTION:https://pfarreien-bistum-augsburg.df-preview.de/heilige-messe-a
 nschl-konvent-rosenkranz_id1737737
DTSTART;TZID=Europe/Berlin:20260503T083000
DURATION:PT30M
LOCATION:St. Nikolaus
END:VEVENT
BEGIN:VEVENT
UID:sabre-vobject-e020eee5-e623-496f-b405-dba6071e5b99
DTSTAMP:20260420T135443Z
SUMMARY:Heilige Messe\, Kollekte für die Pfarrbücherei
DESCRIPTION:https://pfarreien-bistum-augsburg.df-preview.de/heilige-messe-k
 ollekte-fuer-die-pfarrbuecherei_id1737747
DTSTART;TZID=Europe/Berlin:20260503T083000
DURATION:PT30M
LOCATION:St. Stephan
END:VEVENT
BEGIN:VEVENT
UID:sabre-vobject-be09754c-fb6d-49ea-b822-59cf58254f5c
DTSTAMP:20260420T135443Z
SUMMARY:St. Simpert: Konvent-Rosenkranz
DESCRIPTION:https://pfarreien-bistum-augsburg.df-preview.de/st-simpert-konv
 ent-rosenkranz_id1737765
DTSTART;TZID=Europe/Berlin:20260503T093000
DURATION:PT30M
LOCATION:St. Anna
END:VEVENT
BEGIN:VEVENT
UID:sabre-vobject-711d6e20-db14-4ab0-b69a-e3e615acd402
DTSTAMP:20260420T135443Z
SUMMARY:Heilige Messe m. Vorstellung d. neuen Pfarrgemeinderats
DESCRIPTION:https://pfarreien-bistum-augsburg.df-preview.de/heilige-messe-m
 -vorstellung-d-neuen-pfarrgemeinderats_id1737691
DTSTART;TZID=Europe/Berlin:20260503T100000
DURATION:PT30M
LOCATION:St. Felizitas und Söhne\, Kirchstraße 2\, 86424 Anried
END:VEVENT
BEGIN:VEVENT
UID:sabre-vobject-3210ec33-e859-4146-b9ae-c9d7a290b796
DTSTAMP:20260420T135443Z
SUMMARY:St. Simpert: Pfarrgottesdienst
DESCRIPTION:https://pfarreien-bistum-augsburg.df-preview.de/st-simpert-pfar
 rgottesdienst_id1737766
DTSTART;TZID=Europe/Berlin:20260503T100000
DURATION:PT30M
LOCATION:St. Anna
END:VEVENT
BEGIN:VEVENT
UID:sabre-vobject-1cc4046e-e8e7-469f-a55c-94754e406919
DTSTAMP:20260420T135443Z
SUMMARY:Maiandacht
DESCRIPTION:https://pfarreien-bistum-augsburg.df-preview.de/maiandacht_id17
 37738
DTSTART;TZID=Europe/Berlin:20260503T180000
DURATION:PT30M
LOCATION:St. Nikolaus
END:VEVENT
BEGIN:VEVENT
UID:sabre-vobject-9b63f65c-3147-451f-bd6e-d81df95e34de
DTSTAMP:20260420T135443Z
SUMMARY:St. Anna: Kindermaiandacht
DESCRIPTION:https://pfarreien-bistum-augsburg.df-preview.de/st-anna-kinderm
 aiandacht_id1737768
DTSTART;TZID=Europe/Berlin:20260503T180000
DURATION:PT30M
LOCATION:St. Anna
END:VEVENT
BEGIN:VEVENT
UID:sabre-vobject-70a34aef-afed-47ee-b79a-cc6fd12447fe
DTSTAMP:20260420T135443Z
SUMMARY:Maiandacht
DESCRIPTION:https://pfarreien-bistum-augsburg.df-preview.de/maiandacht_id17
 37735
DTSTART;TZID=Europe/Berlin:20260503T190000
DURATION:PT30M
LOCATION:St. Katharina
END:VEVENT
BEGIN:VEVENT
UID:sabre-vobject-7d29f566-c995-48c1-9d2b-6ffa1de43763
DTSTAMP:20260420T135443Z
SUMMARY:Maiandacht
DESCRIPTION:https://pfarreien-bistum-augsburg.df-preview.de/maiandacht_id17
 37742
DTSTART;TZID=Europe/Berlin:20260503T190000
DURATION:PT30M
LOCATION:St. Peter und Paul
END:VEVENT
BEGIN:VEVENT
UID:sabre-vobject-e394bff2-0f93-4f4e-b481-f7a929365ceb
DTSTAMP:20260420T135443Z
SUMMARY:Maiandacht
DESCRIPTION:https://pfarreien-bistum-augsburg.df-preview.de/maiandacht_id17
 37748
DTSTART;TZID=Europe/Berlin:20260503T190000
DURATION:PT30M
LOCATION:St. Stephan
END:VEVENT
BEGIN:VEVENT
UID:sabre-vobject-a16ced39-c259-4686-9b72-9f9b46e89f37
DTSTAMP:20260420T135443Z
SUMMARY:Altenh.: Rosenkranz
DESCRIPTION:https://pfarreien-bistum-augsburg.df-preview.de/altenh-rosenkra
 nz_id1737767
DTSTART;TZID=Europe/Berlin:20260504T180000
DURATION:PT30M
LOCATION:St. Anna
END:VEVENT
BEGIN:VEVENT
UID:sabre-vobject-96435f08-2471-488e-aba2-03d47537e6f0
DTSTAMP:20260420T135443Z
SUMMARY:Rosenkranz
DESCRIPTION:https://pfarreien-bistum-augsburg.df-preview.de/rosenkranz_id17
 37693
DTSTART;TZID=Europe/Berlin:20260505T083000
DURATION:PT30M
LOCATION:St. Stephan
END:VEVENT
BEGIN:VEVENT
UID:sabre-vobject-458ee52d-2a22-4849-b2d2-08981b44e1a0
DTSTAMP:20260420T135443Z
SUMMARY:Altenh.: Rosenkranz
DESCRIPTION:https://pfarreien-bistum-augsburg.df-preview.de/altenh-rosenkra
 nz_id1737769
DTSTART;TZID=Europe/Berlin:20260505T180000
DURATION:PT30M
LOCATION:St. Anna
END:VEVENT
BEGIN:VEVENT
UID:sabre-vobject-a2b21bb8-5e94-485b-b78d-164d2452159a
DTSTAMP:20260420T135443Z
SUMMARY:Rosenkranz
DESCRIPTION:https://pfarreien-bistum-augsburg.df-preview.de/rosenkranz_id17
 37739
DTSTART;TZID=Europe/Berlin:20260505T183000
DURATION:PT30M
LOCATION:St. Nikolaus
END:VEVENT
BEGIN:VEVENT
UID:sabre-vobject-ff0e7588-6c54-4f8b-a72e-9606dd80a1a4
DTSTAMP:20260420T135443Z
SUMMARY:Heilige Messe
DESCRIPTION:https://pfarreien-bistum-augsburg.df-preview.de/heilige-messe_i
 d1737740
DTSTART;TZID=Europe/Berlin:20260505T190000
DURATION:PT30M
LOCATION:St. Nikolaus
END:VEVENT
BEGIN:VEVENT
UID:sabre-vobject-1a081381-15cd-4dea-8236-dd0811116d7d
DTSTAMP:20260420T135443Z
SUMMARY:Heilige Messe
DESCRIPTION:https://pfarreien-bistum-augsburg.df-preview.de/heilige-messe_i
 d1737746
DTSTART;TZID=Europe/Berlin:20260505T190000
DURATION:PT30M
LOCATION:St. Peter und Paul
END:VEVENT
BEGIN:VEVENT
UID:sabre-vobject-e9767e7b-aebc-4522-8424-7bfcc6be7645
DTSTAMP:20260420T135443Z
SUMMARY:Altenh.: Wortgottesdienst
DESCRIPTION:https://pfarreien-bistum-augsburg.df-preview.de/altenh-wortgott
 esdienst_id1737729
DTSTART;TZID=Europe/Berlin:20260506T100000
DURATION:PT30M
LOCATION:St. Anna
END:VEVENT
BEGIN:VEVENT
UID:sabre-vobject-b5b95323-5b30-4abe-ac19-b9c3f895242c
DTSTAMP:20260420T135443Z
SUMMARY:Altenh.: Rosenkranz
DESCRIPTION:https://pfarreien-bistum-augsburg.df-preview.de/altenh-rosenkra
 nz_id1737730
DTSTART;TZID=Europe/Berlin:20260506T180000
DURATION:PT30M
LOCATION:St. Anna
END:VEVENT
BEGIN:VEVENT
UID:sabre-vobject-3b806656-67d4-4141-a32e-36fd7b0d32e5
DTSTAMP:20260420T135443Z
SUMMARY:Heilige Messe
DESCRIPTION:https://pfarreien-bistum-augsburg.df-preview.de/heilige-messe_i
 d1737692
DTSTART;TZID=Europe/Berlin:20260506T190000
DURATION:PT30M
LOCATION:St. Felizitas und Söhne\, Kirchstraße 2\, 86424 Anried
END:VEVENT
BEGIN:VEVENT
UID:sabre-vobject-bd77edb0-43a0-4ff7-bab0-bb00a6f9f3dc
DTSTAMP:20260420T135443Z
SUMMARY:Heilige Messe
DESCRIPTION:https://pfarreien-bistum-augsburg.df-preview.de/heilige-messe_i
 d1737736
DTSTART;TZID=Europe/Berlin:20260506T190000
DURATION:PT30M
LOCATION:St. Katharina
END:VEVENT
BEGIN:VEVENT
UID:sabre-vobject-6fba6640-5d8e-4e1d-b38e-cd751ace7f04
DTSTAMP:20260420T135443Z
SUMMARY:Heilige Messe
DESCRIPTION:https://pfarreien-bistum-augsburg.df-preview.de/heilige-messe_i
 d1737694
DTSTART;TZID=Europe/Berlin:20260507T190000
DURATION:PT30M
LOCATION:St. Stephan
END:VEVENT
BEGIN:VEVENT
UID:sabre-vobject-916dc3f1-d219-4d66-bb51-c01887d75f6f
DTSTAMP:20260420T135443Z
SUMMARY:Altenh.: Heilige Messe
DESCRIPTION:https://pfarreien-bistum-augsburg.df-preview.de/altenh-heilige-
 messe_id1737731
DTSTART;TZID=Europe/Berlin:20260507T190000
DURATION:PT30M
LOCATION:St. Anna
END:VEVENT
BEGIN:VEVENT
UID:sabre-vobject-cc6f15e6-05e9-4f9d-96f2-adf997cad4d8
DTSTAMP:20260420T135443Z
SUMMARY:Altenh.: Anbetung bis 22.00 Uhr
DESCRIPTION:https://pfarreien-bistum-augsburg.df-preview.de/altenh-anbetung
 -bis-22-00-uhr_id1737732
DTSTART;TZID=Europe/Berlin:20260507T193000
DURATION:PT30M
LOCATION:St. Anna
END:VEVENT
BEGIN:VEVENT
UID:sabre-vobject-f74b95f9-17d6-410b-aafa-f680977de11c
DTSTAMP:20260420T135443Z
SUMMARY:Altenh.: Heilige Messe
DESCRIPTION:https://pfarreien-bistum-augsburg.df-preview.de/altenh-heilige-
 messe_id1737733
DTSTART;TZID=Europe/Berlin:20260508T100000
DURATION:PT30M
LOCATION:St. Anna
END:VEVENT
BEGIN:VEVENT
UID:sabre-vobject-5b8971db-e415-4e62-9624-71add62b9b8f
DTSTAMP:20260420T135443Z
SUMMARY:Altenh.: Rosenkranz
DESCRIPTION:https://pfarreien-bistum-augsburg.df-preview.de/altenh-rosenkra
 nz_id1737734
DTSTART;TZID=Europe/Berlin:20260508T180000
DURATION:PT30M
LOCATION:St. Anna
END:VEVENT
END:VCALENDAR
