BEGIN:VCALENDAR
VERSION:2.0
PRODID:-//Sabre//Sabre VObject 4.5.8//EN
CALSCALE:GREGORIAN
NAME:Bistum Augsburg
X-WR-CALNAME:Bistum Augsburg
BEGIN:VEVENT
UID:sabre-vobject-a66dedfa-e15b-46bb-82d5-dfab5a45c68b
DTSTAMP:20260421T162109Z
SUMMARY:Heilige Messe
DESCRIPTION:https://pfarreien-bistum-augsburg.df-preview.de/heilige-messe_i
 d1740810
DTSTART;TZID=Europe/Berlin:20260426T103000
DURATION:PT30M
LOCATION:St. Ulrich\, St.-Ulrich-Straße 4\, 89364 Rettenbach
END:VEVENT
BEGIN:VEVENT
UID:sabre-vobject-e95603df-46de-4779-8dc1-492c183923d0
DTSTAMP:20260421T162109Z
SUMMARY:Hochamt zum Hochfest und Patrozinium
DESCRIPTION:https://pfarreien-bistum-augsburg.df-preview.de/hochamt-zum-hoc
 hfest-und-patrozinium_id1673128
DTSTART;TZID=Europe/Berlin:20260501T090000
DURATION:PT30M
LOCATION:St. Ulrich\, St.-Ulrich-Straße 4\, 89364 Rettenbach
END:VEVENT
BEGIN:VEVENT
UID:sabre-vobject-6a2232a5-6d8b-469d-bc41-1c8a1499ec24
DTSTAMP:20260421T162109Z
SUMMARY:Hochamt zum Hochfest und Patrozinium
DESCRIPTION:https://pfarreien-bistum-augsburg.df-preview.de/hochamt-zum-hoc
 hfest-und-patrozinium_id1740847
DTSTART;TZID=Europe/Berlin:20260501T090000
DURATION:PT30M
LOCATION:St. Ulrich\, St.-Ulrich-Straße 4\, 89364 Rettenbach
END:VEVENT
BEGIN:VEVENT
UID:sabre-vobject-a0472c3c-128d-4b22-9abf-c353c1e405ae
DTSTAMP:20260421T162109Z
SUMMARY:Heilige Messe
DESCRIPTION:https://pfarreien-bistum-augsburg.df-preview.de/heilige-messe_i
 d1673146
DTSTART;TZID=Europe/Berlin:20260503T090000
DURATION:PT30M
LOCATION:St. Ulrich\, St.-Ulrich-Straße 4\, 89364 Rettenbach
END:VEVENT
BEGIN:VEVENT
UID:sabre-vobject-6d8e13eb-5034-4d29-baa9-3722e4262e4e
DTSTAMP:20260421T162109Z
SUMMARY:Heilige Messe
DESCRIPTION:https://pfarreien-bistum-augsburg.df-preview.de/heilige-messe_i
 d1740855
DTSTART;TZID=Europe/Berlin:20260503T090000
DURATION:PT30M
LOCATION:St. Ulrich\, St.-Ulrich-Straße 4\, 89364 Rettenbach
END:VEVENT
BEGIN:VEVENT
UID:sabre-vobject-47430f9d-0f42-4879-9708-a2dfc1e98526
DTSTAMP:20260421T162109Z
SUMMARY:Feierliche Maiandacht
DESCRIPTION:https://pfarreien-bistum-augsburg.df-preview.de/feierliche-maia
 ndacht_id1673143
DTSTART;TZID=Europe/Berlin:20260503T183000
DURATION:PT30M
LOCATION:St. Ulrich\, St.-Ulrich-Straße 4\, 89364 Rettenbach
END:VEVENT
BEGIN:VEVENT
UID:sabre-vobject-3c8bd103-4e5d-4b04-9a20-97d6ef6e3c8e
DTSTAMP:20260421T162109Z
SUMMARY:Feierliche Maiandacht
DESCRIPTION:https://pfarreien-bistum-augsburg.df-preview.de/feierliche-maia
 ndacht_id1740854
DTSTART;TZID=Europe/Berlin:20260503T183000
DURATION:PT30M
LOCATION:St. Ulrich\, St.-Ulrich-Straße 4\, 89364 Rettenbach
END:VEVENT
BEGIN:VEVENT
UID:sabre-vobject-b0e1fbac-0833-4e40-b8bb-8eecdba3d14a
DTSTAMP:20260421T162109Z
SUMMARY:Rosenkranz
DESCRIPTION:https://pfarreien-bistum-augsburg.df-preview.de/rosenkranz_id16
 73097
DTSTART;TZID=Europe/Berlin:20260506T180000
DURATION:PT30M
LOCATION:St. Ulrich\, St.-Ulrich-Straße 4\, 89364 Rettenbach
END:VEVENT
BEGIN:VEVENT
UID:sabre-vobject-477d0a48-aa90-46f6-8b5a-7157b7d0fd51
DTSTAMP:20260421T162109Z
SUMMARY:Heilige Messe
DESCRIPTION:https://pfarreien-bistum-augsburg.df-preview.de/heilige-messe_i
 d1673144
DTSTART;TZID=Europe/Berlin:20260506T183000
DURATION:PT30M
LOCATION:St. Ulrich\, St.-Ulrich-Straße 4\, 89364 Rettenbach
END:VEVENT
BEGIN:VEVENT
UID:sabre-vobject-95c1d9de-f9c2-4704-8199-03d6d951a69f
DTSTAMP:20260421T162109Z
SUMMARY:Heilige Messe
DESCRIPTION:https://pfarreien-bistum-augsburg.df-preview.de/heilige-messe_i
 d1673145
DTSTART;TZID=Europe/Berlin:20260510T090000
DURATION:PT30M
LOCATION:St. Ulrich\, St.-Ulrich-Straße 4\, 89364 Rettenbach
END:VEVENT
BEGIN:VEVENT
UID:sabre-vobject-4eebc874-27bb-40c3-8a1f-42e55666786a
DTSTAMP:20260421T162109Z
SUMMARY:Bittgang nach Harthausen
DESCRIPTION:https://pfarreien-bistum-augsburg.df-preview.de/bittgang-nach-h
 arthausen_id1673098
DTSTART;TZID=Europe/Berlin:20260511T180000
DURATION:PT30M
LOCATION:St. Ulrich\, St.-Ulrich-Straße 4\, 89364 Rettenbach
END:VEVENT
BEGIN:VEVENT
UID:sabre-vobject-4d65336d-7811-4912-b14f-f20eee97038f
DTSTAMP:20260421T162109Z
SUMMARY:Hl. Bittamt in der Alexanderkapelle
DESCRIPTION:https://pfarreien-bistum-augsburg.df-preview.de/hl-bittamt-in-d
 er-alexanderkapelle_id1673099
DTSTART;TZID=Europe/Berlin:20260511T190000
DURATION:PT30M
LOCATION:St. Ulrich\, St.-Ulrich-Straße 4\, 89364 Rettenbach
END:VEVENT
BEGIN:VEVENT
UID:sabre-vobject-e89a4d64-dea4-4ddb-a79b-4e08f8893fa7
DTSTAMP:20260421T162109Z
SUMMARY:Bittgang durch den Ort (Start am Kirchplatz)
DESCRIPTION:https://pfarreien-bistum-augsburg.df-preview.de/bittgang-durch-
 den-ort-start-am-kirchplatz_id1673011
DTSTART;TZID=Europe/Berlin:20260513T180000
DURATION:PT30M
LOCATION:St. Ulrich\, St.-Ulrich-Straße 4\, 89364 Rettenbach
END:VEVENT
BEGIN:VEVENT
UID:sabre-vobject-6cbae035-fc77-41e4-9517-85cb87b6fa67
DTSTAMP:20260421T162109Z
SUMMARY:Vorabendmesse zu Christi Himmelfahrt
DESCRIPTION:https://pfarreien-bistum-augsburg.df-preview.de/vorabendmesse-z
 u-christi-himmelfahrt_id1673012
DTSTART;TZID=Europe/Berlin:20260513T190000
DURATION:PT30M
LOCATION:St. Ulrich\, St.-Ulrich-Straße 4\, 89364 Rettenbach
END:VEVENT
BEGIN:VEVENT
UID:sabre-vobject-e555114d-27b8-4a6a-82eb-f8c21854bfcc
DTSTAMP:20260421T162109Z
SUMMARY:Feierliche Maiandacht
DESCRIPTION:https://pfarreien-bistum-augsburg.df-preview.de/feierliche-maia
 ndacht_id1673013
DTSTART;TZID=Europe/Berlin:20260517T183000
DURATION:PT30M
LOCATION:St. Ulrich\, St.-Ulrich-Straße 4\, 89364 Rettenbach
END:VEVENT
BEGIN:VEVENT
UID:sabre-vobject-f275affd-7feb-4cd4-b873-08ee95332fd6
DTSTAMP:20260421T162109Z
SUMMARY:Trauung Lea-Luisa Prübner und Valtentin Eberhard
DESCRIPTION:https://pfarreien-bistum-augsburg.df-preview.de/trauung-lea-lui
 sa-pruebner-und-valtentin-eberhard_id1673014
DTSTART;TZID=Europe/Berlin:20260523T000000
DURATION:PT30M
LOCATION:St. Ulrich\, St.-Ulrich-Straße 4\, 89364 Rettenbach
END:VEVENT
BEGIN:VEVENT
UID:sabre-vobject-c6909eda-0c15-4cde-a3f3-cfd9aedd9730
DTSTAMP:20260421T162109Z
SUMMARY:Vorabendmesse als Pfingstvigil mit dem Gegenwind-Chor
DESCRIPTION:https://pfarreien-bistum-augsburg.df-preview.de/vorabendmesse-a
 ls-pfingstvigil-mit-dem-gegenwind-chor_id1673015
DTSTART;TZID=Europe/Berlin:20260523T183000
DURATION:PT30M
LOCATION:St. Ulrich\, St.-Ulrich-Straße 4\, 89364 Rettenbach
END:VEVENT
BEGIN:VEVENT
UID:sabre-vobject-ba5d4617-55ff-4546-8494-8d6b2c7e4fe1
DTSTAMP:20260421T162109Z
SUMMARY:Heilige Messe
DESCRIPTION:https://pfarreien-bistum-augsburg.df-preview.de/heilige-messe_i
 d1673016
DTSTART;TZID=Europe/Berlin:20260531T103000
DURATION:PT30M
LOCATION:St. Ulrich\, St.-Ulrich-Straße 4\, 89364 Rettenbach
END:VEVENT
BEGIN:VEVENT
UID:sabre-vobject-9ebd2467-557f-4b4b-92e8-042d938655f7
DTSTAMP:20260421T162109Z
SUMMARY:Hochamt anschl. Fronleichnamsprozession
DESCRIPTION:https://pfarreien-bistum-augsburg.df-preview.de/hochamt-anschl-
 fronleichnamsprozession_id1673018
DTSTART;TZID=Europe/Berlin:20260604T090000
DURATION:PT30M
LOCATION:St. Ulrich\, St.-Ulrich-Straße 4\, 89364 Rettenbach
END:VEVENT
BEGIN:VEVENT
UID:sabre-vobject-c48942c4-9533-466f-a7e4-bb9952eb7e6f
DTSTAMP:20260421T162109Z
SUMMARY:Beichtgelegenheit
DESCRIPTION:https://pfarreien-bistum-augsburg.df-preview.de/beichtgelegenhe
 it_id1673017
DTSTART;TZID=Europe/Berlin:20260606T180000
DURATION:PT30M
LOCATION:St. Ulrich\, St.-Ulrich-Straße 4\, 89364 Rettenbach
END:VEVENT
BEGIN:VEVENT
UID:sabre-vobject-6590963c-fcb5-4987-afe0-2fc9cdf89f73
DTSTAMP:20260421T162109Z
SUMMARY:Vorabendmesse
DESCRIPTION:https://pfarreien-bistum-augsburg.df-preview.de/vorabendmesse_i
 d1673096
DTSTART;TZID=Europe/Berlin:20260606T183000
DURATION:PT30M
LOCATION:St. Ulrich\, St.-Ulrich-Straße 4\, 89364 Rettenbach
END:VEVENT
BEGIN:VEVENT
UID:sabre-vobject-00b27450-be9f-401a-ac2f-ff8a5704acaa
DTSTAMP:20260421T162109Z
SUMMARY:Rosenkranz
DESCRIPTION:https://pfarreien-bistum-augsburg.df-preview.de/rosenkranz_id16
 73055
DTSTART;TZID=Europe/Berlin:20260610T180000
DURATION:PT30M
LOCATION:St. Ulrich\, St.-Ulrich-Straße 4\, 89364 Rettenbach
END:VEVENT
BEGIN:VEVENT
UID:sabre-vobject-323158bb-7ca5-468c-8064-8c54182816f4
DTSTAMP:20260421T162109Z
SUMMARY:Heilige Messe
DESCRIPTION:https://pfarreien-bistum-augsburg.df-preview.de/heilige-messe_i
 d1673058
DTSTART;TZID=Europe/Berlin:20260610T183000
DURATION:PT30M
LOCATION:St. Ulrich\, St.-Ulrich-Straße 4\, 89364 Rettenbach
END:VEVENT
BEGIN:VEVENT
UID:sabre-vobject-ca4ee357-22e5-493a-af23-d55393ad56a4
DTSTAMP:20260421T162109Z
SUMMARY:Heilige Messe
DESCRIPTION:https://pfarreien-bistum-augsburg.df-preview.de/heilige-messe_i
 d1672968
DTSTART;TZID=Europe/Berlin:20260614T103000
DURATION:PT30M
LOCATION:St. Ulrich\, St.-Ulrich-Straße 4\, 89364 Rettenbach
END:VEVENT
BEGIN:VEVENT
UID:sabre-vobject-482c1bf6-5141-42c2-ad6a-b25e944283be
DTSTAMP:20260421T162109Z
SUMMARY:Beichtgelegenheit
DESCRIPTION:https://pfarreien-bistum-augsburg.df-preview.de/beichtgelegenhe
 it_id1672971
DTSTART;TZID=Europe/Berlin:20260620T180000
DURATION:PT30M
LOCATION:St. Ulrich\, St.-Ulrich-Straße 4\, 89364 Rettenbach
END:VEVENT
BEGIN:VEVENT
UID:sabre-vobject-a742acc4-8a8e-42e8-b3d8-adb09b75b3e9
DTSTAMP:20260421T162109Z
SUMMARY:Vorabendmesse
DESCRIPTION:https://pfarreien-bistum-augsburg.df-preview.de/vorabendmesse_i
 d1672973
DTSTART;TZID=Europe/Berlin:20260620T183000
DURATION:PT30M
LOCATION:St. Ulrich\, St.-Ulrich-Straße 4\, 89364 Rettenbach
END:VEVENT
BEGIN:VEVENT
UID:sabre-vobject-ab336f67-1dff-4ab6-bcd3-cb938f09be7c
DTSTAMP:20260421T162109Z
SUMMARY:Rosenkranz
DESCRIPTION:https://pfarreien-bistum-augsburg.df-preview.de/rosenkranz_id16
 72974
DTSTART;TZID=Europe/Berlin:20260624T180000
DURATION:PT30M
LOCATION:St. Ulrich\, St.-Ulrich-Straße 4\, 89364 Rettenbach
END:VEVENT
BEGIN:VEVENT
UID:sabre-vobject-ec2fb198-3f3f-4b97-ba0d-8d397f2c3da8
DTSTAMP:20260421T162109Z
SUMMARY:Hochamt
DESCRIPTION:https://pfarreien-bistum-augsburg.df-preview.de/hochamt_id16729
 75
DTSTART;TZID=Europe/Berlin:20260624T183000
DURATION:PT30M
LOCATION:St. Ulrich\, St.-Ulrich-Straße 4\, 89364 Rettenbach
END:VEVENT
BEGIN:VEVENT
UID:sabre-vobject-993e292f-df0b-41f8-b6f5-6028c0ad808f
DTSTAMP:20260421T162109Z
SUMMARY:Hochamt zum Patrozinium
DESCRIPTION:https://pfarreien-bistum-augsburg.df-preview.de/hochamt-zum-pat
 rozinium_id1673160
DTSTART;TZID=Europe/Berlin:20260705T090000
DURATION:PT30M
LOCATION:St. Ulrich\, St.-Ulrich-Straße 4\, 89364 Rettenbach
END:VEVENT
BEGIN:VEVENT
UID:sabre-vobject-95a2406b-7134-4f85-b93c-10ef5d98c7b1
DTSTAMP:20260421T162109Z
SUMMARY:Rosenkranz
DESCRIPTION:https://pfarreien-bistum-augsburg.df-preview.de/rosenkranz_id16
 73161
DTSTART;TZID=Europe/Berlin:20260708T180000
DURATION:PT30M
LOCATION:St. Ulrich\, St.-Ulrich-Straße 4\, 89364 Rettenbach
END:VEVENT
BEGIN:VEVENT
UID:sabre-vobject-83979d1c-3883-4856-81e1-7bf46461d661
DTSTAMP:20260421T162109Z
SUMMARY:Heilige Messe\n
DESCRIPTION:https://pfarreien-bistum-augsburg.df-preview.de/heilige-messe_i
 d1672972
DTSTART;TZID=Europe/Berlin:20260708T183000
DURATION:PT30M
LOCATION:St. Ulrich\, St.-Ulrich-Straße 4\, 89364 Rettenbach
END:VEVENT
BEGIN:VEVENT
UID:sabre-vobject-5d7339a0-a2ff-4bb8-bb0b-d5cee258c466
DTSTAMP:20260421T162109Z
SUMMARY:Beichtgelegenheit
DESCRIPTION:https://pfarreien-bistum-augsburg.df-preview.de/beichtgelegenhe
 it_id1673162
DTSTART;TZID=Europe/Berlin:20260711T180000
DURATION:PT30M
LOCATION:St. Ulrich\, St.-Ulrich-Straße 4\, 89364 Rettenbach
END:VEVENT
BEGIN:VEVENT
UID:sabre-vobject-3d84ab15-87a9-4dd0-b898-44a9a504e111
DTSTAMP:20260421T162109Z
SUMMARY:Vorabendmesse
DESCRIPTION:https://pfarreien-bistum-augsburg.df-preview.de/vorabendmesse_i
 d1673164
DTSTART;TZID=Europe/Berlin:20260711T183000
DURATION:PT30M
LOCATION:St. Ulrich\, St.-Ulrich-Straße 4\, 89364 Rettenbach
END:VEVENT
BEGIN:VEVENT
UID:sabre-vobject-4fda9c58-d209-4518-ad36-95a033729b2d
DTSTAMP:20260421T162109Z
SUMMARY:Rosenkranz
DESCRIPTION:https://pfarreien-bistum-augsburg.df-preview.de/rosenkranz_id16
 73163
DTSTART;TZID=Europe/Berlin:20260718T180000
DURATION:PT30M
LOCATION:St. Ulrich\, St.-Ulrich-Straße 4\, 89364 Rettenbach
END:VEVENT
BEGIN:VEVENT
UID:sabre-vobject-40adcce2-c568-4c6a-9d50-bf3fb7fb3038
DTSTAMP:20260421T162109Z
SUMMARY:Vorabendmesse
DESCRIPTION:https://pfarreien-bistum-augsburg.df-preview.de/vorabendmesse_i
 d1673101
DTSTART;TZID=Europe/Berlin:20260718T183000
DURATION:PT30M
LOCATION:St. Ulrich\, St.-Ulrich-Straße 4\, 89364 Rettenbach
END:VEVENT
BEGIN:VEVENT
UID:sabre-vobject-ff54577b-eff3-4fd8-995e-b38c8864cbe5
DTSTAMP:20260421T162109Z
SUMMARY:Rosenkranz
DESCRIPTION:https://pfarreien-bistum-augsburg.df-preview.de/rosenkranz_id16
 73102
DTSTART;TZID=Europe/Berlin:20260722T180000
DURATION:PT30M
LOCATION:St. Ulrich\, St.-Ulrich-Straße 4\, 89364 Rettenbach
END:VEVENT
BEGIN:VEVENT
UID:sabre-vobject-1c9cd56b-9e79-44b0-b387-68b3d31aceeb
DTSTAMP:20260421T162109Z
SUMMARY:Heilige Messe
DESCRIPTION:https://pfarreien-bistum-augsburg.df-preview.de/heilige-messe_i
 d1673104
DTSTART;TZID=Europe/Berlin:20260722T183000
DURATION:PT30M
LOCATION:St. Ulrich\, St.-Ulrich-Straße 4\, 89364 Rettenbach
END:VEVENT
BEGIN:VEVENT
UID:sabre-vobject-c82c24f7-e7ae-440e-9f78-6e9db2802639
DTSTAMP:20260421T162109Z
SUMMARY:Heilige Messe
DESCRIPTION:https://pfarreien-bistum-augsburg.df-preview.de/heilige-messe_i
 d1673105
DTSTART;TZID=Europe/Berlin:20260726T090000
DURATION:PT30M
LOCATION:St. Ulrich\, St.-Ulrich-Straße 4\, 89364 Rettenbach
END:VEVENT
BEGIN:VEVENT
UID:sabre-vobject-101cdb73-7a59-4b0c-aef4-b38af3d2bd30
DTSTAMP:20260421T162109Z
SUMMARY:Heilige Messe
DESCRIPTION:https://pfarreien-bistum-augsburg.df-preview.de/heilige-messe_i
 d1673106
DTSTART;TZID=Europe/Berlin:20260802T090000
DURATION:PT30M
LOCATION:St. Ulrich\, St.-Ulrich-Straße 4\, 89364 Rettenbach
END:VEVENT
BEGIN:VEVENT
UID:sabre-vobject-0a5abaff-10f5-4bf2-81a3-b910f8af966a
DTSTAMP:20260421T162109Z
SUMMARY:Heilige Messe\nDIESE MESSE WURDE NUR WEGEN EINER INTENTION EINGEGEB
 EN
DESCRIPTION:https://pfarreien-bistum-augsburg.df-preview.de/heilige-messe-d
 iese-messe-wurde-nur-wegen-einer-intention-eingegeben_id1673129
DTSTART;TZID=Europe/Berlin:20260812T183000
DURATION:PT30M
LOCATION:St. Ulrich\, St.-Ulrich-Straße 4\, 89364 Rettenbach
END:VEVENT
BEGIN:VEVENT
UID:sabre-vobject-ac489609-ee5d-4fb8-bc4e-2f336f06cc1f
DTSTAMP:20260421T162109Z
SUMMARY:Heilige Messe\nDIESE MESSE WURDE NUR WEGEN EINER INTENTION EINGEGEB
 EN
DESCRIPTION:https://pfarreien-bistum-augsburg.df-preview.de/heilige-messe-d
 iese-messe-wurde-nur-wegen-einer-intention-eingegeben_id1673130
DTSTART;TZID=Europe/Berlin:20260909T183000
DURATION:PT30M
LOCATION:St. Ulrich\, St.-Ulrich-Straße 4\, 89364 Rettenbach
END:VEVENT
BEGIN:VEVENT
UID:sabre-vobject-f40ab288-86f5-4a95-8aa7-4ff974e4d209
DTSTAMP:20260421T162109Z
SUMMARY:Heilige Messe\nDIESE MESSE WURDE NUR WEGEN EINER INTENTION EINGEGEB
 EN
DESCRIPTION:https://pfarreien-bistum-augsburg.df-preview.de/heilige-messe-d
 iese-messe-wurde-nur-wegen-einer-intention-eingegeben_id1673131
DTSTART;TZID=Europe/Berlin:20260916T183000
DURATION:PT30M
LOCATION:St. Ulrich\, St.-Ulrich-Straße 4\, 89364 Rettenbach
END:VEVENT
BEGIN:VEVENT
UID:sabre-vobject-c148a60e-f197-4236-b455-0c3e49b2f7cd
DTSTAMP:20260421T162109Z
SUMMARY:Trauung Ann-Sophie Haltmayer und Michael Herrmann
DESCRIPTION:https://pfarreien-bistum-augsburg.df-preview.de/trauung-ann-sop
 hie-haltmayer-und-michael-herrmann_id1673132
DTSTART;TZID=Europe/Berlin:20260926T000000
DURATION:PT30M
LOCATION:St. Ulrich\, St.-Ulrich-Straße 4\, 89364 Rettenbach
END:VEVENT
BEGIN:VEVENT
UID:sabre-vobject-e30aa62b-7b9c-4465-bc7c-c9d020eadc9d
DTSTAMP:20260421T162109Z
SUMMARY:Heilige Messe\nDIESER TERMIN WURDE NUR WEGEN EINER INTENTION EINGEG
 EBEN
DESCRIPTION:https://pfarreien-bistum-augsburg.df-preview.de/heilige-messe-d
 ieser-termin-wurde-nur-wegen-einer-intention-eingegeben_id1673147
DTSTART;TZID=Europe/Berlin:20260927T090000
DURATION:PT30M
LOCATION:St. Ulrich\, St.-Ulrich-Straße 4\, 89364 Rettenbach
END:VEVENT
BEGIN:VEVENT
UID:sabre-vobject-b2c31498-d9f0-4aba-b84e-6d91def516ba
DTSTAMP:20260421T162109Z
SUMMARY:Heilige Messe\nDIESE MESSE WURDE NUR WEGEN EINER INTENTION EINGEGEB
 EN
DESCRIPTION:https://pfarreien-bistum-augsburg.df-preview.de/heilige-messe-d
 iese-messe-wurde-nur-wegen-einer-intention-eingegeben_id1673148
DTSTART;TZID=Europe/Berlin:20261021T183000
DURATION:PT30M
LOCATION:St. Ulrich\, St.-Ulrich-Straße 4\, 89364 Rettenbach
END:VEVENT
BEGIN:VEVENT
UID:sabre-vobject-6dbc3485-7b9b-42fb-9e92-043ca04e5b7f
DTSTAMP:20260421T162109Z
SUMMARY:Heilige Messe\nDIESE MESSE WURDE NUR WEGEN EINER INTENTION EINGEGEB
 EN
DESCRIPTION:https://pfarreien-bistum-augsburg.df-preview.de/heilige-messe-d
 iese-messe-wurde-nur-wegen-einer-intention-eingegeben_id1673149
DTSTART;TZID=Europe/Berlin:20261125T183000
DURATION:PT30M
LOCATION:St. Ulrich\, St.-Ulrich-Straße 4\, 89364 Rettenbach
END:VEVENT
BEGIN:VEVENT
UID:sabre-vobject-80dfea95-91e5-4789-bb7c-690398efe67d
DTSTAMP:20260421T162109Z
SUMMARY:Heilige Messe\nDIESE MESSE WURDE NUR WEGEN EINER INTENTION EINGEGEB
 EN
DESCRIPTION:https://pfarreien-bistum-augsburg.df-preview.de/heilige-messe-d
 iese-messe-wurde-nur-wegen-einer-intention-eingegeben_id1673182
DTSTART;TZID=Europe/Berlin:20261216T183000
DURATION:PT30M
LOCATION:St. Ulrich\, St.-Ulrich-Straße 4\, 89364 Rettenbach
END:VEVENT
BEGIN:VEVENT
UID:sabre-vobject-86af664d-43f7-4492-ac97-ceb2f075fe59
DTSTAMP:20260421T162109Z
SUMMARY:Heilige Messe\nDIESER TERMIN WURDE NUR WEGEN EINER INTENTION EINGEG
 EBEN
DESCRIPTION:https://pfarreien-bistum-augsburg.df-preview.de/heilige-messe-d
 ieser-termin-wurde-nur-wegen-einer-intention-eingegeben_id1673183
DTSTART;TZID=Europe/Berlin:20261220T090000
DURATION:PT30M
LOCATION:St. Ulrich\, St.-Ulrich-Straße 4\, 89364 Rettenbach
END:VEVENT
BEGIN:VEVENT
UID:sabre-vobject-c9f5647d-15ea-4344-b838-40ef0ef14a56
DTSTAMP:20260421T162109Z
SUMMARY:Adventskonzert des Gesangsvereins
DESCRIPTION:https://pfarreien-bistum-augsburg.df-preview.de/adventskonzert-
 des-gesangsvereins_id1673184
DTSTART;TZID=Europe/Berlin:20261220T160000
DURATION:PT30M
LOCATION:St. Ulrich\, St.-Ulrich-Straße 4\, 89364 Rettenbach
END:VEVENT
BEGIN:VEVENT
UID:sabre-vobject-37799982-ad8e-467d-baaa-0bed5f84dfca
DTSTAMP:20260421T162109Z
SUMMARY:Christmette
DESCRIPTION:https://pfarreien-bistum-augsburg.df-preview.de/christmette_id1
 673185
DTSTART;TZID=Europe/Berlin:20261224T210000
DURATION:PT30M
LOCATION:St. Ulrich\, St.-Ulrich-Straße 4\, 89364 Rettenbach
END:VEVENT
END:VCALENDAR
