BEGIN:VCALENDAR
VERSION:2.0
PRODID:-//Sabre//Sabre VObject 4.5.8//EN
CALSCALE:GREGORIAN
NAME:Bistum Augsburg
X-WR-CALNAME:Bistum Augsburg
BEGIN:VEVENT
UID:sabre-vobject-4698e1c8-e5dc-48be-b9f3-b95398033000
DTSTAMP:20260422T084315Z
SUMMARY:Frühmesse
DESCRIPTION:https://pfarreien-bistum-augsburg.df-preview.de/fruehmesse_id16
 97878
DTSTART;TZID=Europe/Berlin:20260422T080000
DURATION:PT30M
LOCATION:St. Blasius
END:VEVENT
BEGIN:VEVENT
UID:sabre-vobject-786bcaee-efdc-4b94-a913-e5f3918cb79b
DTSTAMP:20260422T084315Z
SUMMARY:Frühmesse
DESCRIPTION:https://pfarreien-bistum-augsburg.df-preview.de/fruehmesse_id17
 52748
DTSTART;TZID=Europe/Berlin:20260422T080000
DURATION:PT30M
LOCATION:St. Blasius
END:VEVENT
BEGIN:VEVENT
UID:sabre-vobject-36e3608e-db49-4bf0-9074-9a479d88045a
DTSTAMP:20260422T084315Z
SUMMARY:Beichte der Erstkommunionkinder\n15.00 Uhr Gruppe 1 (Bayer)\n15.20 
 Uhr Gruppe 2 (Egner/Schiebl)\n15.40 Uhr Gruppe 3 (Haug/Marberger)\n16.00 U
 hr Gruppe 4 (Reiche/Wiedenmann)\n16.20 Uhr Gruppe 5 (S
DESCRIPTION:https://pfarreien-bistum-augsburg.df-preview.de/beichte-der-ers
 tkommunionkinder-15-00-uhr-gruppe-1-bayer-15-20-uhr-gruppe-2-egner-schiebl
 -15-40-uhr-gruppe-3-haug-marberger-16-00-uhr-gruppe-4-reiche-wiedenmann-16
 -20-uhr-gruppe-5-s_id1697879
DTSTART;TZID=Europe/Berlin:20260422T150000
DURATION:PT30M
LOCATION:St. Blasius
END:VEVENT
BEGIN:VEVENT
UID:sabre-vobject-f2c7d6e3-d96c-45bf-96ff-010c0f24d800
DTSTAMP:20260422T084315Z
SUMMARY:Beichte der Erstkommunionkinder\n15.00 Uhr Gruppe 1 (Bayer)\n15.20 
 Uhr Gruppe 2 (Egner/Schiebl)\n15.40 Uhr Gruppe 3 (Haug/Marberger)\n16.00 U
 hr Gruppe 4 (Reiche/Wiedenmann)\n16.20 Uhr Gruppe 5 (S
DESCRIPTION:https://pfarreien-bistum-augsburg.df-preview.de/beichte-der-ers
 tkommunionkinder-15-00-uhr-gruppe-1-bayer-15-20-uhr-gruppe-2-egner-schiebl
 -15-40-uhr-gruppe-3-haug-marberger-16-00-uhr-gruppe-4-reiche-wiedenmann-16
 -20-uhr-gruppe-5-s_id1752762
DTSTART;TZID=Europe/Berlin:20260422T150000
DURATION:PT30M
LOCATION:St. Blasius
END:VEVENT
BEGIN:VEVENT
UID:sabre-vobject-a1bd9a61-1fb0-4a26-9eb3-f3fc43297a7b
DTSTAMP:20260422T084315Z
SUMMARY:Hl. Messe anschl. Aussetzung des Allerheiligsten u. sakramentaler S
 egen
DESCRIPTION:https://pfarreien-bistum-augsburg.df-preview.de/hl-messe-anschl
 -aussetzung-des-allerheiligsten-u-sakramentaler-segen_id1697952
DTSTART;TZID=Europe/Berlin:20260423T183000
DURATION:PT30M
LOCATION:St. Blasius
END:VEVENT
BEGIN:VEVENT
UID:sabre-vobject-bb461db4-7f60-4f09-84e3-ead7315f6712
DTSTAMP:20260422T084315Z
SUMMARY:Hl. Messe anschl. Aussetzung des Allerheiligsten u. sakramentaler S
 egen
DESCRIPTION:https://pfarreien-bistum-augsburg.df-preview.de/hl-messe-anschl
 -aussetzung-des-allerheiligsten-u-sakramentaler-segen_id1752895
DTSTART;TZID=Europe/Berlin:20260423T183000
DURATION:PT30M
LOCATION:St. Blasius
END:VEVENT
BEGIN:VEVENT
UID:sabre-vobject-b9ea1b4c-98aa-4015-bb8c-e2d7fb23004e
DTSTAMP:20260422T084315Z
SUMMARY:2. Probe der Erstkommunionkinder für den Erstkommuniongottesdienst
  und die Dankandacht\, Bitte Kerze mit Loch mitnehmen.
DESCRIPTION:https://pfarreien-bistum-augsburg.df-preview.de/2-probe-der-ers
 tkommunionkinder-fuer-den-erstkommuniongottesdienst-und-die-dankandacht-bi
 tte-kerze-mit-loch-mitnehmen_id1697953
DTSTART;TZID=Europe/Berlin:20260424T150000
DURATION:PT30M
LOCATION:St. Blasius
END:VEVENT
BEGIN:VEVENT
UID:sabre-vobject-2772f2f1-5b93-44f2-aec4-38170695fe87
DTSTAMP:20260422T084315Z
SUMMARY:2. Probe der Erstkommunionkinder für den Erstkommuniongottesdienst
  und die Dankandacht\, Bitte Kerze mit Loch mitnehmen.
DESCRIPTION:https://pfarreien-bistum-augsburg.df-preview.de/2-probe-der-ers
 tkommunionkinder-fuer-den-erstkommuniongottesdienst-und-die-dankandacht-bi
 tte-kerze-mit-loch-mitnehmen_id1752896
DTSTART;TZID=Europe/Berlin:20260424T150000
DURATION:PT30M
LOCATION:St. Blasius
END:VEVENT
BEGIN:VEVENT
UID:sabre-vobject-b1a35bdd-cba9-4571-85f4-27f86018feba
DTSTAMP:20260422T084315Z
SUMMARY:schmerzhafter Rosenkranz
DESCRIPTION:https://pfarreien-bistum-augsburg.df-preview.de/schmerzhafter-r
 osenkranz_id1697954
DTSTART;TZID=Europe/Berlin:20260424T180000
DURATION:PT30M
LOCATION:St. Blasius
END:VEVENT
BEGIN:VEVENT
UID:sabre-vobject-7470025a-019e-4fd1-bc71-c60da7556ebd
DTSTAMP:20260422T084315Z
SUMMARY:schmerzhafter Rosenkranz
DESCRIPTION:https://pfarreien-bistum-augsburg.df-preview.de/schmerzhafter-r
 osenkranz_id1752897
DTSTART;TZID=Europe/Berlin:20260424T180000
DURATION:PT30M
LOCATION:St. Blasius
END:VEVENT
BEGIN:VEVENT
UID:sabre-vobject-646b8fca-65ba-4c15-8ca8-1be15d39569b
DTSTAMP:20260422T084315Z
SUMMARY:lat. hl. Messe (außerord. Form)
DESCRIPTION:https://pfarreien-bistum-augsburg.df-preview.de/lat-hl-messe-au
 sserord-form_id1697955
DTSTART;TZID=Europe/Berlin:20260424T183000
DURATION:PT30M
LOCATION:St. Blasius
END:VEVENT
BEGIN:VEVENT
UID:sabre-vobject-7d70529d-1578-4fca-b58a-6de54d1f9111
DTSTAMP:20260422T084315Z
SUMMARY:lat. hl. Messe (außerord. Form)
DESCRIPTION:https://pfarreien-bistum-augsburg.df-preview.de/lat-hl-messe-au
 sserord-form_id1752898
DTSTART;TZID=Europe/Berlin:20260424T183000
DURATION:PT30M
LOCATION:St. Blasius
END:VEVENT
BEGIN:VEVENT
UID:sabre-vobject-121d31d6-a38f-4680-852b-a9c0e31a4c4f
DTSTAMP:20260422T084315Z
SUMMARY:Rosenkranz mit Beichtgelegenheit
DESCRIPTION:https://pfarreien-bistum-augsburg.df-preview.de/rosenkranz-mit-
 beichtgelegenheit_id1697956
DTSTART;TZID=Europe/Berlin:20260425T180000
DURATION:PT30M
LOCATION:St. Blasius
END:VEVENT
BEGIN:VEVENT
UID:sabre-vobject-87806456-555e-4fac-80c8-66c621d68050
DTSTAMP:20260422T084315Z
SUMMARY:Rosenkranz mit Beichtgelegenheit
DESCRIPTION:https://pfarreien-bistum-augsburg.df-preview.de/rosenkranz-mit-
 beichtgelegenheit_id1752899
DTSTART;TZID=Europe/Berlin:20260425T180000
DURATION:PT30M
LOCATION:St. Blasius
END:VEVENT
BEGIN:VEVENT
UID:sabre-vobject-8a597d3a-7c5b-4c30-94f1-01cdab78a274
DTSTAMP:20260422T084315Z
SUMMARY:Vorabendmesse
DESCRIPTION:https://pfarreien-bistum-augsburg.df-preview.de/vorabendmesse_i
 d1697957
DTSTART;TZID=Europe/Berlin:20260425T183000
DURATION:PT30M
LOCATION:St. Blasius
END:VEVENT
BEGIN:VEVENT
UID:sabre-vobject-32fc99c5-b9b5-484f-9735-72b93196621d
DTSTAMP:20260422T084315Z
SUMMARY:Vorabendmesse
DESCRIPTION:https://pfarreien-bistum-augsburg.df-preview.de/vorabendmesse_i
 d1752900
DTSTART;TZID=Europe/Berlin:20260425T183000
DURATION:PT30M
LOCATION:St. Blasius
END:VEVENT
BEGIN:VEVENT
UID:sabre-vobject-9ded335a-9867-4e76-aa88-83100bfb46df
DTSTAMP:20260422T084315Z
SUMMARY:Pfarrgottesdienst mit Feierlicher Erstkommunion Für die Lebenden u
 nd Verstorbenen der Pfarrei\n
DESCRIPTION:https://pfarreien-bistum-augsburg.df-preview.de/pfarrgottesdien
 st-mit-feierlicher-erstkommunion-fuer-die-lebenden-und-verstorbenen-der-pf
 arrei_id1697958
DTSTART;TZID=Europe/Berlin:20260426T093000
DURATION:PT30M
LOCATION:St. Blasius
END:VEVENT
BEGIN:VEVENT
UID:sabre-vobject-9e39bc73-8e6b-4645-859b-b277447a9984
DTSTAMP:20260422T084315Z
SUMMARY:Pfarrgottesdienst mit Feierlicher Erstkommunion Für die Lebenden u
 nd Verstorbenen der Pfarrei\n
DESCRIPTION:https://pfarreien-bistum-augsburg.df-preview.de/pfarrgottesdien
 st-mit-feierlicher-erstkommunion-fuer-die-lebenden-und-verstorbenen-der-pf
 arrei_id1752901
DTSTART;TZID=Europe/Berlin:20260426T093000
DURATION:PT30M
LOCATION:St. Blasius
END:VEVENT
BEGIN:VEVENT
UID:sabre-vobject-742f0d02-6a3b-4cac-962c-693dae991320
DTSTAMP:20260422T084315Z
SUMMARY:Dankandacht der Erstkommunionkinder mit Eltern und Paten 14.45 Uhr 
 Treffpunkt an der Nordseite der Kirche\n(mit Abgabe des Diaspora-Kinderopf
 ers)
DESCRIPTION:https://pfarreien-bistum-augsburg.df-preview.de/dankandacht-der
 -erstkommunionkinder-mit-eltern-und-paten-14-45-uhr-treffpunkt-an-der-nord
 seite-der-kirche-mit-abgabe-des-diaspora-kinderopfers_id1697959
DTSTART;TZID=Europe/Berlin:20260426T150000
DURATION:PT30M
LOCATION:St. Blasius
END:VEVENT
BEGIN:VEVENT
UID:sabre-vobject-6b1d9cc0-dc6e-4706-9c17-e5a2bc1c0d28
DTSTAMP:20260422T084315Z
SUMMARY:Dankandacht der Erstkommunionkinder mit Eltern und Paten 14.45 Uhr 
 Treffpunkt an der Nordseite der Kirche\n(mit Abgabe des Diaspora-Kinderopf
 ers)
DESCRIPTION:https://pfarreien-bistum-augsburg.df-preview.de/dankandacht-der
 -erstkommunionkinder-mit-eltern-und-paten-14-45-uhr-treffpunkt-an-der-nord
 seite-der-kirche-mit-abgabe-des-diaspora-kinderopfers_id1752902
DTSTART;TZID=Europe/Berlin:20260426T150000
DURATION:PT30M
LOCATION:St. Blasius
END:VEVENT
BEGIN:VEVENT
UID:sabre-vobject-a0d25c1a-912a-458a-a7f2-79699532d6e4
DTSTAMP:20260422T084315Z
SUMMARY:Ausflug der Erstkommunionkinder mit Eltern zum Bauerngerätemuseum 
 in Echendorf
DESCRIPTION:https://pfarreien-bistum-augsburg.df-preview.de/ausflug-der-ers
 tkommunionkinder-mit-eltern-zum-bauerngeraetemuseum-in-echendorf_id1752410
DTSTART;TZID=Europe/Berlin:20260428T080000
DURATION:PT30M
LOCATION:St. Blasius
END:VEVENT
BEGIN:VEVENT
UID:sabre-vobject-13f22fd7-70ef-429c-8dd9-d63a3a2a5ec0
DTSTAMP:20260422T084315Z
SUMMARY:Frühmesse
DESCRIPTION:https://pfarreien-bistum-augsburg.df-preview.de/fruehmesse_id17
 52412
DTSTART;TZID=Europe/Berlin:20260429T080000
DURATION:PT30M
LOCATION:St. Blasius
END:VEVENT
BEGIN:VEVENT
UID:sabre-vobject-8442d512-bcf1-4459-8908-facc08253b2d
DTSTAMP:20260422T084315Z
SUMMARY:Lichtreicher Rosenkranz
DESCRIPTION:https://pfarreien-bistum-augsburg.df-preview.de/lichtreicher-ro
 senkranz_id1752414
DTSTART;TZID=Europe/Berlin:20260430T180000
DURATION:PT30M
LOCATION:St. Blasius
END:VEVENT
BEGIN:VEVENT
UID:sabre-vobject-693628ee-c015-4364-af65-d1dc736b50e9
DTSTAMP:20260422T084315Z
SUMMARY:Hl. Messe  zum Priesterdonnerstag anschl. Aussetzung des Allerheili
 gsten u. sakramentaler Segen
DESCRIPTION:https://pfarreien-bistum-augsburg.df-preview.de/hl-messe-zum-pr
 iesterdonnerstag-anschl-aussetzung-des-allerheiligsten-u-sakramentaler-seg
 en_id1752533
DTSTART;TZID=Europe/Berlin:20260430T183000
DURATION:PT30M
LOCATION:St. Blasius
END:VEVENT
BEGIN:VEVENT
UID:sabre-vobject-b668da41-8425-478d-bb62-04adbd1ebf58
DTSTAMP:20260422T084315Z
SUMMARY:Rosenkranz
DESCRIPTION:https://pfarreien-bistum-augsburg.df-preview.de/rosenkranz_id17
 52535
DTSTART;TZID=Europe/Berlin:20260501T180000
DURATION:PT30M
LOCATION:St. Blasius
END:VEVENT
BEGIN:VEVENT
UID:sabre-vobject-f88094c9-cd12-4363-b47c-e529cb44ba27
DTSTAMP:20260422T084315Z
SUMMARY:Hl. Messe mit erster feierlicher Maiandacht\, mit Erstkommunionkind
 er
DESCRIPTION:https://pfarreien-bistum-augsburg.df-preview.de/hl-messe-mit-er
 ster-feierlicher-maiandacht-mit-erstkommunionkinder_id1752536
DTSTART;TZID=Europe/Berlin:20260501T183000
DURATION:PT30M
LOCATION:St. Blasius
END:VEVENT
BEGIN:VEVENT
UID:sabre-vobject-4ab64a84-5011-4a71-a536-3f55d03823f0
DTSTAMP:20260422T084315Z
SUMMARY:Rosenkranz mit Beichtgelegenheit
DESCRIPTION:https://pfarreien-bistum-augsburg.df-preview.de/rosenkranz-mit-
 beichtgelegenheit_id1752537
DTSTART;TZID=Europe/Berlin:20260502T180000
DURATION:PT30M
LOCATION:St. Blasius
END:VEVENT
BEGIN:VEVENT
UID:sabre-vobject-ee1af423-3368-40c3-808f-5836009462a6
DTSTAMP:20260422T084315Z
SUMMARY:Vorabendmesse
DESCRIPTION:https://pfarreien-bistum-augsburg.df-preview.de/vorabendmesse_i
 d1752538
DTSTART;TZID=Europe/Berlin:20260502T183000
DURATION:PT30M
LOCATION:St. Blasius
END:VEVENT
BEGIN:VEVENT
UID:sabre-vobject-a5f882bd-d679-4353-a162-a8d8ed83cb11
DTSTAMP:20260422T084315Z
SUMMARY:Pfarrgottesdienst \nFür die Lebenden und Verstorbenen der Pfarrei
DESCRIPTION:https://pfarreien-bistum-augsburg.df-preview.de/pfarrgottesdien
 st-fuer-die-lebenden-und-verstorbenen-der-pfarrei_id1752539
DTSTART;TZID=Europe/Berlin:20260503T093000
DURATION:PT30M
LOCATION:St. Blasius
END:VEVENT
BEGIN:VEVENT
UID:sabre-vobject-1d65ecb6-63d1-47ef-8276-ffea01cb751e
DTSTAMP:20260422T084315Z
SUMMARY:Taufe  Noah und Cecilia Albrecht
DESCRIPTION:https://pfarreien-bistum-augsburg.df-preview.de/taufe-noah-und-
 cecilia-albrecht_id1752540
DTSTART;TZID=Europe/Berlin:20260503T103000
DURATION:PT30M
LOCATION:St. Blasius
END:VEVENT
BEGIN:VEVENT
UID:sabre-vobject-74f415b6-ba6f-490e-8d0c-740d931f7666
DTSTAMP:20260422T084315Z
SUMMARY:Maiandacht
DESCRIPTION:https://pfarreien-bistum-augsburg.df-preview.de/maiandacht_id17
 52541
DTSTART;TZID=Europe/Berlin:20260503T190000
DURATION:PT30M
LOCATION:St. Blasius
END:VEVENT
BEGIN:VEVENT
UID:sabre-vobject-9f6ff805-8b66-4c6e-8921-94636de4b015
DTSTAMP:20260422T084315Z
SUMMARY:Bittgang nach Winden
DESCRIPTION:https://pfarreien-bistum-augsburg.df-preview.de/bittgang-nach-w
 inden_id1752542
DTSTART;TZID=Europe/Berlin:20260505T183000
DURATION:PT30M
LOCATION:St. Blasius
END:VEVENT
BEGIN:VEVENT
UID:sabre-vobject-f6b06d23-ba15-4b56-9c8b-b159dba40028
DTSTAMP:20260422T084315Z
SUMMARY:Frühmesse
DESCRIPTION:https://pfarreien-bistum-augsburg.df-preview.de/fruehmesse_id17
 52534
DTSTART;TZID=Europe/Berlin:20260506T080000
DURATION:PT30M
LOCATION:St. Blasius
END:VEVENT
BEGIN:VEVENT
UID:sabre-vobject-3b741568-cc68-442b-a249-0bde6522e223
DTSTAMP:20260422T084315Z
SUMMARY:Hl. Messe anschl. Auss. des Allerheiligsten u. sakr. Segen\, Anbetu
 ng bis 19.30 Uhr
DESCRIPTION:https://pfarreien-bistum-augsburg.df-preview.de/hl-messe-anschl
 -auss-des-allerheiligsten-u-sakr-segen-anbetung-bis-19-30-uhr_id1752587
DTSTART;TZID=Europe/Berlin:20260507T183000
DURATION:PT30M
LOCATION:St. Blasius
END:VEVENT
BEGIN:VEVENT
UID:sabre-vobject-7932dbe2-8d44-442b-b0b6-561ecda44a9b
DTSTAMP:20260422T084315Z
SUMMARY:schmerzhafter Rosenkranz
DESCRIPTION:https://pfarreien-bistum-augsburg.df-preview.de/schmerzhafter-r
 osenkranz_id1752589
DTSTART;TZID=Europe/Berlin:20260508T180000
DURATION:PT30M
LOCATION:St. Blasius
END:VEVENT
BEGIN:VEVENT
UID:sabre-vobject-d9c83412-38ed-4795-a0c8-e2d05872b677
DTSTAMP:20260422T084315Z
SUMMARY:lat. hl. Messe (außerord. Form)
DESCRIPTION:https://pfarreien-bistum-augsburg.df-preview.de/lat-hl-messe-au
 sserord-form_id1752590
DTSTART;TZID=Europe/Berlin:20260508T183000
DURATION:PT30M
LOCATION:St. Blasius
END:VEVENT
BEGIN:VEVENT
UID:sabre-vobject-5a474fe7-240e-4abd-bc0c-4d7bcb580ca9
DTSTAMP:20260422T084315Z
SUMMARY:Rosenkranz mit Beichtgelegenheit
DESCRIPTION:https://pfarreien-bistum-augsburg.df-preview.de/rosenkranz-mit-
 beichtgelegenheit_id1752592
DTSTART;TZID=Europe/Berlin:20260509T180000
DURATION:PT30M
LOCATION:St. Blasius
END:VEVENT
BEGIN:VEVENT
UID:sabre-vobject-f9d4955f-f5f5-4888-87b8-3e99beece6b0
DTSTAMP:20260422T084315Z
SUMMARY:Vorabendmesse mit Zulassung zur Firmung der Firmlinge der 5. Klasse
 n
DESCRIPTION:https://pfarreien-bistum-augsburg.df-preview.de/vorabendmesse-m
 it-zulassung-zur-firmung-der-firmlinge-der-5-klassen_id1752593
DTSTART;TZID=Europe/Berlin:20260509T183000
DURATION:PT30M
LOCATION:St. Blasius
END:VEVENT
BEGIN:VEVENT
UID:sabre-vobject-50f9c41c-b3be-4bdd-8b3f-4402010daa14
DTSTAMP:20260422T084315Z
SUMMARY:Pfarr- und Jugendgottesdienst mit Zulassung zur Firmung der Firmlin
 ge der 6. Klassen mitgestaltet von der Zoe-Gruppe\nFür die Lebenden und V
 erstorbenen der Pfarrei
DESCRIPTION:https://pfarreien-bistum-augsburg.df-preview.de/pfarr-und-jugen
 dgottesdienst-mit-zulassung-zur-firmung-der-firmlinge-der-6-klassen-mitges
 taltet-von-der-zoe-gruppe-fuer-die-lebenden-und-verstorbenen-der-pfarrei_i
 d1752594
DTSTART;TZID=Europe/Berlin:20260510T093000
DURATION:PT30M
LOCATION:St. Blasius
END:VEVENT
BEGIN:VEVENT
UID:sabre-vobject-7f48c0e9-a4a6-4be5-9ad8-170e22916324
DTSTAMP:20260422T084315Z
SUMMARY:Dekanatsmaiandacht in der Stadtpfarrkirche Pfaffenhofen
DESCRIPTION:https://pfarreien-bistum-augsburg.df-preview.de/dekanatsmaianda
 cht-in-der-stadtpfarrkirche-pfaffenhofen_id1752595
DTSTART;TZID=Europe/Berlin:20260510T173000
DURATION:PT30M
LOCATION:St. Blasius
END:VEVENT
BEGIN:VEVENT
UID:sabre-vobject-c2332cd6-3593-4f5d-b874-a0665dfd7e5f
DTSTAMP:20260422T084315Z
SUMMARY:Sternprozession\, anschließend Bittmessse am Baderbickl bei der Ma
 riensäule nach Meinung
DESCRIPTION:https://pfarreien-bistum-augsburg.df-preview.de/sternprozession
 -anschliessend-bittmessse-am-baderbickl-bei-der-mariensaeule-nach-meinung_
 id1752596
DTSTART;TZID=Europe/Berlin:20260513T194500
DURATION:PT30M
LOCATION:St. Blasius
END:VEVENT
BEGIN:VEVENT
UID:sabre-vobject-b447a82d-c95a-4ebf-98be-8d5cb17b0141
DTSTAMP:20260422T084315Z
SUMMARY:Hochamt am Hochaltar \nFür die Lebenden und Verstorbenen der Pfarr
 ei\n
DESCRIPTION:https://pfarreien-bistum-augsburg.df-preview.de/hochamt-am-hoch
 altar-fuer-die-lebenden-und-verstorbenen-der-pfarrei_id1752588
DTSTART;TZID=Europe/Berlin:20260514T093000
DURATION:PT30M
LOCATION:St. Blasius
END:VEVENT
BEGIN:VEVENT
UID:sabre-vobject-da14f1e0-29c3-4883-bccd-04198d5c1648
DTSTAMP:20260422T084315Z
SUMMARY:schmerzhafter Rosenkranz
DESCRIPTION:https://pfarreien-bistum-augsburg.df-preview.de/schmerzhafter-r
 osenkranz_id1752662
DTSTART;TZID=Europe/Berlin:20260515T180000
DURATION:PT30M
LOCATION:St. Blasius
END:VEVENT
BEGIN:VEVENT
UID:sabre-vobject-02881ec4-4533-4875-9477-4153820880b5
DTSTAMP:20260422T084315Z
SUMMARY:lat. hl. Messe (außerord. Form)
DESCRIPTION:https://pfarreien-bistum-augsburg.df-preview.de/lat-hl-messe-au
 sserord-form_id1752663
DTSTART;TZID=Europe/Berlin:20260515T183000
DURATION:PT30M
LOCATION:St. Blasius
END:VEVENT
BEGIN:VEVENT
UID:sabre-vobject-46a49bb8-0da9-4f68-a387-3ad2993983e2
DTSTAMP:20260422T084315Z
SUMMARY:Rosenkranz mit Beichtgelegenheit
DESCRIPTION:https://pfarreien-bistum-augsburg.df-preview.de/rosenkranz-mit-
 beichtgelegenheit_id1752664
DTSTART;TZID=Europe/Berlin:20260516T180000
DURATION:PT30M
LOCATION:St. Blasius
END:VEVENT
BEGIN:VEVENT
UID:sabre-vobject-c0c309af-a2a8-46a2-bfba-530c539891be
DTSTAMP:20260422T084315Z
SUMMARY:Vorabendmesse
DESCRIPTION:https://pfarreien-bistum-augsburg.df-preview.de/vorabendmesse_i
 d1752665
DTSTART;TZID=Europe/Berlin:20260516T183000
DURATION:PT30M
LOCATION:St. Blasius
END:VEVENT
BEGIN:VEVENT
UID:sabre-vobject-27ab5fce-fd13-4e76-a548-4744df9272ca
DTSTAMP:20260422T084315Z
SUMMARY:Pfarrgottesdienst mit  Beichtvorbereitung der Firmlinge\, anschl. P
 robe f. d. Firmgottesdienst i. d. Pfarrkirche\nFür die Lebenden und Verst
 orbenen der Pfarrei
DESCRIPTION:https://pfarreien-bistum-augsburg.df-preview.de/pfarrgottesdien
 st-mit-beichtvorbereitung-der-firmlinge-anschl-probe-f-d-firmgottesdienst-
 i-d-pfarrkirche-fuer-die-lebenden-und-verstorbenen-der-pfarrei_id1752727
DTSTART;TZID=Europe/Berlin:20260517T093000
DURATION:PT30M
LOCATION:St. Blasius
END:VEVENT
BEGIN:VEVENT
UID:sabre-vobject-41bd78e6-26b3-45a1-b76a-521c2e2de0ea
DTSTAMP:20260422T084315Z
SUMMARY:Maiandacht
DESCRIPTION:https://pfarreien-bistum-augsburg.df-preview.de/maiandacht_id17
 52728
DTSTART;TZID=Europe/Berlin:20260517T190000
DURATION:PT30M
LOCATION:St. Blasius
END:VEVENT
BEGIN:VEVENT
UID:sabre-vobject-79be4fca-cd27-4d42-aedd-13922dfd0810
DTSTAMP:20260422T084315Z
SUMMARY:Beichtgelegenheit für Firmlinge mit Familienname A - H
DESCRIPTION:https://pfarreien-bistum-augsburg.df-preview.de/beichtgelegenhe
 it-fuer-firmlinge-mit-familienname-a-h_id1752729
DTSTART;TZID=Europe/Berlin:20260519T170000
DURATION:PT30M
LOCATION:St. Blasius
END:VEVENT
BEGIN:VEVENT
UID:sabre-vobject-4f1c9a30-b261-4244-9aff-af8024385134
DTSTAMP:20260422T084315Z
SUMMARY:Frühmesse
DESCRIPTION:https://pfarreien-bistum-augsburg.df-preview.de/fruehmesse_id17
 52730
DTSTART;TZID=Europe/Berlin:20260520T080000
DURATION:PT30M
LOCATION:St. Blasius
END:VEVENT
BEGIN:VEVENT
UID:sabre-vobject-dd49ce01-a868-49f6-9952-99830994a60a
DTSTAMP:20260422T084315Z
SUMMARY:Beichtgelegenheit für Firmlinge mit Familienname I - P
DESCRIPTION:https://pfarreien-bistum-augsburg.df-preview.de/beichtgelegenhe
 it-fuer-firmlinge-mit-familienname-i-p_id1752731
DTSTART;TZID=Europe/Berlin:20260520T170000
DURATION:PT30M
LOCATION:St. Blasius
END:VEVENT
BEGIN:VEVENT
UID:sabre-vobject-b020f630-131c-4153-8456-d975cbdabd74
DTSTAMP:20260422T084315Z
SUMMARY:Beichtgelegenheit für Firmlinge mit Familienname Q - Z
DESCRIPTION:https://pfarreien-bistum-augsburg.df-preview.de/beichtgelegenhe
 it-fuer-firmlinge-mit-familienname-q-z_id1752732
DTSTART;TZID=Europe/Berlin:20260521T170000
DURATION:PT30M
LOCATION:St. Blasius
END:VEVENT
BEGIN:VEVENT
UID:sabre-vobject-7a414e18-00b3-4c80-b7ee-54b04b190899
DTSTAMP:20260422T084315Z
SUMMARY:Hl. Messe anschl. Aussetzung des Allerheiligsten u. sakramentaler S
 egen
DESCRIPTION:https://pfarreien-bistum-augsburg.df-preview.de/hl-messe-anschl
 -aussetzung-des-allerheiligsten-u-sakramentaler-segen_id1752733
DTSTART;TZID=Europe/Berlin:20260521T183000
DURATION:PT30M
LOCATION:St. Blasius
END:VEVENT
BEGIN:VEVENT
UID:sabre-vobject-e2dc8c52-e612-4df8-9de6-6058c0d13adc
DTSTAMP:20260422T084315Z
SUMMARY:Firmung durch Hochwürdigsten Herrn Diözesanbischof Dr. Bertram Me
 ier\, Firmungsopfer der Kinder
DESCRIPTION:https://pfarreien-bistum-augsburg.df-preview.de/firmung-durch-h
 ochwuerdigsten-herrn-dioezesanbischof-dr-bertram-meier-firmungsopfer-der-k
 inder_id1752734
DTSTART;TZID=Europe/Berlin:20260522T093000
DURATION:PT30M
LOCATION:St. Blasius
END:VEVENT
BEGIN:VEVENT
UID:sabre-vobject-68bd3a0b-7745-4e99-b7ea-9854e9b07d00
DTSTAMP:20260422T084315Z
SUMMARY:schmerzhafter Rosenkranz
DESCRIPTION:https://pfarreien-bistum-augsburg.df-preview.de/schmerzhafter-r
 osenkranz_id1752735
DTSTART;TZID=Europe/Berlin:20260522T180000
DURATION:PT30M
LOCATION:St. Blasius
END:VEVENT
BEGIN:VEVENT
UID:sabre-vobject-504957ec-ae5c-45b2-ad70-3d70a72f84cc
DTSTAMP:20260422T084315Z
SUMMARY:lat. hl. Messe (außerord. Form)
DESCRIPTION:https://pfarreien-bistum-augsburg.df-preview.de/lat-hl-messe-au
 sserord-form_id1752736
DTSTART;TZID=Europe/Berlin:20260522T183000
DURATION:PT30M
LOCATION:St. Blasius
END:VEVENT
BEGIN:VEVENT
UID:sabre-vobject-3b14c8ae-1f68-416a-a0fd-8c6e655c3ae8
DTSTAMP:20260422T084315Z
SUMMARY:Rosenkranz mit Beichtgelegenheit
DESCRIPTION:https://pfarreien-bistum-augsburg.df-preview.de/rosenkranz-mit-
 beichtgelegenheit_id1752737
DTSTART;TZID=Europe/Berlin:20260523T180000
DURATION:PT30M
LOCATION:St. Blasius
END:VEVENT
BEGIN:VEVENT
UID:sabre-vobject-c7fd74cf-cb5d-4aa4-b1c6-8575c525a838
DTSTAMP:20260422T084315Z
SUMMARY:Vorabendmesse mit Überreichung der Firmurkunden
DESCRIPTION:https://pfarreien-bistum-augsburg.df-preview.de/vorabendmesse-m
 it-ueberreichung-der-firmurkunden_id1752738
DTSTART;TZID=Europe/Berlin:20260523T183000
DURATION:PT30M
LOCATION:St. Blasius
END:VEVENT
BEGIN:VEVENT
UID:sabre-vobject-2a73d7e9-de8a-4b78-9936-1192c8a0ce15
DTSTAMP:20260422T084315Z
SUMMARY:Pfarrgottesdienst zu Pfingsten mit Überreichung der Firmurkunden\n
 Für die Lebenden und Verstorbenen der Pfarrei
DESCRIPTION:https://pfarreien-bistum-augsburg.df-preview.de/pfarrgottesdien
 st-zu-pfingsten-mit-ueberreichung-der-firmurkunden-fuer-die-lebenden-und-v
 erstorbenen-der-pfarrei_id1752739
DTSTART;TZID=Europe/Berlin:20260524T093000
DURATION:PT30M
LOCATION:St. Blasius
END:VEVENT
BEGIN:VEVENT
UID:sabre-vobject-615bb7e4-a8bb-431b-821f-22b326bd977d
DTSTAMP:20260422T084315Z
SUMMARY:Taufe von Niklas Kiefer
DESCRIPTION:https://pfarreien-bistum-augsburg.df-preview.de/taufe-von-nikla
 s-kiefer_id1752741
DTSTART;TZID=Europe/Berlin:20260524T103000
DURATION:PT30M
LOCATION:St. Blasius
END:VEVENT
BEGIN:VEVENT
UID:sabre-vobject-6bbe8bf0-8c41-4f89-9a87-60b0af6cf281
DTSTAMP:20260422T084315Z
SUMMARY:Maiandacht
DESCRIPTION:https://pfarreien-bistum-augsburg.df-preview.de/maiandacht_id17
 52742
DTSTART;TZID=Europe/Berlin:20260524T190000
DURATION:PT30M
LOCATION:St. Blasius
END:VEVENT
BEGIN:VEVENT
UID:sabre-vobject-0e88ce83-950d-4566-982b-3544f4a58f01
DTSTAMP:20260422T084315Z
SUMMARY:Pfarrgottesdienst\nFür die Lebenden und Verstorbenen der Pfarrei
DESCRIPTION:https://pfarreien-bistum-augsburg.df-preview.de/pfarrgottesdien
 st-fuer-die-lebenden-und-verstorbenen-der-pfarrei_id1752743
DTSTART;TZID=Europe/Berlin:20260525T093000
DURATION:PT30M
LOCATION:St. Blasius
END:VEVENT
BEGIN:VEVENT
UID:sabre-vobject-27e47cb3-08f9-49b1-9da3-a3f5b2db728f
DTSTAMP:20260422T084315Z
SUMMARY:Frühmesse
DESCRIPTION:https://pfarreien-bistum-augsburg.df-preview.de/fruehmesse_id17
 52740
DTSTART;TZID=Europe/Berlin:20260527T080000
DURATION:PT30M
LOCATION:St. Blasius
END:VEVENT
BEGIN:VEVENT
UID:sabre-vobject-9c599569-e3fd-4388-97fc-116388179507
DTSTAMP:20260422T084315Z
SUMMARY:Hl. Messe nach Meinung\nanschl. Aussetzung des Allerheiligsten u. s
 akramentaler Segen
DESCRIPTION:https://pfarreien-bistum-augsburg.df-preview.de/hl-messe-nach-m
 einung-anschl-aussetzung-des-allerheiligsten-u-sakramentaler-segen_id17521
 62
DTSTART;TZID=Europe/Berlin:20260528T183000
DURATION:PT30M
LOCATION:St. Blasius
END:VEVENT
BEGIN:VEVENT
UID:sabre-vobject-e461505a-707b-4ff8-a5bf-184e0eca9c7c
DTSTAMP:20260422T084315Z
SUMMARY:schmerzhafter Rosenkranz
DESCRIPTION:https://pfarreien-bistum-augsburg.df-preview.de/schmerzhafter-r
 osenkranz_id1752163
DTSTART;TZID=Europe/Berlin:20260529T180000
DURATION:PT30M
LOCATION:St. Blasius
END:VEVENT
BEGIN:VEVENT
UID:sabre-vobject-82bd6c23-07d6-4740-896f-96615abfdcfb
DTSTAMP:20260422T084315Z
SUMMARY:lat. hl. Messe (außerord. Form)
DESCRIPTION:https://pfarreien-bistum-augsburg.df-preview.de/lat-hl-messe-au
 sserord-form_id1752164
DTSTART;TZID=Europe/Berlin:20260529T183000
DURATION:PT30M
LOCATION:St. Blasius
END:VEVENT
BEGIN:VEVENT
UID:sabre-vobject-5f19af79-3576-4d25-864e-846df3c2ee88
DTSTAMP:20260422T084315Z
SUMMARY:Rosenkranz mit Beichtgelegenheit
DESCRIPTION:https://pfarreien-bistum-augsburg.df-preview.de/rosenkranz-mit-
 beichtgelegenheit_id1752165
DTSTART;TZID=Europe/Berlin:20260530T180000
DURATION:PT30M
LOCATION:St. Blasius
END:VEVENT
BEGIN:VEVENT
UID:sabre-vobject-e0cdf1f9-e54e-43af-940e-85434d628fda
DTSTAMP:20260422T084315Z
SUMMARY:Vorabendmesse nach Meinung
DESCRIPTION:https://pfarreien-bistum-augsburg.df-preview.de/vorabendmesse-n
 ach-meinung_id1752166
DTSTART;TZID=Europe/Berlin:20260530T183000
DURATION:PT30M
LOCATION:St. Blasius
END:VEVENT
BEGIN:VEVENT
UID:sabre-vobject-f1f4acc9-5969-43c5-949e-205f2a6d06cb
DTSTAMP:20260422T084315Z
SUMMARY:Pfarrgottesdienst \nFür die Lebenden und Verstorbenen der Pfarrei
DESCRIPTION:https://pfarreien-bistum-augsburg.df-preview.de/pfarrgottesdien
 st-fuer-die-lebenden-und-verstorbenen-der-pfarrei_id1752167
DTSTART;TZID=Europe/Berlin:20260531T093000
DURATION:PT30M
LOCATION:St. Blasius
END:VEVENT
BEGIN:VEVENT
UID:sabre-vobject-4f0cd966-5e65-4071-b147-d8dbab8dfbd3
DTSTAMP:20260422T084315Z
SUMMARY:Taufe von Marina Rößner
DESCRIPTION:https://pfarreien-bistum-augsburg.df-preview.de/taufe-von-marin
 a-roessner_id1752195
DTSTART;TZID=Europe/Berlin:20260531T103000
DURATION:PT30M
LOCATION:St. Blasius
END:VEVENT
BEGIN:VEVENT
UID:sabre-vobject-0b439638-210a-4d2e-8fa8-3e66d999d933
DTSTAMP:20260422T084315Z
SUMMARY:Maiandacht
DESCRIPTION:https://pfarreien-bistum-augsburg.df-preview.de/maiandacht_id17
 52196
DTSTART;TZID=Europe/Berlin:20260531T190000
DURATION:PT30M
LOCATION:St. Blasius
END:VEVENT
END:VCALENDAR
