BEGIN:VCALENDAR
VERSION:2.0
PRODID:-//Sabre//Sabre VObject 4.5.8//EN
CALSCALE:GREGORIAN
NAME:Bistum Augsburg
X-WR-CALNAME:Bistum Augsburg
BEGIN:VEVENT
UID:sabre-vobject-93a95547-e4d5-4518-81a6-693e232cf305
DTSTAMP:20260422T133505Z
SUMMARY:Hl. Messe
DESCRIPTION:https://pfarreien-bistum-augsburg.df-preview.de/hl-messe_id1744
 496
DTSTART;TZID=Europe/Berlin:20260423T190000
DURATION:PT30M
LOCATION:St. Georg und Mauritius
END:VEVENT
BEGIN:VEVENT
UID:sabre-vobject-eab70019-07b7-459e-acb8-3e3975c4fa13
DTSTAMP:20260422T133506Z
SUMMARY:Festgottesdienst zur Erstkommunion  Musik:Blasskapelle Bihlerdorf-O
 fterschwang
DESCRIPTION:https://pfarreien-bistum-augsburg.df-preview.de/festgottesdiens
 t-zur-erstkommunion-musik-blasskapelle-bihlerdorf-ofterschwang_id1743274
DTSTART;TZID=Europe/Berlin:20260426T103000
DURATION:PT30M
LOCATION:St. Georg und Mauritius
END:VEVENT
BEGIN:VEVENT
UID:sabre-vobject-ff237e80-edf3-4e81-8ec6-26f7828ba9bb
DTSTAMP:20260422T133506Z
SUMMARY:Hl. Messe
DESCRIPTION:https://pfarreien-bistum-augsburg.df-preview.de/hl-messe_id1743
 275
DTSTART;TZID=Europe/Berlin:20260430T190000
DURATION:PT30M
LOCATION:St. Georg und Mauritius
END:VEVENT
BEGIN:VEVENT
UID:sabre-vobject-d1f1a896-4408-47b0-8e01-42e5fa711935
DTSTAMP:20260422T133506Z
SUMMARY:Alpsegnungsgottesdienst
DESCRIPTION:https://pfarreien-bistum-augsburg.df-preview.de/alpsegnungsgott
 esdienst_id1743272
DTSTART;TZID=Europe/Berlin:20260502T190000
DURATION:PT30M
LOCATION:St. Georg und Mauritius
END:VEVENT
BEGIN:VEVENT
UID:sabre-vobject-f3323a60-c3b5-4ce5-8258-d6775faa69cf
DTSTAMP:20260422T133506Z
SUMMARY:2. Firmvesper mit dem Kolpingschor
DESCRIPTION:https://pfarreien-bistum-augsburg.df-preview.de/2-firmvesper-mi
 t-dem-kolpingschor_id1743280
DTSTART;TZID=Europe/Berlin:20260506T190000
DURATION:PT30M
LOCATION:St. Georg und Mauritius
END:VEVENT
BEGIN:VEVENT
UID:sabre-vobject-98b6e95b-7694-425a-86bf-ba2724360ad5
DTSTAMP:20260422T133506Z
SUMMARY:Maiandacht
DESCRIPTION:https://pfarreien-bistum-augsburg.df-preview.de/maiandacht_id17
 43281
DTSTART;TZID=Europe/Berlin:20260506T190000
DURATION:PT30M
LOCATION:St. Georg und Mauritius
END:VEVENT
BEGIN:VEVENT
UID:sabre-vobject-4544353a-d519-4ce7-bef3-4c4c9d1c8c11
DTSTAMP:20260422T133506Z
SUMMARY:Maiandacht vom kath. Landvolk
DESCRIPTION:https://pfarreien-bistum-augsburg.df-preview.de/maiandacht-vom-
 kath-landvolk_id1743282
DTSTART;TZID=Europe/Berlin:20260507T000000
DURATION:PT30M
LOCATION:St. Georg und Mauritius
END:VEVENT
BEGIN:VEVENT
UID:sabre-vobject-bd1b890e-185a-471a-bdc1-31da00d42e26
DTSTAMP:20260422T133506Z
SUMMARY:Hl. Messe
DESCRIPTION:https://pfarreien-bistum-augsburg.df-preview.de/hl-messe_id1743
 283
DTSTART;TZID=Europe/Berlin:20260507T190000
DURATION:PT30M
LOCATION:St. Georg und Mauritius
END:VEVENT
END:VCALENDAR
