BEGIN:VCALENDAR
VERSION:2.0
PRODID:-//Sabre//Sabre VObject 4.5.8//EN
CALSCALE:GREGORIAN
NAME:Bistum Augsburg
X-WR-CALNAME:Bistum Augsburg
BEGIN:VEVENT
UID:sabre-vobject-05caaa9d-f851-4881-b3ad-8f3ff09eb45d
DTSTAMP:20260421T193213Z
SUMMARY:Kurz-Rosenkranz
DESCRIPTION:https://pfarreien-bistum-augsburg.df-preview.de/kurz-rosenkranz
 _id1741065
DTSTART;TZID=Europe/Berlin:20260421T184500
DURATION:PT30M
LOCATION:Maria\, Rosenkranzkönigin
END:VEVENT
BEGIN:VEVENT
UID:sabre-vobject-acea96c6-30f6-4ad5-9b19-3665a3a1d1ff
DTSTAMP:20260421T193213Z
SUMMARY:Heilige Messe
DESCRIPTION:https://pfarreien-bistum-augsburg.df-preview.de/heilige-messe_i
 d1741066
DTSTART;TZID=Europe/Berlin:20260421T190000
DURATION:PT30M
LOCATION:Maria\, Rosenkranzkönigin
END:VEVENT
BEGIN:VEVENT
UID:sabre-vobject-4fa0e20a-87ec-4635-9e8b-01950d6ff809
DTSTAMP:20260421T193214Z
SUMMARY:Schulgottesdienst der Grundschule Schretzheim
DESCRIPTION:https://pfarreien-bistum-augsburg.df-preview.de/schulgottesdien
 st-der-grundschule-schretzheim_id1741067
DTSTART;TZID=Europe/Berlin:20260423T081500
DURATION:PT30M
LOCATION:Maria\, Rosenkranzkönigin
END:VEVENT
END:VCALENDAR
