BEGIN:VCALENDAR
VERSION:2.0
PRODID:-//Sabre//Sabre VObject 4.5.8//EN
CALSCALE:GREGORIAN
NAME:Bistum Augsburg
X-WR-CALNAME:Bistum Augsburg
BEGIN:VEVENT
UID:sabre-vobject-574edd86-fe25-4754-a996-c0a6998d0fb6
DTSTAMP:20260422T024218Z
SUMMARY:Abendmesse
DESCRIPTION:https://pfarreien-bistum-augsburg.df-preview.de/abendmesse_id17
 20915
DTSTART;TZID=Europe/Berlin:20260423T190000
DURATION:PT30M
LOCATION:Kuratie St. Andreas
END:VEVENT
BEGIN:VEVENT
UID:sabre-vobject-fbc1df77-9534-49b7-ba07-047dbaf30284
DTSTAMP:20260422T024218Z
SUMMARY:Sonntagsgottesdienst
DESCRIPTION:https://pfarreien-bistum-augsburg.df-preview.de/sonntagsgottesd
 ienst_id1720916
DTSTART;TZID=Europe/Berlin:20260426T103000
DURATION:PT30M
LOCATION:Kuratie St. Andreas
END:VEVENT
BEGIN:VEVENT
UID:sabre-vobject-319b2300-23c9-477c-9986-14cd35a54b7c
DTSTAMP:20260422T024218Z
SUMMARY:Maiandacht\, Opfer für den Maialtar
DESCRIPTION:https://pfarreien-bistum-augsburg.df-preview.de/maiandacht-opfe
 r-fuer-den-maialtar_id1720917
DTSTART;TZID=Europe/Berlin:20260501T190000
DURATION:PT30M
LOCATION:Kuratie St. Andreas
END:VEVENT
BEGIN:VEVENT
UID:sabre-vobject-78856d41-de9b-430d-bbdc-4449050c9124
DTSTAMP:20260422T024218Z
SUMMARY:Feierliche Maiandacht mit Pater Anoop\; Opfer für den Maialtar
DESCRIPTION:https://pfarreien-bistum-augsburg.df-preview.de/feierliche-maia
 ndacht-mit-pater-anoop-opfer-fuer-den-maialtar_id1720918
DTSTART;TZID=Europe/Berlin:20260503T190000
DURATION:PT30M
LOCATION:Kuratie St. Andreas
END:VEVENT
END:VCALENDAR
