BEGIN:VCALENDAR
VERSION:2.0
PRODID:-//Sabre//Sabre VObject 4.5.8//EN
CALSCALE:GREGORIAN
NAME:Bistum Augsburg
X-WR-CALNAME:Bistum Augsburg
BEGIN:VEVENT
UID:sabre-vobject-1e7751f3-e750-4969-8d3c-5786530a3933
DTSTAMP:20260420T140507Z
SUMMARY:Euch. Anbetung in der Hauskapelle d. Caritasheims bis 21 Uhr
DESCRIPTION:https://pfarreien-bistum-augsburg.df-preview.de/euch-anbetung-i
 n-der-hauskapelle-d-caritasheims-bis-21-uhr_id1741589
DTSTART;TZID=Europe/Berlin:20260420T080000
DURATION:PT30M
LOCATION:St. Ulrich
END:VEVENT
BEGIN:VEVENT
UID:sabre-vobject-468bd8a8-6d71-4fc8-a454-ee3749e8c60e
DTSTAMP:20260420T140507Z
SUMMARY:Dankgottesdienst für die Erstkommunionkinder aus Seeg u. Rückholz
  mit Segnung der Andachtsgegenstände\, anschl. Ausflug
DESCRIPTION:https://pfarreien-bistum-augsburg.df-preview.de/dankgottesdiens
 t-fuer-die-erstkommunionkinder-aus-seeg-u-rueckholz-mit-segnung-der-andach
 tsgegenstaende-anschl-ausflug_id1741590
DTSTART;TZID=Europe/Berlin:20260421T080000
DURATION:PT30M
LOCATION:St. Ulrich
END:VEVENT
BEGIN:VEVENT
UID:sabre-vobject-981fe6e7-ae8e-4846-bf5f-a60c4a007355
DTSTAMP:20260420T140507Z
SUMMARY:Heilige Messe
DESCRIPTION:https://pfarreien-bistum-augsburg.df-preview.de/heilige-messe_i
 d1741748
DTSTART;TZID=Europe/Berlin:20260422T090000
DURATION:PT30M
LOCATION:St. Wolfgang\, Seeger Str. 1\, 87663 Lengenwang
END:VEVENT
BEGIN:VEVENT
UID:sabre-vobject-3b0a5d19-1808-41bb-8ecb-7d2a3841a596
DTSTAMP:20260420T140507Z
SUMMARY:Rosenkranz für den Frieden in der Welt
DESCRIPTION:https://pfarreien-bistum-augsburg.df-preview.de/rosenkranz-fuer
 -den-frieden-in-der-welt_id1741749
DTSTART;TZID=Europe/Berlin:20260422T180000
DURATION:PT30M
LOCATION:St. Wolfgang\, Seeger Str. 1\, 87663 Lengenwang
END:VEVENT
BEGIN:VEVENT
UID:sabre-vobject-6e1cdbc5-0842-41da-8dd8-3b31d48e2b76
DTSTAMP:20260420T140507Z
SUMMARY:Rosenkranz um den Frieden
DESCRIPTION:https://pfarreien-bistum-augsburg.df-preview.de/rosenkranz-um-d
 en-frieden_id1741599
DTSTART;TZID=Europe/Berlin:20260422T190000
DURATION:PT30M
LOCATION:St. Moritz
END:VEVENT
BEGIN:VEVENT
UID:sabre-vobject-33bbd34b-6f4a-46dd-ae3e-a14447736635
DTSTAMP:20260420T140507Z
SUMMARY:Heilige Messe
DESCRIPTION:https://pfarreien-bistum-augsburg.df-preview.de/heilige-messe_i
 d1741591
DTSTART;TZID=Europe/Berlin:20260422T191500
DURATION:PT30M
LOCATION:St. Ulrich
END:VEVENT
BEGIN:VEVENT
UID:sabre-vobject-ac526a2c-05a4-421f-9f8f-a8e315ec8a5e
DTSTAMP:20260420T140507Z
SUMMARY:Abendgebet
DESCRIPTION:https://pfarreien-bistum-augsburg.df-preview.de/abendgebet_id17
 41600
DTSTART;TZID=Europe/Berlin:20260422T191500
DURATION:PT30M
LOCATION:St. Moritz
END:VEVENT
BEGIN:VEVENT
UID:sabre-vobject-baa5fc36-7892-4122-b5e1-ba852221d6db
DTSTAMP:20260420T140507Z
SUMMARY:Heilige Messe
DESCRIPTION:https://pfarreien-bistum-augsburg.df-preview.de/heilige-messe_i
 d1741627
DTSTART;TZID=Europe/Berlin:20260423T140000
DURATION:PT30M
LOCATION:St. Moritz
END:VEVENT
BEGIN:VEVENT
UID:sabre-vobject-252b79c5-4610-49dc-8569-18be14c38781
DTSTAMP:20260420T140507Z
SUMMARY:Heilige Messe
DESCRIPTION:https://pfarreien-bistum-augsburg.df-preview.de/heilige-messe_i
 d1741592
DTSTART;TZID=Europe/Berlin:20260424T090000
DURATION:PT30M
LOCATION:St. Ulrich
END:VEVENT
BEGIN:VEVENT
UID:sabre-vobject-0be5589f-4f8e-4e68-bd56-cc5368ea87f1
DTSTAMP:20260420T140507Z
SUMMARY:Rosenkranz
DESCRIPTION:https://pfarreien-bistum-augsburg.df-preview.de/rosenkranz_id17
 41628
DTSTART;TZID=Europe/Berlin:20260424T184000
DURATION:PT30M
LOCATION:St. Moritz
END:VEVENT
BEGIN:VEVENT
UID:sabre-vobject-02c47306-d316-4afb-bdd6-cdf854a62e6c
DTSTAMP:20260420T140507Z
SUMMARY:Heilige Messe mit eucharistischer Anbetung
DESCRIPTION:https://pfarreien-bistum-augsburg.df-preview.de/heilige-messe-m
 it-eucharistischer-anbetung_id1741629
DTSTART;TZID=Europe/Berlin:20260424T191500
DURATION:PT30M
LOCATION:St. Moritz
END:VEVENT
BEGIN:VEVENT
UID:sabre-vobject-94d47cc6-5fa0-454c-857c-5ab7b2491183
DTSTAMP:20260420T140507Z
SUMMARY:Bibelgespräch im Pfarrheim
DESCRIPTION:https://pfarreien-bistum-augsburg.df-preview.de/bibelgespraech-
 im-pfarrheim_id1741593
DTSTART;TZID=Europe/Berlin:20260424T200000
DURATION:PT30M
LOCATION:St. Ulrich
END:VEVENT
END:VCALENDAR
