BEGIN:VCALENDAR
VERSION:2.0
PRODID:-//Sabre//Sabre VObject 4.5.8//EN
CALSCALE:GREGORIAN
NAME:Bistum Augsburg
X-WR-CALNAME:Bistum Augsburg
BEGIN:VEVENT
UID:sabre-vobject-05c513a6-a9eb-436a-a5ce-9903ee2fc3f6
DTSTAMP:20260422T060530Z
SUMMARY:Rosenkranzgebet für Frieden und Freiheit
DESCRIPTION:https://pfarreien-bistum-augsburg.df-preview.de/rosenkranzgebet
 -fuer-frieden-und-freiheit_id1730241
DTSTART;TZID=Europe/Berlin:20260422T153000
DURATION:PT30M
LOCATION:Heilig Kreuz
END:VEVENT
BEGIN:VEVENT
UID:sabre-vobject-d3261839-2cad-424b-9402-e436948d02af
DTSTAMP:20260422T060530Z
SUMMARY:Eucharistiefeier in Heiligkreuz
DESCRIPTION:https://pfarreien-bistum-augsburg.df-preview.de/eucharistiefeie
 r-in-heiligkreuz_id1730242
DTSTART;TZID=Europe/Berlin:20260423T090000
DURATION:PT30M
LOCATION:Heilig Kreuz
END:VEVENT
END:VCALENDAR
