BEGIN:VCALENDAR
VERSION:2.0
PRODID:-//Sabre//Sabre VObject 4.5.8//EN
CALSCALE:GREGORIAN
NAME:Bistum Augsburg
X-WR-CALNAME:Bistum Augsburg
BEGIN:VEVENT
UID:sabre-vobject-db6a32ac-fd03-4390-b56c-3b3ff0ce7101
DTSTAMP:20260420T202540Z
SUMMARY:Hl. Messe
DESCRIPTION:https://pfarreien-bistum-augsburg.df-preview.de/hl-messe_id1734
 859
DTSTART;TZID=Europe/Berlin:20260420T121500
DURATION:PT30M
LOCATION:Basilika minor St. Lorenz\, Hildegardpl.\, 87439 Kempten (Allgäu)
END:VEVENT
BEGIN:VEVENT
UID:sabre-vobject-a3fd629e-ecad-4c07-bd73-97a8d63cde14
DTSTAMP:20260420T202540Z
SUMMARY:Rosenkranz in italienischer Sprache
DESCRIPTION:https://pfarreien-bistum-augsburg.df-preview.de/rosenkranz-in-i
 talienischer-sprache_id1734860
DTSTART;TZID=Europe/Berlin:20260420T170000
DURATION:PT30M
LOCATION:Basilika minor St. Lorenz\, Hildegardpl.\, 87439 Kempten (Allgäu)
END:VEVENT
BEGIN:VEVENT
UID:sabre-vobject-27617315-67c3-4369-bf98-b093b76ea29a
DTSTAMP:20260420T202540Z
SUMMARY:Rosenkranz
DESCRIPTION:https://pfarreien-bistum-augsburg.df-preview.de/rosenkranz_id17
 34861
DTSTART;TZID=Europe/Berlin:20260420T170000
DURATION:PT30M
LOCATION:Basilika minor St. Lorenz\, Hildegardpl.\, 87439 Kempten (Allgäu)
END:VEVENT
BEGIN:VEVENT
UID:sabre-vobject-b7afae7b-dacc-4240-bf7b-adcb318d9bdd
DTSTAMP:20260420T202540Z
SUMMARY:Hl. Messe
DESCRIPTION:https://pfarreien-bistum-augsburg.df-preview.de/hl-messe_id1734
 852
DTSTART;TZID=Europe/Berlin:20260421T090000
DURATION:PT30M
LOCATION:Basilika minor St. Lorenz\, Hildegardpl.\, 87439 Kempten (Allgäu)
END:VEVENT
BEGIN:VEVENT
UID:sabre-vobject-924380ce-c3df-4fc5-81ef-8915e389cf42
DTSTAMP:20260420T202540Z
SUMMARY:Hl. Messe
DESCRIPTION:https://pfarreien-bistum-augsburg.df-preview.de/hl-messe_id1734
 856
DTSTART;TZID=Europe/Berlin:20260421T121500
DURATION:PT30M
LOCATION:Basilika minor St. Lorenz\, Hildegardpl.\, 87439 Kempten (Allgäu)
END:VEVENT
BEGIN:VEVENT
UID:sabre-vobject-3c011cb7-a274-4dd6-9e57-348b5de96363
DTSTAMP:20260420T202540Z
SUMMARY:Rosenkranz
DESCRIPTION:https://pfarreien-bistum-augsburg.df-preview.de/rosenkranz_id17
 34862
DTSTART;TZID=Europe/Berlin:20260421T170000
DURATION:PT30M
LOCATION:Basilika minor St. Lorenz\, Hildegardpl.\, 87439 Kempten (Allgäu)
END:VEVENT
BEGIN:VEVENT
UID:sabre-vobject-4248a280-469a-4040-a69e-2a31ec530a47
DTSTAMP:20260420T202540Z
SUMMARY:Hl. Messe um Frieden und Gerechtigkeit\, Freiheit u. Achtung der Me
 nschenwürde sowie die Bewahrung der Schöpfung - anschließend stille euc
 haristische Anbetung bis ca. 10.00 Uhr
DESCRIPTION:https://pfarreien-bistum-augsburg.df-preview.de/hl-messe-um-fri
 eden-und-gerechtigkeit-freiheit-u-achtung-der-menschenwuerde-sowie-die-bew
 ahrung-der-schoepfung-anschliessend-stille-eucharistische-anbetung-bis-ca-
 10-00-uhr_id1734866
DTSTART;TZID=Europe/Berlin:20260422T090000
DURATION:PT30M
LOCATION:Basilika minor St. Lorenz\, Hildegardpl.\, 87439 Kempten (Allgäu)
END:VEVENT
BEGIN:VEVENT
UID:sabre-vobject-bba9b359-14e2-4e84-8df3-19515e2f11c4
DTSTAMP:20260420T202540Z
SUMMARY:Hl. Messe
DESCRIPTION:https://pfarreien-bistum-augsburg.df-preview.de/hl-messe_id1734
 867
DTSTART;TZID=Europe/Berlin:20260422T121500
DURATION:PT30M
LOCATION:Basilika minor St. Lorenz\, Hildegardpl.\, 87439 Kempten (Allgäu)
END:VEVENT
BEGIN:VEVENT
UID:sabre-vobject-430ec85c-d902-4fc9-a651-a6024eff8000
DTSTAMP:20260420T202540Z
SUMMARY:Rosenkranz
DESCRIPTION:https://pfarreien-bistum-augsburg.df-preview.de/rosenkranz_id17
 34868
DTSTART;TZID=Europe/Berlin:20260422T170000
DURATION:PT30M
LOCATION:Basilika minor St. Lorenz\, Hildegardpl.\, 87439 Kempten (Allgäu)
END:VEVENT
BEGIN:VEVENT
UID:sabre-vobject-538a45bb-fd6c-4119-b15b-225af96a82be
DTSTAMP:20260420T202540Z
SUMMARY:Hl. Messe
DESCRIPTION:https://pfarreien-bistum-augsburg.df-preview.de/hl-messe_id1734
 869
DTSTART;TZID=Europe/Berlin:20260422T183000
DURATION:PT30M
LOCATION:Basilika minor St. Lorenz\, Hildegardpl.\, 87439 Kempten (Allgäu)
END:VEVENT
BEGIN:VEVENT
UID:sabre-vobject-b1ffe41c-755d-4e8c-a868-b20fdbab024d
DTSTAMP:20260420T202540Z
SUMMARY:Hl. Messe
DESCRIPTION:https://pfarreien-bistum-augsburg.df-preview.de/hl-messe_id1734
 870
DTSTART;TZID=Europe/Berlin:20260423T090000
DURATION:PT30M
LOCATION:Basilika minor St. Lorenz\, Hildegardpl.\, 87439 Kempten (Allgäu)
END:VEVENT
BEGIN:VEVENT
UID:sabre-vobject-5eda396b-178a-4e8d-8feb-fb9122027f9b
DTSTAMP:20260420T202540Z
SUMMARY:Hl. Messe
DESCRIPTION:https://pfarreien-bistum-augsburg.df-preview.de/hl-messe_id1734
 871
DTSTART;TZID=Europe/Berlin:20260423T121500
DURATION:PT30M
LOCATION:Basilika minor St. Lorenz\, Hildegardpl.\, 87439 Kempten (Allgäu)
END:VEVENT
BEGIN:VEVENT
UID:sabre-vobject-cdf57414-4036-4a8d-abc3-4bbf26dff589
DTSTAMP:20260420T202540Z
SUMMARY:Rosenkranz
DESCRIPTION:https://pfarreien-bistum-augsburg.df-preview.de/rosenkranz_id17
 34872
DTSTART;TZID=Europe/Berlin:20260423T170000
DURATION:PT30M
LOCATION:Basilika minor St. Lorenz\, Hildegardpl.\, 87439 Kempten (Allgäu)
END:VEVENT
BEGIN:VEVENT
UID:sabre-vobject-230addb0-bf6f-4064-bfc4-2e41f8ae643f
DTSTAMP:20260420T202540Z
SUMMARY:Kontemplation (Meditation) - die Stille als Kraftquelle erfahren\n
DESCRIPTION:https://pfarreien-bistum-augsburg.df-preview.de/kontemplation-m
 editation-die-stille-als-kraftquelle-erfahren_id1734884
DTSTART;TZID=Europe/Berlin:20260423T180000
DURATION:PT30M
LOCATION:Basilika minor St. Lorenz\, Hildegardpl.\, 87439 Kempten (Allgäu)
END:VEVENT
BEGIN:VEVENT
UID:sabre-vobject-f86ceca9-2d9a-4d69-82f5-7e8ad9fda82f
DTSTAMP:20260420T202540Z
SUMMARY:Hl. Messe
DESCRIPTION:https://pfarreien-bistum-augsburg.df-preview.de/hl-messe_id1734
 890
DTSTART;TZID=Europe/Berlin:20260423T193000
DURATION:PT30M
LOCATION:Basilika minor St. Lorenz\, Hildegardpl.\, 87439 Kempten (Allgäu)
END:VEVENT
BEGIN:VEVENT
UID:sabre-vobject-0287e7ae-c4bd-43de-9378-115967282bfa
DTSTAMP:20260420T202540Z
SUMMARY:Hl. Messe
DESCRIPTION:https://pfarreien-bistum-augsburg.df-preview.de/hl-messe_id1734
 891
DTSTART;TZID=Europe/Berlin:20260424T090000
DURATION:PT30M
LOCATION:Basilika minor St. Lorenz\, Hildegardpl.\, 87439 Kempten (Allgäu)
END:VEVENT
BEGIN:VEVENT
UID:sabre-vobject-503b330f-6b53-4407-a852-6ea5f5e46d97
DTSTAMP:20260420T202540Z
SUMMARY:Hl. Messe
DESCRIPTION:https://pfarreien-bistum-augsburg.df-preview.de/hl-messe_id1734
 892
DTSTART;TZID=Europe/Berlin:20260424T121500
DURATION:PT30M
LOCATION:Basilika minor St. Lorenz\, Hildegardpl.\, 87439 Kempten (Allgäu)
END:VEVENT
BEGIN:VEVENT
UID:sabre-vobject-30067c1a-9a43-49f2-bddc-60efb7433cf5
DTSTAMP:20260420T202540Z
SUMMARY:Hl. Messe
DESCRIPTION:https://pfarreien-bistum-augsburg.df-preview.de/hl-messe_id1734
 893
DTSTART;TZID=Europe/Berlin:20260425T090000
DURATION:PT30M
LOCATION:Basilika minor St. Lorenz\, Hildegardpl.\, 87439 Kempten (Allgäu)
END:VEVENT
BEGIN:VEVENT
UID:sabre-vobject-1a8508eb-38fd-43e3-be61-16ff8e361505
DTSTAMP:20260420T202540Z
SUMMARY:Vorabendmesse zum Sonntag
DESCRIPTION:https://pfarreien-bistum-augsburg.df-preview.de/vorabendmesse-z
 um-sonntag_id1734900
DTSTART;TZID=Europe/Berlin:20260425T170000
DURATION:PT30M
LOCATION:Basilika minor St. Lorenz\, Hildegardpl.\, 87439 Kempten (Allgäu)
END:VEVENT
BEGIN:VEVENT
UID:sabre-vobject-773f7a73-fda0-497a-8aae-627f0030bd46
DTSTAMP:20260420T202540Z
SUMMARY:Beichtgelegenheit bei Herrn Kurat Salzmann
DESCRIPTION:https://pfarreien-bistum-augsburg.df-preview.de/beichtgelegenhe
 it-bei-herrn-kurat-salzmann_id1734797
DTSTART;TZID=Europe/Berlin:20260425T173000
DURATION:PT30M
LOCATION:Basilika minor St. Lorenz\, Hildegardpl.\, 87439 Kempten (Allgäu)
END:VEVENT
BEGIN:VEVENT
UID:sabre-vobject-e0a6ad93-240e-4c61-bb2b-2a46c067ec0f
DTSTAMP:20260420T202540Z
SUMMARY:Rosenkranz
DESCRIPTION:https://pfarreien-bistum-augsburg.df-preview.de/rosenkranz_id17
 34798
DTSTART;TZID=Europe/Berlin:20260425T175000
DURATION:PT30M
LOCATION:Basilika minor St. Lorenz\, Hildegardpl.\, 87439 Kempten (Allgäu)
END:VEVENT
BEGIN:VEVENT
UID:sabre-vobject-21bdc6f5-b5a4-4bfa-ba5e-6f8ccde6ed86
DTSTAMP:20260420T202540Z
SUMMARY:Vorabendmesse zum Sonntag - Saxophon u. Orgel
DESCRIPTION:https://pfarreien-bistum-augsburg.df-preview.de/vorabendmesse-z
 um-sonntag-saxophon-u-orgel_id1734799
DTSTART;TZID=Europe/Berlin:20260425T183000
DURATION:PT30M
LOCATION:Basilika minor St. Lorenz\, Hildegardpl.\, 87439 Kempten (Allgäu)
END:VEVENT
BEGIN:VEVENT
UID:sabre-vobject-0f472451-7702-460c-86e3-faee86db3489
DTSTAMP:20260420T202540Z
SUMMARY:Beichtgelegenheit
DESCRIPTION:https://pfarreien-bistum-augsburg.df-preview.de/beichtgelegenhe
 it_id1734800
DTSTART;TZID=Europe/Berlin:20260426T080000
DURATION:PT30M
LOCATION:Basilika minor St. Lorenz\, Hildegardpl.\, 87439 Kempten (Allgäu)
END:VEVENT
BEGIN:VEVENT
UID:sabre-vobject-8abccab0-7b6c-4fc8-bfe2-9f9a9e3e2a7b
DTSTAMP:20260420T202540Z
SUMMARY:Hl. Messe
DESCRIPTION:https://pfarreien-bistum-augsburg.df-preview.de/hl-messe_id1734
 801
DTSTART;TZID=Europe/Berlin:20260426T083000
DURATION:PT30M
LOCATION:Basilika minor St. Lorenz\, Hildegardpl.\, 87439 Kempten (Allgäu)
END:VEVENT
BEGIN:VEVENT
UID:sabre-vobject-d1f0ed91-b199-4dfb-bd4a-ce01f9ab0330
DTSTAMP:20260420T202540Z
SUMMARY:Hl. Messe
DESCRIPTION:https://pfarreien-bistum-augsburg.df-preview.de/hl-messe_id1734
 802
DTSTART;TZID=Europe/Berlin:20260426T084500
DURATION:PT30M
LOCATION:Basilika minor St. Lorenz\, Hildegardpl.\, 87439 Kempten (Allgäu)
END:VEVENT
BEGIN:VEVENT
UID:sabre-vobject-38b5e63a-697d-4bfa-8b9f-d9acc76b956a
DTSTAMP:20260420T202540Z
SUMMARY:Kindergottesdienst mit Taufe Luana und Medina Celik
DESCRIPTION:https://pfarreien-bistum-augsburg.df-preview.de/kindergottesdie
 nst-mit-taufe-luana-und-medina-celik_id1734803
DTSTART;TZID=Europe/Berlin:20260426T100000
DURATION:PT30M
LOCATION:Basilika minor St. Lorenz\, Hildegardpl.\, 87439 Kempten (Allgäu)
END:VEVENT
BEGIN:VEVENT
UID:sabre-vobject-a9fe51f8-7901-49b0-97de-9b5e49a1d16f
DTSTAMP:20260420T202540Z
SUMMARY:Pfarrgottesdienst
DESCRIPTION:https://pfarreien-bistum-augsburg.df-preview.de/pfarrgottesdien
 st_id1734804
DTSTART;TZID=Europe/Berlin:20260426T100000
DURATION:PT30M
LOCATION:Basilika minor St. Lorenz\, Hildegardpl.\, 87439 Kempten (Allgäu)
END:VEVENT
BEGIN:VEVENT
UID:sabre-vobject-b70dc8a7-ba8b-4fe2-a435-2e18f351b612
DTSTAMP:20260420T202540Z
SUMMARY:Jugendgottesdienst openSky mit Brunch
DESCRIPTION:https://pfarreien-bistum-augsburg.df-preview.de/jugendgottesdie
 nst-opensky-mit-brunch_id1734805
DTSTART;TZID=Europe/Berlin:20260426T103000
DURATION:PT30M
LOCATION:Basilika minor St. Lorenz\, Hildegardpl.\, 87439 Kempten (Allgäu)
END:VEVENT
BEGIN:VEVENT
UID:sabre-vobject-f0572311-c698-4505-9439-2d04c7889f59
DTSTAMP:20260420T202540Z
SUMMARY:Hl. Messe
DESCRIPTION:https://pfarreien-bistum-augsburg.df-preview.de/hl-messe_id1734
 806
DTSTART;TZID=Europe/Berlin:20260426T113000
DURATION:PT30M
LOCATION:Basilika minor St. Lorenz\, Hildegardpl.\, 87439 Kempten (Allgäu)
END:VEVENT
BEGIN:VEVENT
UID:sabre-vobject-0c827626-c076-4f34-9799-4105f1c0152a
DTSTAMP:20260420T202540Z
SUMMARY:Ökumenischer Jazz-Gottesdienst - Gesang\, Gittare u. Cornet
DESCRIPTION:https://pfarreien-bistum-augsburg.df-preview.de/oekumenischer-j
 azz-gottesdienst-gesang-gittare-u-cornet_id1734807
DTSTART;TZID=Europe/Berlin:20260426T190000
DURATION:PT30M
LOCATION:Basilika minor St. Lorenz\, Hildegardpl.\, 87439 Kempten (Allgäu)
END:VEVENT
END:VCALENDAR
