BEGIN:VCALENDAR
VERSION:2.0
PRODID:-//Sabre//Sabre VObject 4.5.8//EN
CALSCALE:GREGORIAN
NAME:Bistum Augsburg
X-WR-CALNAME:Bistum Augsburg
BEGIN:VEVENT
UID:sabre-vobject-0fdc450c-c7d4-4216-846f-aab09bbd62d7
DTSTAMP:20260423T005947Z
SUMMARY:15.00- 18.00 Ewige Anbetung in Osterzhausen
DESCRIPTION:https://pfarreien-bistum-augsburg.df-preview.de/15-00-18-00-ewi
 ge-anbetung-in-osterzhausen_id1727084
DTSTART;TZID=Europe/Berlin:20260426T000000
DURATION:PT30M
LOCATION:St. Michael
END:VEVENT
BEGIN:VEVENT
UID:sabre-vobject-5c24f79c-38d1-4aa4-aaa3-301b397e103a
DTSTAMP:20260423T005948Z
SUMMARY:Taufe von Valentin Kreidl
DESCRIPTION:https://pfarreien-bistum-augsburg.df-preview.de/taufe-von-valen
 tin-kreidl_id1727085
DTSTART;TZID=Europe/Berlin:20260426T111500
DURATION:PT30M
LOCATION:St. Michael
END:VEVENT
BEGIN:VEVENT
UID:sabre-vobject-89a64014-8335-465b-917a-c96b5e5f234c
DTSTAMP:20260423T005948Z
SUMMARY:Hl. Messe
DESCRIPTION:https://pfarreien-bistum-augsburg.df-preview.de/hl-messe_id1727
 125
DTSTART;TZID=Europe/Berlin:20260426T180000
DURATION:PT30M
LOCATION:St. Michael
END:VEVENT
BEGIN:VEVENT
UID:sabre-vobject-48fd5a07-372d-4d00-9aba-66ec9d2a343a
DTSTAMP:20260423T005948Z
SUMMARY:Rosenkranz und Beichtgelegenheit
DESCRIPTION:https://pfarreien-bistum-augsburg.df-preview.de/rosenkranz-und-
 beichtgelegenheit_id1727129
DTSTART;TZID=Europe/Berlin:20260429T183000
DURATION:PT30M
LOCATION:St. Michael
END:VEVENT
BEGIN:VEVENT
UID:sabre-vobject-52aabde8-3dfd-4311-9383-4521d3695d9b
DTSTAMP:20260423T005948Z
SUMMARY:Hl. Messe
DESCRIPTION:https://pfarreien-bistum-augsburg.df-preview.de/hl-messe_id1727
 130
DTSTART;TZID=Europe/Berlin:20260429T190000
DURATION:PT30M
LOCATION:St. Michael
END:VEVENT
BEGIN:VEVENT
UID:sabre-vobject-d3f34fc2-0b4c-47c8-9f07-ef15adc17ca4
DTSTAMP:20260423T005948Z
SUMMARY:1. feierliche Maiandacht
DESCRIPTION:https://pfarreien-bistum-augsburg.df-preview.de/1-feierliche-ma
 iandacht_id1727126
DTSTART;TZID=Europe/Berlin:20260501T190000
DURATION:PT30M
LOCATION:St. Michael
END:VEVENT
BEGIN:VEVENT
UID:sabre-vobject-90bc743e-e87d-48a5-873f-58512033e8f0
DTSTAMP:20260423T005948Z
SUMMARY:Maiandacht
DESCRIPTION:https://pfarreien-bistum-augsburg.df-preview.de/maiandacht_id17
 32157
DTSTART;TZID=Europe/Berlin:20260505T190000
DURATION:PT30M
LOCATION:St. Michael
END:VEVENT
BEGIN:VEVENT
UID:sabre-vobject-d006523a-a5b3-4fb9-9c8e-0ffd7d07b9fb
DTSTAMP:20260423T005948Z
SUMMARY:Rosenkranz
DESCRIPTION:https://pfarreien-bistum-augsburg.df-preview.de/rosenkranz_id17
 46253
DTSTART;TZID=Europe/Berlin:20260510T093000
DURATION:PT30M
LOCATION:St. Michael
END:VEVENT
BEGIN:VEVENT
UID:sabre-vobject-dcc583ab-fcba-4f8d-ac25-b6815cb7cd91
DTSTAMP:20260423T005948Z
SUMMARY:Hl. Messe
DESCRIPTION:https://pfarreien-bistum-augsburg.df-preview.de/hl-messe_id1746
 254
DTSTART;TZID=Europe/Berlin:20260510T100000
DURATION:PT30M
LOCATION:St. Michael
END:VEVENT
BEGIN:VEVENT
UID:sabre-vobject-d565ac36-c63b-4360-96ff-64195815b7af
DTSTAMP:20260423T005948Z
SUMMARY:Bittgang nach Immendorf  (Treffpunkt Wagesenberg - Bushaltestelle)
DESCRIPTION:https://pfarreien-bistum-augsburg.df-preview.de/bittgang-nach-i
 mmendorf-treffpunkt-wagesenberg-bushaltestelle_id1746255
DTSTART;TZID=Europe/Berlin:20260511T183000
DURATION:PT30M
LOCATION:St. Michael
END:VEVENT
BEGIN:VEVENT
UID:sabre-vobject-530c591d-9ef6-4a3d-ab12-18a15d453d41
DTSTAMP:20260423T005948Z
SUMMARY:Bittgang zum Kreuz
DESCRIPTION:https://pfarreien-bistum-augsburg.df-preview.de/bittgang-zum-kr
 euz_id1746257
DTSTART;TZID=Europe/Berlin:20260512T181500
DURATION:PT30M
LOCATION:St. Michael
END:VEVENT
BEGIN:VEVENT
UID:sabre-vobject-1e3e5493-30ec-46ec-ab9a-8ffb6444ef3d
DTSTAMP:20260423T005948Z
SUMMARY:Bittmesse
DESCRIPTION:https://pfarreien-bistum-augsburg.df-preview.de/bittmesse_id174
 6258
DTSTART;TZID=Europe/Berlin:20260512T190000
DURATION:PT30M
LOCATION:St. Michael
END:VEVENT
BEGIN:VEVENT
UID:sabre-vobject-3c7d5bf2-3907-49f0-bb9b-2ccdc346f447
DTSTAMP:20260423T005948Z
SUMMARY:Festgottesdienst\n(Kollekte für den Blumenschmuck)
DESCRIPTION:https://pfarreien-bistum-augsburg.df-preview.de/festgottesdiens
 t-kollekte-fuer-den-blumenschmuck_id1746259
DTSTART;TZID=Europe/Berlin:20260514T083000
DURATION:PT30M
LOCATION:St. Michael
END:VEVENT
END:VCALENDAR
