BEGIN:VCALENDAR
VERSION:2.0
PRODID:-//Sabre//Sabre VObject 4.5.8//EN
CALSCALE:GREGORIAN
NAME:Bistum Augsburg
X-WR-CALNAME:Bistum Augsburg
BEGIN:VEVENT
UID:sabre-vobject-afc83e54-dd35-4974-b0b9-e5a86ef95488
DTSTAMP:20260422T173440Z
SUMMARY:Heilige Messe
DESCRIPTION:https://pfarreien-bistum-augsburg.df-preview.de/heilige-messe_i
 d1747246
DTSTART;TZID=Europe/Berlin:20260423T080000
DURATION:PT30M
LOCATION:St. Theodor
END:VEVENT
BEGIN:VEVENT
UID:sabre-vobject-81ef3e24-16ad-47f7-95f1-f328231c2788
DTSTAMP:20260422T173440Z
SUMMARY:Rosenkranz um Priester- und Ordensberufe
DESCRIPTION:https://pfarreien-bistum-augsburg.df-preview.de/rosenkranz-um-p
 riester-und-ordensberufe_id1747247
DTSTART;TZID=Europe/Berlin:20260424T183000
DURATION:PT30M
LOCATION:St. Theodor
END:VEVENT
BEGIN:VEVENT
UID:sabre-vobject-d9b4b15f-6c42-4aed-8fee-fcce45546007
DTSTAMP:20260422T173440Z
SUMMARY:Feierliche Vesper
DESCRIPTION:https://pfarreien-bistum-augsburg.df-preview.de/feierliche-vesp
 er_id1747248
DTSTART;TZID=Europe/Berlin:20260424T190000
DURATION:PT30M
LOCATION:St. Theodor
END:VEVENT
BEGIN:VEVENT
UID:sabre-vobject-25778b4a-6913-4ebf-8d67-7f0370caaa1f
DTSTAMP:20260422T173440Z
SUMMARY:Feier der Erstkommunion (Gruppe 1)\, musikalisch gestaltet vom Chor
  ConCED
DESCRIPTION:https://pfarreien-bistum-augsburg.df-preview.de/feier-der-erstk
 ommunion-gruppe-1-musikalisch-gestaltet-vom-chor-conced_id1747249
DTSTART;TZID=Europe/Berlin:20260425T100000
DURATION:PT30M
LOCATION:St. Theodor
END:VEVENT
BEGIN:VEVENT
UID:sabre-vobject-b8614a61-16cc-46ea-a748-fd1845f6025e
DTSTAMP:20260422T173440Z
SUMMARY:Zeit für Gespräch und Beichte
DESCRIPTION:https://pfarreien-bistum-augsburg.df-preview.de/zeit-fuer-gespr
 aech-und-beichte_id1749530
DTSTART;TZID=Europe/Berlin:20260425T170000
DURATION:PT30M
LOCATION:St. Theodor
END:VEVENT
BEGIN:VEVENT
UID:sabre-vobject-a48889c1-625b-4852-8c78-802fa4492177
DTSTAMP:20260422T173440Z
SUMMARY:Feier der Erstkommunion (Gruppe 2)\, musikalisch gestaltet vom Chor
  ConCED
DESCRIPTION:https://pfarreien-bistum-augsburg.df-preview.de/feier-der-erstk
 ommunion-gruppe-2-musikalisch-gestaltet-vom-chor-conced_id1747250
DTSTART;TZID=Europe/Berlin:20260426T100000
DURATION:PT30M
LOCATION:St. Theodor
END:VEVENT
BEGIN:VEVENT
UID:sabre-vobject-08be9f31-6ed2-40ad-8e93-8f3a45c9b1bd
DTSTAMP:20260422T173440Z
SUMMARY:Abendgebet mit Taizéliedern
DESCRIPTION:https://pfarreien-bistum-augsburg.df-preview.de/abendgebet-mit-
 taizeliedern_id1747251
DTSTART;TZID=Europe/Berlin:20260426T190000
DURATION:PT30M
LOCATION:St. Theodor
END:VEVENT
BEGIN:VEVENT
UID:sabre-vobject-9be1d33c-270a-43c7-bea5-446c86c17a47
DTSTAMP:20260422T173440Z
SUMMARY:Ausflug der Erstkommunionkinder nach Kaufbeuren
DESCRIPTION:https://pfarreien-bistum-augsburg.df-preview.de/ausflug-der-ers
 tkommunionkinder-nach-kaufbeuren_id1747548
DTSTART;TZID=Europe/Berlin:20260427T111500
DURATION:PT30M
LOCATION:St. Theodor
END:VEVENT
BEGIN:VEVENT
UID:sabre-vobject-c0d384f9-5ba8-4bc3-9c6e-0e7112745171
DTSTAMP:20260422T173440Z
SUMMARY:Heilige Messe
DESCRIPTION:https://pfarreien-bistum-augsburg.df-preview.de/heilige-messe_i
 d1747252
DTSTART;TZID=Europe/Berlin:20260428T190000
DURATION:PT30M
LOCATION:St. Theodor
END:VEVENT
BEGIN:VEVENT
UID:sabre-vobject-6d2d4629-014d-4ec7-a285-5842c84dc019
DTSTAMP:20260422T173440Z
SUMMARY:Pfarrgemeinderatssitzung
DESCRIPTION:https://pfarreien-bistum-augsburg.df-preview.de/pfarrgemeindera
 tssitzung_id1747253
DTSTART;TZID=Europe/Berlin:20260428T200000
DURATION:PT30M
LOCATION:St. Theodor
END:VEVENT
BEGIN:VEVENT
UID:sabre-vobject-e15fee4b-505f-4efb-bad5-ef0ccf2d619c
DTSTAMP:20260422T173440Z
SUMMARY:Heilige Messe
DESCRIPTION:https://pfarreien-bistum-augsburg.df-preview.de/heilige-messe_i
 d1747531
DTSTART;TZID=Europe/Berlin:20260430T080000
DURATION:PT30M
LOCATION:St. Theodor
END:VEVENT
BEGIN:VEVENT
UID:sabre-vobject-cf10f636-60a4-4a4c-8dcb-b8d80743980c
DTSTAMP:20260422T173440Z
SUMMARY:Rosenkranz
DESCRIPTION:https://pfarreien-bistum-augsburg.df-preview.de/rosenkranz_id17
 49630
DTSTART;TZID=Europe/Berlin:20260501T083000
DURATION:PT30M
LOCATION:St. Theodor
END:VEVENT
BEGIN:VEVENT
UID:sabre-vobject-bdde19c2-02fb-4171-b277-d92a3e4de903
DTSTAMP:20260422T173440Z
SUMMARY:Pfarrgottesdienst\, anschl. Möglichkeit zum Einzelsegen
DESCRIPTION:https://pfarreien-bistum-augsburg.df-preview.de/pfarrgottesdien
 st-anschl-moeglichkeit-zum-einzelsegen_id1749631
DTSTART;TZID=Europe/Berlin:20260501T090000
DURATION:PT30M
LOCATION:St. Theodor
END:VEVENT
BEGIN:VEVENT
UID:sabre-vobject-62165394-7a89-4bf1-8b98-d4151cde8391
DTSTAMP:20260422T173440Z
SUMMARY:Maiwanderung der Kolpingsfamilie oder Fahrt zur Einkehr ab dem Pfar
 rheim
DESCRIPTION:https://pfarreien-bistum-augsburg.df-preview.de/maiwanderung-de
 r-kolpingsfamilie-oder-fahrt-zur-einkehr-ab-dem-pfarrheim_id1749531
DTSTART;TZID=Europe/Berlin:20260501T100000
DURATION:PT30M
LOCATION:St. Theodor
END:VEVENT
BEGIN:VEVENT
UID:sabre-vobject-e8720b82-7def-45e4-b258-7186bc407d93
DTSTAMP:20260422T173440Z
SUMMARY:Zeit für Gespräch und Beichte
DESCRIPTION:https://pfarreien-bistum-augsburg.df-preview.de/zeit-fuer-gespr
 aech-und-beichte_id1749532
DTSTART;TZID=Europe/Berlin:20260502T170000
DURATION:PT30M
LOCATION:St. Theodor
END:VEVENT
BEGIN:VEVENT
UID:sabre-vobject-655ef80a-ef70-4ae7-820a-9845d3792905
DTSTAMP:20260422T173440Z
SUMMARY:Rosenkranz
DESCRIPTION:https://pfarreien-bistum-augsburg.df-preview.de/rosenkranz_id17
 49533
DTSTART;TZID=Europe/Berlin:20260502T180000
DURATION:PT30M
LOCATION:St. Theodor
END:VEVENT
BEGIN:VEVENT
UID:sabre-vobject-3ce166ff-5e29-4448-95af-57d87b26b557
DTSTAMP:20260422T173440Z
SUMMARY:Vorabendmesse
DESCRIPTION:https://pfarreien-bistum-augsburg.df-preview.de/vorabendmesse_i
 d1749534
DTSTART;TZID=Europe/Berlin:20260502T183000
DURATION:PT30M
LOCATION:St. Theodor
END:VEVENT
BEGIN:VEVENT
UID:sabre-vobject-ce74ec0b-e412-49ae-bcc5-ecfecb9237c2
DTSTAMP:20260422T173440Z
SUMMARY:Rosenkranz
DESCRIPTION:https://pfarreien-bistum-augsburg.df-preview.de/rosenkranz_id17
 49535
DTSTART;TZID=Europe/Berlin:20260503T100000
DURATION:PT30M
LOCATION:St. Theodor
END:VEVENT
BEGIN:VEVENT
UID:sabre-vobject-3580ec18-6571-479b-9895-8e226af6ccfe
DTSTAMP:20260422T173440Z
SUMMARY:Heilige Messe
DESCRIPTION:https://pfarreien-bistum-augsburg.df-preview.de/heilige-messe_i
 d1749551
DTSTART;TZID=Europe/Berlin:20260503T103000
DURATION:PT30M
LOCATION:St. Theodor
END:VEVENT
BEGIN:VEVENT
UID:sabre-vobject-366db43b-96d9-47ab-aa36-24aa4d71e9ed
DTSTAMP:20260422T173440Z
SUMMARY:Heilige Messe
DESCRIPTION:https://pfarreien-bistum-augsburg.df-preview.de/heilige-messe_i
 d1749502
DTSTART;TZID=Europe/Berlin:20260505T190000
DURATION:PT30M
LOCATION:St. Theodor
END:VEVENT
BEGIN:VEVENT
UID:sabre-vobject-1980b4fe-e8b6-4122-a1f5-a60353d4364d
DTSTAMP:20260422T173440Z
SUMMARY:Halbtagesausflug der Senioren zu den Franziskanerinnen von Sießen 
 Kloster Bad Saulgau mit Kirchenführung und Einkehr im Café Klosterhof. B
 itte Anmeldung bei der Fa. Arnold unter 08374-5830-0
DESCRIPTION:https://pfarreien-bistum-augsburg.df-preview.de/halbtagesausflu
 g-der-senioren-zu-den-franziskanerinnen-von-siessen-kloster-bad-saulgau-mi
 t-kirchenfuehrung-und-einkehr-im-cafe-klosterhof-bitte-anmeldung-bei-der-f
 a-arnold-unter-08374-5830-0_id1749503
DTSTART;TZID=Europe/Berlin:20260507T000000
DURATION:PT30M
LOCATION:St. Theodor
END:VEVENT
BEGIN:VEVENT
UID:sabre-vobject-2117aa1f-e8de-4fe5-8700-e6c423a88ac9
DTSTAMP:20260422T173440Z
SUMMARY:Rosenkranz um Priester- und Ordensberufe
DESCRIPTION:https://pfarreien-bistum-augsburg.df-preview.de/rosenkranz-um-p
 riester-und-ordensberufe_id1749505
DTSTART;TZID=Europe/Berlin:20260508T183000
DURATION:PT30M
LOCATION:St. Theodor
END:VEVENT
BEGIN:VEVENT
UID:sabre-vobject-3ba4c0ea-e603-44e2-9412-4b7fc60c8aca
DTSTAMP:20260422T173440Z
SUMMARY:Heilige Messe
DESCRIPTION:https://pfarreien-bistum-augsburg.df-preview.de/heilige-messe_i
 d1749506
DTSTART;TZID=Europe/Berlin:20260508T190000
DURATION:PT30M
LOCATION:St. Theodor
END:VEVENT
BEGIN:VEVENT
UID:sabre-vobject-cecb000a-a13e-4c94-98f0-8b9ddc337811
DTSTAMP:20260422T173440Z
SUMMARY:Rosenkranz
DESCRIPTION:https://pfarreien-bistum-augsburg.df-preview.de/rosenkranz_id17
 49507
DTSTART;TZID=Europe/Berlin:20260510T100000
DURATION:PT30M
LOCATION:St. Theodor
END:VEVENT
BEGIN:VEVENT
UID:sabre-vobject-0f88d7d1-0ebb-40be-90ad-1b78367f1eca
DTSTAMP:20260422T173440Z
SUMMARY:Heilige Messe\, mit Firmung
DESCRIPTION:https://pfarreien-bistum-augsburg.df-preview.de/heilige-messe-m
 it-firmung_id1749508
DTSTART;TZID=Europe/Berlin:20260510T103000
DURATION:PT30M
LOCATION:St. Theodor
END:VEVENT
BEGIN:VEVENT
UID:sabre-vobject-b5de0f55-e362-4ede-b764-4b900a6eabe9
DTSTAMP:20260422T173440Z
SUMMARY:Maiandacht
DESCRIPTION:https://pfarreien-bistum-augsburg.df-preview.de/maiandacht_id17
 49512
DTSTART;TZID=Europe/Berlin:20260510T190000
DURATION:PT30M
LOCATION:St. Theodor
END:VEVENT
BEGIN:VEVENT
UID:sabre-vobject-906120d3-3092-4e8e-8876-3241af57794d
DTSTAMP:20260422T173440Z
SUMMARY:Bittmesse
DESCRIPTION:https://pfarreien-bistum-augsburg.df-preview.de/bittmesse_id174
 9513
DTSTART;TZID=Europe/Berlin:20260512T190000
DURATION:PT30M
LOCATION:St. Theodor
END:VEVENT
BEGIN:VEVENT
UID:sabre-vobject-cdbe1369-f2d9-4d4b-94c8-ab998945cf61
DTSTAMP:20260422T173440Z
SUMMARY:Rosenkranz
DESCRIPTION:https://pfarreien-bistum-augsburg.df-preview.de/rosenkranz_id17
 49514
DTSTART;TZID=Europe/Berlin:20260514T083000
DURATION:PT30M
LOCATION:St. Theodor
END:VEVENT
BEGIN:VEVENT
UID:sabre-vobject-412e2b0e-e9da-445c-b44b-628e85410918
DTSTAMP:20260422T173440Z
SUMMARY:Festgottesdienst
DESCRIPTION:https://pfarreien-bistum-augsburg.df-preview.de/festgottesdiens
 t_id1749515
DTSTART;TZID=Europe/Berlin:20260514T090000
DURATION:PT30M
LOCATION:St. Theodor
END:VEVENT
BEGIN:VEVENT
UID:sabre-vobject-fe9f475d-c359-41fa-973e-85138f889b2f
DTSTAMP:20260422T173440Z
SUMMARY:Rosenkranz
DESCRIPTION:https://pfarreien-bistum-augsburg.df-preview.de/rosenkranz_id17
 49504
DTSTART;TZID=Europe/Berlin:20260515T183000
DURATION:PT30M
LOCATION:St. Theodor
END:VEVENT
BEGIN:VEVENT
UID:sabre-vobject-ba535652-a524-46f1-9046-25aa410782dc
DTSTAMP:20260422T173440Z
SUMMARY:Feierliche Vesper
DESCRIPTION:https://pfarreien-bistum-augsburg.df-preview.de/feierliche-vesp
 er_id1749478
DTSTART;TZID=Europe/Berlin:20260515T190000
DURATION:PT30M
LOCATION:St. Theodor
END:VEVENT
BEGIN:VEVENT
UID:sabre-vobject-26b3523c-5ac3-41a5-a90e-3ddb6c847904
DTSTAMP:20260422T173440Z
SUMMARY:Pfarrausflug nach Dillingen von der PG Haldenwang-Lauben
DESCRIPTION:https://pfarreien-bistum-augsburg.df-preview.de/pfarrausflug-na
 ch-dillingen-von-der-pg-haldenwang-lauben_id1749479
DTSTART;TZID=Europe/Berlin:20260516T000000
DURATION:PT30M
LOCATION:St. Theodor
END:VEVENT
BEGIN:VEVENT
UID:sabre-vobject-5f720523-2a34-4268-b320-62ac27f93ef0
DTSTAMP:20260422T173440Z
SUMMARY:Rosenkranz
DESCRIPTION:https://pfarreien-bistum-augsburg.df-preview.de/rosenkranz_id17
 49480
DTSTART;TZID=Europe/Berlin:20260516T180000
DURATION:PT30M
LOCATION:St. Theodor
END:VEVENT
BEGIN:VEVENT
UID:sabre-vobject-4e450f3a-2eee-4852-bd28-04f7ede3b2c8
DTSTAMP:20260422T173440Z
SUMMARY:Vorabendmesse
DESCRIPTION:https://pfarreien-bistum-augsburg.df-preview.de/vorabendmesse_i
 d1749481
DTSTART;TZID=Europe/Berlin:20260516T183000
DURATION:PT30M
LOCATION:St. Theodor
END:VEVENT
BEGIN:VEVENT
UID:sabre-vobject-65ee47b7-c25b-443d-949b-2a6e6f7265c0
DTSTAMP:20260422T173440Z
SUMMARY:Rosenkranz
DESCRIPTION:https://pfarreien-bistum-augsburg.df-preview.de/rosenkranz_id17
 49485
DTSTART;TZID=Europe/Berlin:20260517T100000
DURATION:PT30M
LOCATION:St. Theodor
END:VEVENT
BEGIN:VEVENT
UID:sabre-vobject-c932bf64-7d26-471d-9ad0-ecffad815e34
DTSTAMP:20260422T173440Z
SUMMARY:Heilige Messe
DESCRIPTION:https://pfarreien-bistum-augsburg.df-preview.de/heilige-messe_i
 d1749486
DTSTART;TZID=Europe/Berlin:20260517T103000
DURATION:PT30M
LOCATION:St. Theodor
END:VEVENT
BEGIN:VEVENT
UID:sabre-vobject-361139fa-16ca-4a4b-a3cb-306592533337
DTSTAMP:20260422T173440Z
SUMMARY:Maiandacht\, gestaltet vom KDFB
DESCRIPTION:https://pfarreien-bistum-augsburg.df-preview.de/maiandacht-gest
 altet-vom-kdfb_id1749487
DTSTART;TZID=Europe/Berlin:20260519T190000
DURATION:PT30M
LOCATION:St. Theodor
END:VEVENT
BEGIN:VEVENT
UID:sabre-vobject-f6f74e47-57ab-4cd9-8027-680c1bcf7916
DTSTAMP:20260422T173440Z
SUMMARY:Heilige Messe
DESCRIPTION:https://pfarreien-bistum-augsburg.df-preview.de/heilige-messe_i
 d1749488
DTSTART;TZID=Europe/Berlin:20260521T080000
DURATION:PT30M
LOCATION:St. Theodor
END:VEVENT
BEGIN:VEVENT
UID:sabre-vobject-4edb8157-94e7-4345-90c7-73a8c0f0a4f6
DTSTAMP:20260422T173440Z
SUMMARY:Maiandacht\, gestaltet vom Kolping und dem Männerchor Börwang-Leu
 bas
DESCRIPTION:https://pfarreien-bistum-augsburg.df-preview.de/maiandacht-gest
 altet-vom-kolping-und-dem-maennerchor-boerwang-leubas_id1749489
DTSTART;TZID=Europe/Berlin:20260522T190000
DURATION:PT30M
LOCATION:St. Theodor
END:VEVENT
BEGIN:VEVENT
UID:sabre-vobject-835ff1dd-f2ff-4f81-9977-0198886b6077
DTSTAMP:20260422T173440Z
SUMMARY:Zeit für Gespräch und Beichte
DESCRIPTION:https://pfarreien-bistum-augsburg.df-preview.de/zeit-fuer-gespr
 aech-und-beichte_id1749490
DTSTART;TZID=Europe/Berlin:20260523T170000
DURATION:PT30M
LOCATION:St. Theodor
END:VEVENT
BEGIN:VEVENT
UID:sabre-vobject-151b6486-7660-4ec0-952b-9b19ec5212cc
DTSTAMP:20260422T173440Z
SUMMARY:Rosenkranz
DESCRIPTION:https://pfarreien-bistum-augsburg.df-preview.de/rosenkranz_id17
 49491
DTSTART;TZID=Europe/Berlin:20260524T083000
DURATION:PT30M
LOCATION:St. Theodor
END:VEVENT
BEGIN:VEVENT
UID:sabre-vobject-ec06f6d3-764e-432f-9887-fd13a6ebb7c9
DTSTAMP:20260422T173440Z
SUMMARY:Festgottesdienst
DESCRIPTION:https://pfarreien-bistum-augsburg.df-preview.de/festgottesdiens
 t_id1749492
DTSTART;TZID=Europe/Berlin:20260524T090000
DURATION:PT30M
LOCATION:St. Theodor
END:VEVENT
BEGIN:VEVENT
UID:sabre-vobject-9cbbedaa-3404-4e83-a033-bab06f99fde9
DTSTAMP:20260422T173440Z
SUMMARY:Abendgebet mit Taizéliedern
DESCRIPTION:https://pfarreien-bistum-augsburg.df-preview.de/abendgebet-mit-
 taizeliedern_id1749493
DTSTART;TZID=Europe/Berlin:20260524T190000
DURATION:PT30M
LOCATION:St. Theodor
END:VEVENT
BEGIN:VEVENT
UID:sabre-vobject-05c9dd56-cec7-4005-a1b9-2ee2aabe2c5b
DTSTAMP:20260422T173440Z
SUMMARY:Rosenkranz
DESCRIPTION:https://pfarreien-bistum-augsburg.df-preview.de/rosenkranz_id17
 49494
DTSTART;TZID=Europe/Berlin:20260525T100000
DURATION:PT30M
LOCATION:St. Theodor
END:VEVENT
BEGIN:VEVENT
UID:sabre-vobject-03079b76-0774-473e-90eb-07cace36b446
DTSTAMP:20260422T173440Z
SUMMARY:Festgottesdienst
DESCRIPTION:https://pfarreien-bistum-augsburg.df-preview.de/festgottesdiens
 t_id1749495
DTSTART;TZID=Europe/Berlin:20260525T103000
DURATION:PT30M
LOCATION:St. Theodor
END:VEVENT
BEGIN:VEVENT
UID:sabre-vobject-310c1ba0-99a2-4d70-a049-c9e996eb6b8a
DTSTAMP:20260422T173440Z
SUMMARY:Maiandacht
DESCRIPTION:https://pfarreien-bistum-augsburg.df-preview.de/maiandacht_id17
 49496
DTSTART;TZID=Europe/Berlin:20260525T190000
DURATION:PT30M
LOCATION:St. Theodor
END:VEVENT
BEGIN:VEVENT
UID:sabre-vobject-25d2e306-7f02-4950-a643-de040ae1cee8
DTSTAMP:20260422T173440Z
SUMMARY:Heilige Messe
DESCRIPTION:https://pfarreien-bistum-augsburg.df-preview.de/heilige-messe_i
 d1749497
DTSTART;TZID=Europe/Berlin:20260526T190000
DURATION:PT30M
LOCATION:St. Theodor
END:VEVENT
BEGIN:VEVENT
UID:sabre-vobject-5eb0cc2a-a69b-4c3a-95fc-7ddd1ff4d40d
DTSTAMP:20260422T173440Z
SUMMARY:Heilige Messe
DESCRIPTION:https://pfarreien-bistum-augsburg.df-preview.de/heilige-messe_i
 d1749498
DTSTART;TZID=Europe/Berlin:20260528T080000
DURATION:PT30M
LOCATION:St. Theodor
END:VEVENT
BEGIN:VEVENT
UID:sabre-vobject-4a2d03ab-94a6-406c-8cd2-38bcc2d8873f
DTSTAMP:20260422T173440Z
SUMMARY:Rosenkranz um Priester- und Ordensberufe
DESCRIPTION:https://pfarreien-bistum-augsburg.df-preview.de/rosenkranz-um-p
 riester-und-ordensberufe_id1749500
DTSTART;TZID=Europe/Berlin:20260529T183000
DURATION:PT30M
LOCATION:St. Theodor
END:VEVENT
BEGIN:VEVENT
UID:sabre-vobject-15be7be8-dfcd-4e9f-954e-155575b5a04b
DTSTAMP:20260422T173440Z
SUMMARY:Feierliche Vesper
DESCRIPTION:https://pfarreien-bistum-augsburg.df-preview.de/feierliche-vesp
 er_id1749501
DTSTART;TZID=Europe/Berlin:20260529T190000
DURATION:PT30M
LOCATION:St. Theodor
END:VEVENT
BEGIN:VEVENT
UID:sabre-vobject-3f841870-56de-4846-bd9c-ff1c0120c0d6
DTSTAMP:20260422T173440Z
SUMMARY:Zeit für Gespräch und Beichte
DESCRIPTION:https://pfarreien-bistum-augsburg.df-preview.de/zeit-fuer-gespr
 aech-und-beichte_id1749484
DTSTART;TZID=Europe/Berlin:20260530T170000
DURATION:PT30M
LOCATION:St. Theodor
END:VEVENT
BEGIN:VEVENT
UID:sabre-vobject-411ef268-2230-4787-abb9-86ffdf9e26df
DTSTAMP:20260422T173440Z
SUMMARY:Rosenkranz
DESCRIPTION:https://pfarreien-bistum-augsburg.df-preview.de/rosenkranz_id17
 49509
DTSTART;TZID=Europe/Berlin:20260530T180000
DURATION:PT30M
LOCATION:St. Theodor
END:VEVENT
BEGIN:VEVENT
UID:sabre-vobject-da96aca4-7a9a-4336-bdea-44f939236abb
DTSTAMP:20260422T173440Z
SUMMARY:Vorabendmesse
DESCRIPTION:https://pfarreien-bistum-augsburg.df-preview.de/vorabendmesse_i
 d1749510
DTSTART;TZID=Europe/Berlin:20260530T183000
DURATION:PT30M
LOCATION:St. Theodor
END:VEVENT
BEGIN:VEVENT
UID:sabre-vobject-e2aeb3f2-cc18-4462-9312-cbd1e9344adb
DTSTAMP:20260422T173440Z
SUMMARY:Rosenkranz
DESCRIPTION:https://pfarreien-bistum-augsburg.df-preview.de/rosenkranz_id17
 49511
DTSTART;TZID=Europe/Berlin:20260531T083000
DURATION:PT30M
LOCATION:St. Theodor
END:VEVENT
BEGIN:VEVENT
UID:sabre-vobject-a6d96e75-5791-4e28-a79d-3511da20b816
DTSTAMP:20260422T173440Z
SUMMARY:Pfarrgottesdienst
DESCRIPTION:https://pfarreien-bistum-augsburg.df-preview.de/pfarrgottesdien
 st_id1749516
DTSTART;TZID=Europe/Berlin:20260531T090000
DURATION:PT30M
LOCATION:St. Theodor
END:VEVENT
END:VCALENDAR
