BEGIN:VCALENDAR
VERSION:2.0
PRODID:-//Sabre//Sabre VObject 4.5.8//EN
CALSCALE:GREGORIAN
NAME:Bistum Augsburg
X-WR-CALNAME:Bistum Augsburg
BEGIN:VEVENT
UID:sabre-vobject-906555e4-afec-4bbf-827d-5e2560914fc7
DTSTAMP:20260421T193117Z
SUMMARY:Hl. Messe
DESCRIPTION:https://pfarreien-bistum-augsburg.df-preview.de/hl-messe_id1741
 706
DTSTART;TZID=Europe/Berlin:20260423T080000
DURATION:PT30M
LOCATION:St. Laurentius
END:VEVENT
END:VCALENDAR
