BEGIN:VCALENDAR
VERSION:2.0
PRODID:-//Sabre//Sabre VObject 4.5.8//EN
CALSCALE:GREGORIAN
NAME:Bistum Augsburg
X-WR-CALNAME:Bistum Augsburg
BEGIN:VEVENT
UID:sabre-vobject-53d2af84-7e27-4c13-a2ca-23c6089c87d5
DTSTAMP:20260422T084444Z
SUMMARY:Rosenkranz
DESCRIPTION:https://pfarreien-bistum-augsburg.df-preview.de/rosenkranz_id17
 43348
DTSTART;TZID=Europe/Berlin:20260424T090000
DURATION:PT30M
LOCATION:St. Pankratius
END:VEVENT
BEGIN:VEVENT
UID:sabre-vobject-695eca77-e118-4484-80a9-afa081054da2
DTSTAMP:20260422T084444Z
SUMMARY:Reitenbuch: Abendmesse
DESCRIPTION:https://pfarreien-bistum-augsburg.df-preview.de/reitenbuch-aben
 dmesse_id1743355
DTSTART;TZID=Europe/Berlin:20260424T190000
DURATION:PT30M
LOCATION:St. Pankratius
END:VEVENT
BEGIN:VEVENT
UID:sabre-vobject-601bc76f-9e30-4f73-8bcf-fab9bc11fc0a
DTSTAMP:20260422T084444Z
SUMMARY:Feier der Erstkommunion
DESCRIPTION:https://pfarreien-bistum-augsburg.df-preview.de/feier-der-erstk
 ommunion_id1749572
DTSTART;TZID=Europe/Berlin:20260425T100000
DURATION:PT30M
LOCATION:St. Pankratius
END:VEVENT
BEGIN:VEVENT
UID:sabre-vobject-3e30a4ab-4c73-47ff-8226-35cfce67da04
DTSTAMP:20260422T084444Z
SUMMARY:Vorabendmesse  (Opfer für die eigene Kirche)
DESCRIPTION:https://pfarreien-bistum-augsburg.df-preview.de/vorabendmesse-o
 pfer-fuer-die-eigene-kirche_id1749573
DTSTART;TZID=Europe/Berlin:20260425T190000
DURATION:PT30M
LOCATION:St. Pankratius
END:VEVENT
BEGIN:VEVENT
UID:sabre-vobject-1209f14b-28cf-40c2-8578-fb1ed4d38f27
DTSTAMP:20260422T084444Z
SUMMARY:Abendmesse
DESCRIPTION:https://pfarreien-bistum-augsburg.df-preview.de/abendmesse_id17
 49574
DTSTART;TZID=Europe/Berlin:20260430T190000
DURATION:PT30M
LOCATION:St. Pankratius
END:VEVENT
BEGIN:VEVENT
UID:sabre-vobject-ad8bc265-ae81-401b-b30d-c736675e75c1
DTSTAMP:20260422T084444Z
SUMMARY:Reitenbuch: Kongregation
DESCRIPTION:https://pfarreien-bistum-augsburg.df-preview.de/reitenbuch-kong
 regation_id1747199
DTSTART;TZID=Europe/Berlin:20260503T120000
DURATION:PT30M
LOCATION:St. Pankratius
END:VEVENT
BEGIN:VEVENT
UID:sabre-vobject-744aff48-122f-4d62-8bc1-9f4db308c60a
DTSTAMP:20260422T084444Z
SUMMARY:feierliche Maiandacht
DESCRIPTION:https://pfarreien-bistum-augsburg.df-preview.de/feierliche-maia
 ndacht_id1747200
DTSTART;TZID=Europe/Berlin:20260503T190000
DURATION:PT30M
LOCATION:St. Pankratius
END:VEVENT
BEGIN:VEVENT
UID:sabre-vobject-974d45e6-a607-4e36-b606-d0500410602d
DTSTAMP:20260422T084444Z
SUMMARY:Rosenkranz
DESCRIPTION:https://pfarreien-bistum-augsburg.df-preview.de/rosenkranz_id17
 47201
DTSTART;TZID=Europe/Berlin:20260508T090000
DURATION:PT30M
LOCATION:St. Pankratius
END:VEVENT
BEGIN:VEVENT
UID:sabre-vobject-7ea38a31-04a4-4b7e-aa27-a67bc2c8b447
DTSTAMP:20260422T084444Z
SUMMARY:Taufe: Mia Sophie Scherer
DESCRIPTION:https://pfarreien-bistum-augsburg.df-preview.de/taufe-mia-sophi
 e-scherer_id1747202
DTSTART;TZID=Europe/Berlin:20260509T140000
DURATION:PT30M
LOCATION:St. Pankratius
END:VEVENT
BEGIN:VEVENT
UID:sabre-vobject-5cdbc267-c71c-4281-b922-dcc5b4dc8f70
DTSTAMP:20260422T084444Z
SUMMARY:Patrozinium St. Pankratius -  Familiengottesadienst   (Kollekte: Ka
 tholikentag Würzburg)
DESCRIPTION:https://pfarreien-bistum-augsburg.df-preview.de/patrozinium-st-
 pankratius-familiengottesadienst-kollekte-katholikentag-wuerzburg_id174721
 0
DTSTART;TZID=Europe/Berlin:20260510T100000
DURATION:PT30M
LOCATION:St. Pankratius
END:VEVENT
BEGIN:VEVENT
UID:sabre-vobject-b2fc497a-49a4-4fbe-94a6-ee96805e0416
DTSTAMP:20260422T084444Z
SUMMARY:Bittgang nach Heimberg um 08.00 Uhr von Reitenbuch und 08.30 Uhr vo
 n Aretsried dort um 09.00 Uhr Heilige Messe (Bei schlechter Witterung find
 et die Heilige Messe um 09.00 Uhr in St. Pankrati
DESCRIPTION:https://pfarreien-bistum-augsburg.df-preview.de/bittgang-nach-h
 eimberg-um-08-00-uhr-von-reitenbuch-und-08-30-uhr-von-aretsried-dort-um-09
 -00-uhr-heilige-messe-bei-schlechter-witterung-findet-die-heilige-messe-um
 -09-00-uhr-in-st-pankrati_id1747100
DTSTART;TZID=Europe/Berlin:20260514T080000
DURATION:PT30M
LOCATION:St. Pankratius
END:VEVENT
BEGIN:VEVENT
UID:sabre-vobject-1443818d-271f-4c78-95f5-d409263af341
DTSTAMP:20260422T084444Z
SUMMARY:Rosenkranz
DESCRIPTION:https://pfarreien-bistum-augsburg.df-preview.de/rosenkranz_id17
 47101
DTSTART;TZID=Europe/Berlin:20260515T090000
DURATION:PT30M
LOCATION:St. Pankratius
END:VEVENT
BEGIN:VEVENT
UID:sabre-vobject-084f89b1-247f-4156-80ce-b7e7ae469aca
DTSTAMP:20260422T084444Z
SUMMARY:Maiandacht
DESCRIPTION:https://pfarreien-bistum-augsburg.df-preview.de/maiandacht_id17
 47102
DTSTART;TZID=Europe/Berlin:20260517T190000
DURATION:PT30M
LOCATION:St. Pankratius
END:VEVENT
BEGIN:VEVENT
UID:sabre-vobject-e7d06ffe-b6c2-4040-89f9-0be000041b52
DTSTAMP:20260422T084444Z
SUMMARY:Rosenkranz
DESCRIPTION:https://pfarreien-bistum-augsburg.df-preview.de/rosenkranz_id17
 47103
DTSTART;TZID=Europe/Berlin:20260522T090000
DURATION:PT30M
LOCATION:St. Pankratius
END:VEVENT
BEGIN:VEVENT
UID:sabre-vobject-0847aefd-8b7f-4730-b85f-081fc70f9a53
DTSTAMP:20260422T084444Z
SUMMARY:Vorabendmesse  Messe (Renovabis Kolekte für Mittel- und Osteuropa)
DESCRIPTION:https://pfarreien-bistum-augsburg.df-preview.de/vorabendmesse-m
 esse-renovabis-kolekte-fuer-mittel-und-osteuropa_id1747104
DTSTART;TZID=Europe/Berlin:20260523T190000
DURATION:PT30M
LOCATION:St. Pankratius
END:VEVENT
BEGIN:VEVENT
UID:sabre-vobject-15f5d983-016c-49ff-94fd-25bd593208bc
DTSTAMP:20260422T084444Z
SUMMARY:Rosenkranz
DESCRIPTION:https://pfarreien-bistum-augsburg.df-preview.de/rosenkranz_id17
 47136
DTSTART;TZID=Europe/Berlin:20260529T090000
DURATION:PT30M
LOCATION:St. Pankratius
END:VEVENT
BEGIN:VEVENT
UID:sabre-vobject-cb61c702-da96-4213-aa35-5726983a2534
DTSTAMP:20260422T084444Z
SUMMARY:Maiandacht
DESCRIPTION:https://pfarreien-bistum-augsburg.df-preview.de/maiandacht_id17
 47137
DTSTART;TZID=Europe/Berlin:20260531T190000
DURATION:PT30M
LOCATION:St. Pankratius
END:VEVENT
BEGIN:VEVENT
UID:sabre-vobject-4286d57f-877d-43c0-bf7b-501223993131
DTSTAMP:20260422T084444Z
SUMMARY:Vorabendmesse anschließend Fronleichnamsprozession
DESCRIPTION:https://pfarreien-bistum-augsburg.df-preview.de/vorabendmesse-a
 nschliessend-fronleichnamsprozession_id1747138
DTSTART;TZID=Europe/Berlin:20260603T190000
DURATION:PT30M
LOCATION:St. Pankratius
END:VEVENT
BEGIN:VEVENT
UID:sabre-vobject-90440cf8-7fe2-4132-8923-2bac96c036fb
DTSTAMP:20260422T084444Z
SUMMARY:Rosenkranz
DESCRIPTION:https://pfarreien-bistum-augsburg.df-preview.de/rosenkranz_id17
 47139
DTSTART;TZID=Europe/Berlin:20260605T090000
DURATION:PT30M
LOCATION:St. Pankratius
END:VEVENT
END:VCALENDAR
