BEGIN:VCALENDAR
VERSION:2.0
PRODID:-//Sabre//Sabre VObject 4.5.8//EN
CALSCALE:GREGORIAN
NAME:Bistum Augsburg
X-WR-CALNAME:Bistum Augsburg
BEGIN:VEVENT
UID:sabre-vobject-c9aca2d8-c637-4082-b0ef-0db2a7162aea
DTSTAMP:20260422T041827Z
SUMMARY:Hl. Messe
DESCRIPTION:https://pfarreien-bistum-augsburg.df-preview.de/hl-messe_id1714
 609
DTSTART;TZID=Europe/Berlin:20260426T103000
DURATION:PT30M
LOCATION:St. Nikolaus
END:VEVENT
BEGIN:VEVENT
UID:sabre-vobject-d686e40f-c8fa-46c5-bbae-7154f319cdae
DTSTAMP:20260422T041827Z
SUMMARY:Rosenkranz
DESCRIPTION:https://pfarreien-bistum-augsburg.df-preview.de/rosenkranz_id17
 14611
DTSTART;TZID=Europe/Berlin:20260428T183000
DURATION:PT30M
LOCATION:St. Nikolaus
END:VEVENT
BEGIN:VEVENT
UID:sabre-vobject-42bfbb60-c6a7-412b-9bcf-5c39f689c0b1
DTSTAMP:20260422T041827Z
SUMMARY:Hl. Messe
DESCRIPTION:https://pfarreien-bistum-augsburg.df-preview.de/hl-messe_id1714
 612
DTSTART;TZID=Europe/Berlin:20260428T190000
DURATION:PT30M
LOCATION:St. Nikolaus
END:VEVENT
BEGIN:VEVENT
UID:sabre-vobject-5e4bfc1c-6dca-4f15-94c1-0253b16d2ee1
DTSTAMP:20260422T041827Z
SUMMARY:Hl. Messe m. Segnung d. Jubelpaares Franz u. Sofie Schneider\n
DESCRIPTION:https://pfarreien-bistum-augsburg.df-preview.de/hl-messe-m-segn
 ung-d-jubelpaares-franz-u-sofie-schneider_id1752654
DTSTART;TZID=Europe/Berlin:20260503T103000
DURATION:PT30M
LOCATION:St. Nikolaus
END:VEVENT
BEGIN:VEVENT
UID:sabre-vobject-436691c2-29d9-49b8-b257-3016afd90be5
DTSTAMP:20260422T041827Z
SUMMARY:Maiandacht\, musik. gest. v. Kirchenchor
DESCRIPTION:https://pfarreien-bistum-augsburg.df-preview.de/maiandacht-musi
 k-gest-v-kirchenchor_id1752655
DTSTART;TZID=Europe/Berlin:20260503T190000
DURATION:PT30M
LOCATION:St. Nikolaus
END:VEVENT
BEGIN:VEVENT
UID:sabre-vobject-9d12455f-9601-4e0b-866e-d85ac9102946
DTSTAMP:20260422T041827Z
SUMMARY:Rosenkranz u. Beichtgelegenheit
DESCRIPTION:https://pfarreien-bistum-augsburg.df-preview.de/rosenkranz-u-be
 ichtgelegenheit_id1752656
DTSTART;TZID=Europe/Berlin:20260505T183000
DURATION:PT30M
LOCATION:St. Nikolaus
END:VEVENT
BEGIN:VEVENT
UID:sabre-vobject-0e2ad9b1-f01a-46c5-9873-a962b2fa685a
DTSTAMP:20260422T041827Z
SUMMARY:Hl. Messe
DESCRIPTION:https://pfarreien-bistum-augsburg.df-preview.de/hl-messe_id1752
 657
DTSTART;TZID=Europe/Berlin:20260505T190000
DURATION:PT30M
LOCATION:St. Nikolaus
END:VEVENT
BEGIN:VEVENT
UID:sabre-vobject-81ee5923-4967-47ca-b9d5-9b712751e07c
DTSTAMP:20260422T041827Z
SUMMARY:Pfarrgemeinderatssitzung i. Pfarrstüble
DESCRIPTION:https://pfarreien-bistum-augsburg.df-preview.de/pfarrgemeindera
 tssitzung-i-pfarrstueble_id1752658
DTSTART;TZID=Europe/Berlin:20260507T190000
DURATION:PT30M
LOCATION:St. Nikolaus
END:VEVENT
BEGIN:VEVENT
UID:sabre-vobject-1e157807-e879-4759-b029-abfb16d808dd
DTSTAMP:20260422T041827Z
SUMMARY:Krankenkommunion
DESCRIPTION:https://pfarreien-bistum-augsburg.df-preview.de/krankenkommunio
 n_id1752659
DTSTART;TZID=Europe/Berlin:20260508T150000
DURATION:PT30M
LOCATION:St. Nikolaus
END:VEVENT
BEGIN:VEVENT
UID:sabre-vobject-9909ead9-392a-459e-b197-d0c1524747ed
DTSTAMP:20260422T041827Z
SUMMARY:Vorabendmesse (Kollekte f. d. Katholikentag)
DESCRIPTION:https://pfarreien-bistum-augsburg.df-preview.de/vorabendmesse-k
 ollekte-f-d-katholikentag_id1752602
DTSTART;TZID=Europe/Berlin:20260509T183000
DURATION:PT30M
LOCATION:St. Nikolaus
END:VEVENT
BEGIN:VEVENT
UID:sabre-vobject-d28b620b-09fa-45e8-a2f5-ed66db11d738
DTSTAMP:20260422T041827Z
SUMMARY:Abmarsch an der Kirche (bei Regen nur Bittmesse in Amberg)
DESCRIPTION:https://pfarreien-bistum-augsburg.df-preview.de/abmarsch-an-der
 -kirche-bei-regen-nur-bittmesse-in-amberg_id1752660
DTSTART;TZID=Europe/Berlin:20260511T053000
DURATION:PT30M
LOCATION:St. Nikolaus
END:VEVENT
BEGIN:VEVENT
UID:sabre-vobject-2e7bd5ee-447e-4e78-828f-28ab78106005
DTSTAMP:20260422T041827Z
SUMMARY:Abmarsch an der Pfarrkirche zum Bittgang zur Zollhauskapelle
DESCRIPTION:https://pfarreien-bistum-augsburg.df-preview.de/abmarsch-an-der
 -pfarrkirche-zum-bittgang-zur-zollhauskapelle_id1752744
DTSTART;TZID=Europe/Berlin:20260512T181500
DURATION:PT30M
LOCATION:St. Nikolaus
END:VEVENT
BEGIN:VEVENT
UID:sabre-vobject-b6f3e921-4fd7-4d68-ac58-e285e37b1e0c
DTSTAMP:20260422T041827Z
SUMMARY:Fatima-Rosenkranz
DESCRIPTION:https://pfarreien-bistum-augsburg.df-preview.de/fatima-rosenkra
 nz_id1752745
DTSTART;TZID=Europe/Berlin:20260513T190000
DURATION:PT30M
LOCATION:St. Nikolaus
END:VEVENT
BEGIN:VEVENT
UID:sabre-vobject-85b08d93-c385-4cb7-b174-e96347983046
DTSTAMP:20260422T041827Z
SUMMARY:Festmesse
DESCRIPTION:https://pfarreien-bistum-augsburg.df-preview.de/festmesse_id175
 2746
DTSTART;TZID=Europe/Berlin:20260514T090000
DURATION:PT30M
LOCATION:St. Nikolaus
END:VEVENT
BEGIN:VEVENT
UID:sabre-vobject-5a494d7e-deab-492c-ac0a-93c0c368cb5f
DTSTAMP:20260422T041827Z
SUMMARY:Maiandacht
DESCRIPTION:https://pfarreien-bistum-augsburg.df-preview.de/maiandacht_id17
 52747
DTSTART;TZID=Europe/Berlin:20260514T190000
DURATION:PT30M
LOCATION:St. Nikolaus
END:VEVENT
BEGIN:VEVENT
UID:sabre-vobject-f3e10cbf-3ac4-4458-8d27-eca64a36afaf
DTSTAMP:20260422T041827Z
SUMMARY:Hl. Messe
DESCRIPTION:https://pfarreien-bistum-augsburg.df-preview.de/hl-messe_id1752
 804
DTSTART;TZID=Europe/Berlin:20260517T090000
DURATION:PT30M
LOCATION:St. Nikolaus
END:VEVENT
BEGIN:VEVENT
UID:sabre-vobject-0cc47a35-7a35-4207-8d83-ced7920b1491
DTSTAMP:20260422T041827Z
SUMMARY:Rosenkranz
DESCRIPTION:https://pfarreien-bistum-augsburg.df-preview.de/rosenkranz_id17
 52805
DTSTART;TZID=Europe/Berlin:20260519T183000
DURATION:PT30M
LOCATION:St. Nikolaus
END:VEVENT
BEGIN:VEVENT
UID:sabre-vobject-e3e4f7ae-0d04-4f2c-9da5-b09e2acadb5a
DTSTAMP:20260422T041827Z
SUMMARY:Votivmesse f. d. Heilige Kirche
DESCRIPTION:https://pfarreien-bistum-augsburg.df-preview.de/votivmesse-f-d-
 heilige-kirche_id1752806
DTSTART;TZID=Europe/Berlin:20260519T190000
DURATION:PT30M
LOCATION:St. Nikolaus
END:VEVENT
BEGIN:VEVENT
UID:sabre-vobject-697787ff-4372-467a-ae6a-3ec4b88701ca
DTSTAMP:20260422T041827Z
SUMMARY:Festmesse
DESCRIPTION:https://pfarreien-bistum-augsburg.df-preview.de/festmesse_id175
 1919
DTSTART;TZID=Europe/Berlin:20260524T103000
DURATION:PT30M
LOCATION:St. Nikolaus
END:VEVENT
BEGIN:VEVENT
UID:sabre-vobject-55ab538f-7dc7-4419-851f-7a3677975053
DTSTAMP:20260422T041827Z
SUMMARY:Maiandacht
DESCRIPTION:https://pfarreien-bistum-augsburg.df-preview.de/maiandacht_id17
 52807
DTSTART;TZID=Europe/Berlin:20260525T190000
DURATION:PT30M
LOCATION:St. Nikolaus
END:VEVENT
BEGIN:VEVENT
UID:sabre-vobject-6e5116a8-eda3-405a-b7a2-6967b0cd2320
DTSTAMP:20260422T041827Z
SUMMARY:Vorabendmesse
DESCRIPTION:https://pfarreien-bistum-augsburg.df-preview.de/vorabendmesse_i
 d1752808
DTSTART;TZID=Europe/Berlin:20260530T183000
DURATION:PT30M
LOCATION:St. Nikolaus
END:VEVENT
BEGIN:VEVENT
UID:sabre-vobject-eb78c4ae-c76a-40cb-ba52-c52721fce230
DTSTAMP:20260422T041827Z
SUMMARY:Maiandacht
DESCRIPTION:https://pfarreien-bistum-augsburg.df-preview.de/maiandacht_id17
 52809
DTSTART;TZID=Europe/Berlin:20260531T190000
DURATION:PT30M
LOCATION:St. Nikolaus
END:VEVENT
END:VCALENDAR
